BEGIN:VCALENDAR
VERSION:2.0
PRODID:-//Leduc Beaumont Devon PCN - ECPv6.15.20//NONSGML v1.0//EN
CALSCALE:GREGORIAN
METHOD:PUBLISH
X-ORIGINAL-URL:https://lbdpcn.com
X-WR-CALDESC:Events for Leduc Beaumont Devon PCN
REFRESH-INTERVAL;VALUE=DURATION:PT1H
X-Robots-Tag:noindex
X-PUBLISHED-TTL:PT1H
BEGIN:VTIMEZONE
TZID:America/Edmonton
BEGIN:DAYLIGHT
TZOFFSETFROM:-0700
TZOFFSETTO:-0600
TZNAME:MDT
DTSTART:20250309T090000
END:DAYLIGHT
BEGIN:STANDARD
TZOFFSETFROM:-0600
TZOFFSETTO:-0700
TZNAME:MST
DTSTART:20251102T080000
END:STANDARD
BEGIN:DAYLIGHT
TZOFFSETFROM:-0700
TZOFFSETTO:-0600
TZNAME:MDT
DTSTART:20260308T090000
END:DAYLIGHT
BEGIN:STANDARD
TZOFFSETFROM:-0600
TZOFFSETTO:-0700
TZNAME:MST
DTSTART:20261101T080000
END:STANDARD
BEGIN:DAYLIGHT
TZOFFSETFROM:-0700
TZOFFSETTO:-0600
TZNAME:MDT
DTSTART:20270314T090000
END:DAYLIGHT
BEGIN:STANDARD
TZOFFSETFROM:-0600
TZOFFSETTO:-0700
TZNAME:MST
DTSTART:20271107T080000
END:STANDARD
END:VTIMEZONE
BEGIN:VEVENT
DTSTART;TZID=America/Edmonton:20261005T133000
DTEND;TZID=America/Edmonton:20261005T140000
DTSTAMP:20260425T174353
CREATED:20250723T163402Z
LAST-MODIFIED:20250723T163402Z
UID:10004357-1791207000-1791208800@lbdpcn.com
SUMMARY:Virtual Drop-In Exercise Class
DESCRIPTION:Led by the Sherwood Park PCN Exercise Specialist\, this virtual exercise class focuses on guiding you through low-impact stretches and exercises. \nClasses every Monday and Thursday.
URL:https://lbdpcn.com/events/virtual-drop-in-exercise-class/2026-10-05/
LOCATION:Virtual\, Alberta\, Canada
CATEGORIES:Basic Health Care,Exercise,Health Self Management
GEO:53.9332706;-116.5765035
END:VEVENT
BEGIN:VEVENT
DTSTART;TZID=America/Edmonton:20261007T100000
DTEND;TZID=America/Edmonton:20261007T110000
DTSTAMP:20260425T174353
CREATED:20250623T221348Z
LAST-MODIFIED:20250623T221919Z
UID:10003838-1791367200-1791370800@lbdpcn.com
SUMMARY:Movers & Groovers
DESCRIPTION:Online follow-along exercise program for adults. Includes strength exercises\, balance exercises\, and stretches. \nJoin Brad\, PCN Exercise Specialist with the Wolf Creek PCN\, as he leads you through safe and appropriate exercises for a wide range of fitness levels each day.\nMovers & Groovers is a year-round drop-in class. You can attend as many times as you like. In fact\, we encourage you to attend often! \nFor more information\, visit the website at wolfcreekpcn.com/programs-and-classes/movers-and-groovers. \nJoin the class at the time of the event through the link.
URL:https://lbdpcn.com/events/movers-groovers/2026-10-07/
LOCATION:Virtual\, Alberta\, Canada
CATEGORIES:Exercise
GEO:53.9332706;-116.5765035
END:VEVENT
BEGIN:VEVENT
DTSTART;TZID=America/Edmonton:20261008T133000
DTEND;TZID=America/Edmonton:20261008T140000
DTSTAMP:20260425T174353
CREATED:20250723T163402Z
LAST-MODIFIED:20250723T163402Z
UID:10004358-1791466200-1791468000@lbdpcn.com
SUMMARY:Virtual Drop-In Exercise Class
DESCRIPTION:Led by the Sherwood Park PCN Exercise Specialist\, this virtual exercise class focuses on guiding you through low-impact stretches and exercises. \nClasses every Monday and Thursday.
URL:https://lbdpcn.com/events/virtual-drop-in-exercise-class/2026-10-08/
LOCATION:Virtual\, Alberta\, Canada
CATEGORIES:Basic Health Care,Exercise,Health Self Management
GEO:53.9332706;-116.5765035
END:VEVENT
BEGIN:VEVENT
DTSTART;TZID=America/Edmonton:20261012T100000
DTEND;TZID=America/Edmonton:20261012T110000
DTSTAMP:20260425T174353
CREATED:20250623T221348Z
LAST-MODIFIED:20250623T221919Z
UID:10003839-1791799200-1791802800@lbdpcn.com
SUMMARY:Movers & Groovers
DESCRIPTION:Online follow-along exercise program for adults. Includes strength exercises\, balance exercises\, and stretches. \nJoin Brad\, PCN Exercise Specialist with the Wolf Creek PCN\, as he leads you through safe and appropriate exercises for a wide range of fitness levels each day.\nMovers & Groovers is a year-round drop-in class. You can attend as many times as you like. In fact\, we encourage you to attend often! \nFor more information\, visit the website at wolfcreekpcn.com/programs-and-classes/movers-and-groovers. \nJoin the class at the time of the event through the link.
URL:https://lbdpcn.com/events/movers-groovers/2026-10-12/
LOCATION:Virtual\, Alberta\, Canada
CATEGORIES:Exercise
GEO:53.9332706;-116.5765035
END:VEVENT
BEGIN:VEVENT
DTSTART;TZID=America/Edmonton:20261012T133000
DTEND;TZID=America/Edmonton:20261012T140000
DTSTAMP:20260425T174353
CREATED:20250723T163402Z
LAST-MODIFIED:20250723T163402Z
UID:10004359-1791811800-1791813600@lbdpcn.com
SUMMARY:Virtual Drop-In Exercise Class
DESCRIPTION:Led by the Sherwood Park PCN Exercise Specialist\, this virtual exercise class focuses on guiding you through low-impact stretches and exercises. \nClasses every Monday and Thursday.
URL:https://lbdpcn.com/events/virtual-drop-in-exercise-class/2026-10-12/
LOCATION:Virtual\, Alberta\, Canada
CATEGORIES:Basic Health Care,Exercise,Health Self Management
GEO:53.9332706;-116.5765035
END:VEVENT
BEGIN:VEVENT
DTSTART;TZID=America/Edmonton:20261014T100000
DTEND;TZID=America/Edmonton:20261014T110000
DTSTAMP:20260425T174353
CREATED:20250623T221348Z
LAST-MODIFIED:20250623T221919Z
UID:10003840-1791972000-1791975600@lbdpcn.com
SUMMARY:Movers & Groovers
DESCRIPTION:Online follow-along exercise program for adults. Includes strength exercises\, balance exercises\, and stretches. \nJoin Brad\, PCN Exercise Specialist with the Wolf Creek PCN\, as he leads you through safe and appropriate exercises for a wide range of fitness levels each day.\nMovers & Groovers is a year-round drop-in class. You can attend as many times as you like. In fact\, we encourage you to attend often! \nFor more information\, visit the website at wolfcreekpcn.com/programs-and-classes/movers-and-groovers. \nJoin the class at the time of the event through the link.
URL:https://lbdpcn.com/events/movers-groovers/2026-10-14/
LOCATION:Virtual\, Alberta\, Canada
CATEGORIES:Exercise
GEO:53.9332706;-116.5765035
END:VEVENT
BEGIN:VEVENT
DTSTART;TZID=America/Edmonton:20261015T133000
DTEND;TZID=America/Edmonton:20261015T140000
DTSTAMP:20260425T174353
CREATED:20250723T163402Z
LAST-MODIFIED:20250723T163402Z
UID:10004360-1792071000-1792072800@lbdpcn.com
SUMMARY:Virtual Drop-In Exercise Class
DESCRIPTION:Led by the Sherwood Park PCN Exercise Specialist\, this virtual exercise class focuses on guiding you through low-impact stretches and exercises. \nClasses every Monday and Thursday.
URL:https://lbdpcn.com/events/virtual-drop-in-exercise-class/2026-10-15/
LOCATION:Virtual\, Alberta\, Canada
CATEGORIES:Basic Health Care,Exercise,Health Self Management
GEO:53.9332706;-116.5765035
END:VEVENT
BEGIN:VEVENT
DTSTART;TZID=America/Edmonton:20261019T100000
DTEND;TZID=America/Edmonton:20261019T110000
DTSTAMP:20260425T174353
CREATED:20250623T221348Z
LAST-MODIFIED:20250623T221919Z
UID:10003841-1792404000-1792407600@lbdpcn.com
SUMMARY:Movers & Groovers
DESCRIPTION:Online follow-along exercise program for adults. Includes strength exercises\, balance exercises\, and stretches. \nJoin Brad\, PCN Exercise Specialist with the Wolf Creek PCN\, as he leads you through safe and appropriate exercises for a wide range of fitness levels each day.\nMovers & Groovers is a year-round drop-in class. You can attend as many times as you like. In fact\, we encourage you to attend often! \nFor more information\, visit the website at wolfcreekpcn.com/programs-and-classes/movers-and-groovers. \nJoin the class at the time of the event through the link.
URL:https://lbdpcn.com/events/movers-groovers/2026-10-19/
LOCATION:Virtual\, Alberta\, Canada
CATEGORIES:Exercise
GEO:53.9332706;-116.5765035
END:VEVENT
BEGIN:VEVENT
DTSTART;TZID=America/Edmonton:20261019T133000
DTEND;TZID=America/Edmonton:20261019T140000
DTSTAMP:20260425T174353
CREATED:20250723T163402Z
LAST-MODIFIED:20250723T163402Z
UID:10004361-1792416600-1792418400@lbdpcn.com
SUMMARY:Virtual Drop-In Exercise Class
DESCRIPTION:Led by the Sherwood Park PCN Exercise Specialist\, this virtual exercise class focuses on guiding you through low-impact stretches and exercises. \nClasses every Monday and Thursday.
URL:https://lbdpcn.com/events/virtual-drop-in-exercise-class/2026-10-19/
LOCATION:Virtual\, Alberta\, Canada
CATEGORIES:Basic Health Care,Exercise,Health Self Management
GEO:53.9332706;-116.5765035
END:VEVENT
BEGIN:VEVENT
DTSTART;TZID=America/Edmonton:20261021T100000
DTEND;TZID=America/Edmonton:20261021T110000
DTSTAMP:20260425T174353
CREATED:20250623T221348Z
LAST-MODIFIED:20250623T221919Z
UID:10003842-1792576800-1792580400@lbdpcn.com
SUMMARY:Movers & Groovers
DESCRIPTION:Online follow-along exercise program for adults. Includes strength exercises\, balance exercises\, and stretches. \nJoin Brad\, PCN Exercise Specialist with the Wolf Creek PCN\, as he leads you through safe and appropriate exercises for a wide range of fitness levels each day.\nMovers & Groovers is a year-round drop-in class. You can attend as many times as you like. In fact\, we encourage you to attend often! \nFor more information\, visit the website at wolfcreekpcn.com/programs-and-classes/movers-and-groovers. \nJoin the class at the time of the event through the link.
URL:https://lbdpcn.com/events/movers-groovers/2026-10-21/
LOCATION:Virtual\, Alberta\, Canada
CATEGORIES:Exercise
GEO:53.9332706;-116.5765035
END:VEVENT
BEGIN:VEVENT
DTSTART;TZID=America/Edmonton:20261022T133000
DTEND;TZID=America/Edmonton:20261022T140000
DTSTAMP:20260425T174353
CREATED:20250723T163402Z
LAST-MODIFIED:20250723T163402Z
UID:10004362-1792675800-1792677600@lbdpcn.com
SUMMARY:Virtual Drop-In Exercise Class
DESCRIPTION:Led by the Sherwood Park PCN Exercise Specialist\, this virtual exercise class focuses on guiding you through low-impact stretches and exercises. \nClasses every Monday and Thursday.
URL:https://lbdpcn.com/events/virtual-drop-in-exercise-class/2026-10-22/
LOCATION:Virtual\, Alberta\, Canada
CATEGORIES:Basic Health Care,Exercise,Health Self Management
GEO:53.9332706;-116.5765035
END:VEVENT
BEGIN:VEVENT
DTSTART;TZID=America/Edmonton:20261026T100000
DTEND;TZID=America/Edmonton:20261026T110000
DTSTAMP:20260425T174353
CREATED:20250623T221348Z
LAST-MODIFIED:20250623T221919Z
UID:10003843-1793008800-1793012400@lbdpcn.com
SUMMARY:Movers & Groovers
DESCRIPTION:Online follow-along exercise program for adults. Includes strength exercises\, balance exercises\, and stretches. \nJoin Brad\, PCN Exercise Specialist with the Wolf Creek PCN\, as he leads you through safe and appropriate exercises for a wide range of fitness levels each day.\nMovers & Groovers is a year-round drop-in class. You can attend as many times as you like. In fact\, we encourage you to attend often! \nFor more information\, visit the website at wolfcreekpcn.com/programs-and-classes/movers-and-groovers. \nJoin the class at the time of the event through the link.
URL:https://lbdpcn.com/events/movers-groovers/2026-10-26/
LOCATION:Virtual\, Alberta\, Canada
CATEGORIES:Exercise
GEO:53.9332706;-116.5765035
END:VEVENT
BEGIN:VEVENT
DTSTART;TZID=America/Edmonton:20261026T133000
DTEND;TZID=America/Edmonton:20261026T140000
DTSTAMP:20260425T174353
CREATED:20250723T163402Z
LAST-MODIFIED:20250723T163402Z
UID:10004363-1793021400-1793023200@lbdpcn.com
SUMMARY:Virtual Drop-In Exercise Class
DESCRIPTION:Led by the Sherwood Park PCN Exercise Specialist\, this virtual exercise class focuses on guiding you through low-impact stretches and exercises. \nClasses every Monday and Thursday.
URL:https://lbdpcn.com/events/virtual-drop-in-exercise-class/2026-10-26/
LOCATION:Virtual\, Alberta\, Canada
CATEGORIES:Basic Health Care,Exercise,Health Self Management
GEO:53.9332706;-116.5765035
END:VEVENT
BEGIN:VEVENT
DTSTART;TZID=America/Edmonton:20261028T100000
DTEND;TZID=America/Edmonton:20261028T110000
DTSTAMP:20260425T174353
CREATED:20250623T221348Z
LAST-MODIFIED:20250623T221919Z
UID:10003844-1793181600-1793185200@lbdpcn.com
SUMMARY:Movers & Groovers
DESCRIPTION:Online follow-along exercise program for adults. Includes strength exercises\, balance exercises\, and stretches. \nJoin Brad\, PCN Exercise Specialist with the Wolf Creek PCN\, as he leads you through safe and appropriate exercises for a wide range of fitness levels each day.\nMovers & Groovers is a year-round drop-in class. You can attend as many times as you like. In fact\, we encourage you to attend often! \nFor more information\, visit the website at wolfcreekpcn.com/programs-and-classes/movers-and-groovers. \nJoin the class at the time of the event through the link.
URL:https://lbdpcn.com/events/movers-groovers/2026-10-28/
LOCATION:Virtual\, Alberta\, Canada
CATEGORIES:Exercise
GEO:53.9332706;-116.5765035
END:VEVENT
BEGIN:VEVENT
DTSTART;TZID=America/Edmonton:20261029T133000
DTEND;TZID=America/Edmonton:20261029T140000
DTSTAMP:20260425T174353
CREATED:20250723T163402Z
LAST-MODIFIED:20250723T163402Z
UID:10004364-1793280600-1793282400@lbdpcn.com
SUMMARY:Virtual Drop-In Exercise Class
DESCRIPTION:Led by the Sherwood Park PCN Exercise Specialist\, this virtual exercise class focuses on guiding you through low-impact stretches and exercises. \nClasses every Monday and Thursday.
URL:https://lbdpcn.com/events/virtual-drop-in-exercise-class/2026-10-29/
LOCATION:Virtual\, Alberta\, Canada
CATEGORIES:Basic Health Care,Exercise,Health Self Management
GEO:53.9332706;-116.5765035
END:VEVENT
BEGIN:VEVENT
DTSTART;TZID=America/Edmonton:20261102T100000
DTEND;TZID=America/Edmonton:20261102T110000
DTSTAMP:20260425T174353
CREATED:20250623T221348Z
LAST-MODIFIED:20250623T221919Z
UID:10003845-1793613600-1793617200@lbdpcn.com
SUMMARY:Movers & Groovers
DESCRIPTION:Online follow-along exercise program for adults. Includes strength exercises\, balance exercises\, and stretches. \nJoin Brad\, PCN Exercise Specialist with the Wolf Creek PCN\, as he leads you through safe and appropriate exercises for a wide range of fitness levels each day.\nMovers & Groovers is a year-round drop-in class. You can attend as many times as you like. In fact\, we encourage you to attend often! \nFor more information\, visit the website at wolfcreekpcn.com/programs-and-classes/movers-and-groovers. \nJoin the class at the time of the event through the link.
URL:https://lbdpcn.com/events/movers-groovers/2026-11-02/
LOCATION:Virtual\, Alberta\, Canada
CATEGORIES:Exercise
GEO:53.9332706;-116.5765035
END:VEVENT
BEGIN:VEVENT
DTSTART;TZID=America/Edmonton:20261102T133000
DTEND;TZID=America/Edmonton:20261102T140000
DTSTAMP:20260425T174353
CREATED:20250723T163402Z
LAST-MODIFIED:20250723T163402Z
UID:10004365-1793626200-1793628000@lbdpcn.com
SUMMARY:Virtual Drop-In Exercise Class
DESCRIPTION:Led by the Sherwood Park PCN Exercise Specialist\, this virtual exercise class focuses on guiding you through low-impact stretches and exercises. \nClasses every Monday and Thursday.
URL:https://lbdpcn.com/events/virtual-drop-in-exercise-class/2026-11-02/
LOCATION:Virtual\, Alberta\, Canada
CATEGORIES:Basic Health Care,Exercise,Health Self Management
GEO:53.9332706;-116.5765035
END:VEVENT
BEGIN:VEVENT
DTSTART;TZID=America/Edmonton:20261104T100000
DTEND;TZID=America/Edmonton:20261104T110000
DTSTAMP:20260425T174353
CREATED:20250623T221348Z
LAST-MODIFIED:20250623T221919Z
UID:10003846-1793786400-1793790000@lbdpcn.com
SUMMARY:Movers & Groovers
DESCRIPTION:Online follow-along exercise program for adults. Includes strength exercises\, balance exercises\, and stretches. \nJoin Brad\, PCN Exercise Specialist with the Wolf Creek PCN\, as he leads you through safe and appropriate exercises for a wide range of fitness levels each day.\nMovers & Groovers is a year-round drop-in class. You can attend as many times as you like. In fact\, we encourage you to attend often! \nFor more information\, visit the website at wolfcreekpcn.com/programs-and-classes/movers-and-groovers. \nJoin the class at the time of the event through the link.
URL:https://lbdpcn.com/events/movers-groovers/2026-11-04/
LOCATION:Virtual\, Alberta\, Canada
CATEGORIES:Exercise
GEO:53.9332706;-116.5765035
END:VEVENT
BEGIN:VEVENT
DTSTART;TZID=America/Edmonton:20261105T133000
DTEND;TZID=America/Edmonton:20261105T140000
DTSTAMP:20260425T174353
CREATED:20250723T163402Z
LAST-MODIFIED:20250723T163402Z
UID:10004366-1793885400-1793887200@lbdpcn.com
SUMMARY:Virtual Drop-In Exercise Class
DESCRIPTION:Led by the Sherwood Park PCN Exercise Specialist\, this virtual exercise class focuses on guiding you through low-impact stretches and exercises. \nClasses every Monday and Thursday.
URL:https://lbdpcn.com/events/virtual-drop-in-exercise-class/2026-11-05/
LOCATION:Virtual\, Alberta\, Canada
CATEGORIES:Basic Health Care,Exercise,Health Self Management
GEO:53.9332706;-116.5765035
END:VEVENT
BEGIN:VEVENT
DTSTART;TZID=America/Edmonton:20261109T100000
DTEND;TZID=America/Edmonton:20261109T110000
DTSTAMP:20260425T174353
CREATED:20250623T221348Z
LAST-MODIFIED:20250623T221919Z
UID:10003847-1794218400-1794222000@lbdpcn.com
SUMMARY:Movers & Groovers
DESCRIPTION:Online follow-along exercise program for adults. Includes strength exercises\, balance exercises\, and stretches. \nJoin Brad\, PCN Exercise Specialist with the Wolf Creek PCN\, as he leads you through safe and appropriate exercises for a wide range of fitness levels each day.\nMovers & Groovers is a year-round drop-in class. You can attend as many times as you like. In fact\, we encourage you to attend often! \nFor more information\, visit the website at wolfcreekpcn.com/programs-and-classes/movers-and-groovers. \nJoin the class at the time of the event through the link.
URL:https://lbdpcn.com/events/movers-groovers/2026-11-09/
LOCATION:Virtual\, Alberta\, Canada
CATEGORIES:Exercise
GEO:53.9332706;-116.5765035
END:VEVENT
BEGIN:VEVENT
DTSTART;TZID=America/Edmonton:20261109T133000
DTEND;TZID=America/Edmonton:20261109T140000
DTSTAMP:20260425T174353
CREATED:20250723T163402Z
LAST-MODIFIED:20250723T163402Z
UID:10004367-1794231000-1794232800@lbdpcn.com
SUMMARY:Virtual Drop-In Exercise Class
DESCRIPTION:Led by the Sherwood Park PCN Exercise Specialist\, this virtual exercise class focuses on guiding you through low-impact stretches and exercises. \nClasses every Monday and Thursday.
URL:https://lbdpcn.com/events/virtual-drop-in-exercise-class/2026-11-09/
LOCATION:Virtual\, Alberta\, Canada
CATEGORIES:Basic Health Care,Exercise,Health Self Management
GEO:53.9332706;-116.5765035
END:VEVENT
BEGIN:VEVENT
DTSTART;TZID=America/Edmonton:20261111T100000
DTEND;TZID=America/Edmonton:20261111T110000
DTSTAMP:20260425T174353
CREATED:20250623T221348Z
LAST-MODIFIED:20250623T221919Z
UID:10003848-1794391200-1794394800@lbdpcn.com
SUMMARY:Movers & Groovers
DESCRIPTION:Online follow-along exercise program for adults. Includes strength exercises\, balance exercises\, and stretches. \nJoin Brad\, PCN Exercise Specialist with the Wolf Creek PCN\, as he leads you through safe and appropriate exercises for a wide range of fitness levels each day.\nMovers & Groovers is a year-round drop-in class. You can attend as many times as you like. In fact\, we encourage you to attend often! \nFor more information\, visit the website at wolfcreekpcn.com/programs-and-classes/movers-and-groovers. \nJoin the class at the time of the event through the link.
URL:https://lbdpcn.com/events/movers-groovers/2026-11-11/
LOCATION:Virtual\, Alberta\, Canada
CATEGORIES:Exercise
GEO:53.9332706;-116.5765035
END:VEVENT
BEGIN:VEVENT
DTSTART;TZID=America/Edmonton:20261112T133000
DTEND;TZID=America/Edmonton:20261112T140000
DTSTAMP:20260425T174353
CREATED:20250723T163402Z
LAST-MODIFIED:20250723T163402Z
UID:10004368-1794490200-1794492000@lbdpcn.com
SUMMARY:Virtual Drop-In Exercise Class
DESCRIPTION:Led by the Sherwood Park PCN Exercise Specialist\, this virtual exercise class focuses on guiding you through low-impact stretches and exercises. \nClasses every Monday and Thursday.
URL:https://lbdpcn.com/events/virtual-drop-in-exercise-class/2026-11-12/
LOCATION:Virtual\, Alberta\, Canada
CATEGORIES:Basic Health Care,Exercise,Health Self Management
GEO:53.9332706;-116.5765035
END:VEVENT
BEGIN:VEVENT
DTSTART;TZID=America/Edmonton:20261116T100000
DTEND;TZID=America/Edmonton:20261116T110000
DTSTAMP:20260425T174353
CREATED:20250623T221348Z
LAST-MODIFIED:20250623T221919Z
UID:10003849-1794823200-1794826800@lbdpcn.com
SUMMARY:Movers & Groovers
DESCRIPTION:Online follow-along exercise program for adults. Includes strength exercises\, balance exercises\, and stretches. \nJoin Brad\, PCN Exercise Specialist with the Wolf Creek PCN\, as he leads you through safe and appropriate exercises for a wide range of fitness levels each day.\nMovers & Groovers is a year-round drop-in class. You can attend as many times as you like. In fact\, we encourage you to attend often! \nFor more information\, visit the website at wolfcreekpcn.com/programs-and-classes/movers-and-groovers. \nJoin the class at the time of the event through the link.
URL:https://lbdpcn.com/events/movers-groovers/2026-11-16/
LOCATION:Virtual\, Alberta\, Canada
CATEGORIES:Exercise
GEO:53.9332706;-116.5765035
END:VEVENT
BEGIN:VEVENT
DTSTART;TZID=America/Edmonton:20261116T133000
DTEND;TZID=America/Edmonton:20261116T140000
DTSTAMP:20260425T174353
CREATED:20250723T163402Z
LAST-MODIFIED:20250723T163402Z
UID:10004369-1794835800-1794837600@lbdpcn.com
SUMMARY:Virtual Drop-In Exercise Class
DESCRIPTION:Led by the Sherwood Park PCN Exercise Specialist\, this virtual exercise class focuses on guiding you through low-impact stretches and exercises. \nClasses every Monday and Thursday.
URL:https://lbdpcn.com/events/virtual-drop-in-exercise-class/2026-11-16/
LOCATION:Virtual\, Alberta\, Canada
CATEGORIES:Basic Health Care,Exercise,Health Self Management
GEO:53.9332706;-116.5765035
END:VEVENT
BEGIN:VEVENT
DTSTART;TZID=America/Edmonton:20261118T100000
DTEND;TZID=America/Edmonton:20261118T110000
DTSTAMP:20260425T174353
CREATED:20250623T221348Z
LAST-MODIFIED:20250623T221919Z
UID:10003850-1794996000-1794999600@lbdpcn.com
SUMMARY:Movers & Groovers
DESCRIPTION:Online follow-along exercise program for adults. Includes strength exercises\, balance exercises\, and stretches. \nJoin Brad\, PCN Exercise Specialist with the Wolf Creek PCN\, as he leads you through safe and appropriate exercises for a wide range of fitness levels each day.\nMovers & Groovers is a year-round drop-in class. You can attend as many times as you like. In fact\, we encourage you to attend often! \nFor more information\, visit the website at wolfcreekpcn.com/programs-and-classes/movers-and-groovers. \nJoin the class at the time of the event through the link.
URL:https://lbdpcn.com/events/movers-groovers/2026-11-18/
LOCATION:Virtual\, Alberta\, Canada
CATEGORIES:Exercise
GEO:53.9332706;-116.5765035
END:VEVENT
BEGIN:VEVENT
DTSTART;TZID=America/Edmonton:20261119T133000
DTEND;TZID=America/Edmonton:20261119T140000
DTSTAMP:20260425T174353
CREATED:20250723T163402Z
LAST-MODIFIED:20250723T163402Z
UID:10004370-1795095000-1795096800@lbdpcn.com
SUMMARY:Virtual Drop-In Exercise Class
DESCRIPTION:Led by the Sherwood Park PCN Exercise Specialist\, this virtual exercise class focuses on guiding you through low-impact stretches and exercises. \nClasses every Monday and Thursday.
URL:https://lbdpcn.com/events/virtual-drop-in-exercise-class/2026-11-19/
LOCATION:Virtual\, Alberta\, Canada
CATEGORIES:Basic Health Care,Exercise,Health Self Management
GEO:53.9332706;-116.5765035
END:VEVENT
BEGIN:VEVENT
DTSTART;TZID=America/Edmonton:20261123T100000
DTEND;TZID=America/Edmonton:20261123T110000
DTSTAMP:20260425T174353
CREATED:20250623T221348Z
LAST-MODIFIED:20250623T221919Z
UID:10003851-1795428000-1795431600@lbdpcn.com
SUMMARY:Movers & Groovers
DESCRIPTION:Online follow-along exercise program for adults. Includes strength exercises\, balance exercises\, and stretches. \nJoin Brad\, PCN Exercise Specialist with the Wolf Creek PCN\, as he leads you through safe and appropriate exercises for a wide range of fitness levels each day.\nMovers & Groovers is a year-round drop-in class. You can attend as many times as you like. In fact\, we encourage you to attend often! \nFor more information\, visit the website at wolfcreekpcn.com/programs-and-classes/movers-and-groovers. \nJoin the class at the time of the event through the link.
URL:https://lbdpcn.com/events/movers-groovers/2026-11-23/
LOCATION:Virtual\, Alberta\, Canada
CATEGORIES:Exercise
GEO:53.9332706;-116.5765035
END:VEVENT
BEGIN:VEVENT
DTSTART;TZID=America/Edmonton:20261123T133000
DTEND;TZID=America/Edmonton:20261123T140000
DTSTAMP:20260425T174353
CREATED:20250723T163402Z
LAST-MODIFIED:20250723T163402Z
UID:10004371-1795440600-1795442400@lbdpcn.com
SUMMARY:Virtual Drop-In Exercise Class
DESCRIPTION:Led by the Sherwood Park PCN Exercise Specialist\, this virtual exercise class focuses on guiding you through low-impact stretches and exercises. \nClasses every Monday and Thursday.
URL:https://lbdpcn.com/events/virtual-drop-in-exercise-class/2026-11-23/
LOCATION:Virtual\, Alberta\, Canada
CATEGORIES:Basic Health Care,Exercise,Health Self Management
GEO:53.9332706;-116.5765035
END:VEVENT
BEGIN:VEVENT
DTSTART;TZID=America/Edmonton:20261125T100000
DTEND;TZID=America/Edmonton:20261125T110000
DTSTAMP:20260425T174353
CREATED:20250623T221348Z
LAST-MODIFIED:20250623T221919Z
UID:10003852-1795600800-1795604400@lbdpcn.com
SUMMARY:Movers & Groovers
DESCRIPTION:Online follow-along exercise program for adults. Includes strength exercises\, balance exercises\, and stretches. \nJoin Brad\, PCN Exercise Specialist with the Wolf Creek PCN\, as he leads you through safe and appropriate exercises for a wide range of fitness levels each day.\nMovers & Groovers is a year-round drop-in class. You can attend as many times as you like. In fact\, we encourage you to attend often! \nFor more information\, visit the website at wolfcreekpcn.com/programs-and-classes/movers-and-groovers. \nJoin the class at the time of the event through the link.
URL:https://lbdpcn.com/events/movers-groovers/2026-11-25/
LOCATION:Virtual\, Alberta\, Canada
CATEGORIES:Exercise
GEO:53.9332706;-116.5765035
END:VEVENT
END:VCALENDAR