BEGIN:VCALENDAR
VERSION:2.0
PRODID:-//Leduc Beaumont Devon PCN - ECPv6.15.20//NONSGML v1.0//EN
CALSCALE:GREGORIAN
METHOD:PUBLISH
X-ORIGINAL-URL:https://lbdpcn.com
X-WR-CALDESC:Events for Leduc Beaumont Devon PCN
REFRESH-INTERVAL;VALUE=DURATION:PT1H
X-Robots-Tag:noindex
X-PUBLISHED-TTL:PT1H
BEGIN:VTIMEZONE
TZID:America/Edmonton
BEGIN:DAYLIGHT
TZOFFSETFROM:-0700
TZOFFSETTO:-0600
TZNAME:MDT
DTSTART:20230312T090000
END:DAYLIGHT
BEGIN:STANDARD
TZOFFSETFROM:-0600
TZOFFSETTO:-0700
TZNAME:MST
DTSTART:20231105T080000
END:STANDARD
BEGIN:DAYLIGHT
TZOFFSETFROM:-0700
TZOFFSETTO:-0600
TZNAME:MDT
DTSTART:20240310T090000
END:DAYLIGHT
BEGIN:STANDARD
TZOFFSETFROM:-0600
TZOFFSETTO:-0700
TZNAME:MST
DTSTART:20241103T080000
END:STANDARD
BEGIN:DAYLIGHT
TZOFFSETFROM:-0700
TZOFFSETTO:-0600
TZNAME:MDT
DTSTART:20250309T090000
END:DAYLIGHT
BEGIN:STANDARD
TZOFFSETFROM:-0600
TZOFFSETTO:-0700
TZNAME:MST
DTSTART:20251102T080000
END:STANDARD
END:VTIMEZONE
BEGIN:VEVENT
DTSTART;TZID=America/Edmonton:20241118T100000
DTEND;TZID=America/Edmonton:20241118T120000
DTSTAMP:20260423T132312
CREATED:20230816T213954Z
LAST-MODIFIED:20241022T204356Z
UID:10002991-1731924000-1731931200@lbdpcn.com
SUMMARY:Personal Directive & Enduring Power of Attorney
DESCRIPTION:A personal directive is a legal document you make in case you cannot make your own personal decisions in the future. An enduring power of attorney is a legal document that you make to give another person the authority to make financial decisions on your behalf. \nThis free service will teach you more about each and assist you in completing each document. \nYou must be over the age of 18\, have photo identification\, and be a resident of Alberta. Due to the legal nature of these documents\, this service is only offered in English\, and use of an interpreter is not permitted.
URL:https://lbdpcn.com/events/personal-directive-enduring-power-of-attorney-2/2024-11-18/
LOCATION:Edmonton North PCN\, Alberta\, Canada
CATEGORIES:Basic Health Care,Coordination of Care,Education
GEO:53.9332706;-116.5765035
END:VEVENT
BEGIN:VEVENT
DTSTART;TZID=America/Edmonton:20241121T173000
DTEND;TZID=America/Edmonton:20241121T200000
DTSTAMP:20260423T132312
CREATED:20231024T210549Z
LAST-MODIFIED:20241024T190633Z
UID:10001702-1732210200-1732219200@lbdpcn.com
SUMMARY:Personal Directive & Enduring Power of Attorney
DESCRIPTION:***The November workshop is now full. Our next workshop is scheduled for January 23rd.*** \nThis workshop explains the importance of having a Personal Directive and Enduring Power of Attorney in place and will be facilitated by a Healthy Aging Social Worker who is also a Commissioner of Oaths. \nPersonal Directive – a document to name someone to make personal decisions for you in case you become incapable due to illness or injury.\nEnduring Power of Attorney – a document to name someone to make financial decisions on your behalf if you become incapable due to injury or illness. \nDuring this workshop\, the participants will: \n\nLearn the importance of having these documents\nReceive step-by-step instructions on how to fill out the paperwork\nWork with the Healthy Aging Social Worker to complete the forms properly\nHave the finished papers witnessed and signed\, making them official\n\nGuidelines for registration: \n\nParticipants must be 18 years of age or older\nParticipants must register themselves\nParticipants MUST be able to understand and communicate in English. No interpreters are permitted as the liability of creating legal documents through an interpreter is too high.\nParticipants must be able to fill in their own PD and EPA templates under the direction of the group facilitator. A support person can assist at the direction of the participant with their consent.\nIf a participant has a hearing impairment\, cognitive deficits or other physical or psychological barriers that make it a challenge to function within a group environment this is not the appropriate workshop.\nNo more than 2 people from the same family can attend the same group. This reduces the risk of abuse and coercion and an imbalance of group dynamics.\nA support person is not required. If your patient wants to bring one\, the support person must call in and register themselves. Experience shows the majority of support people want to complete their own documents once the group starts.\nIt is IMPERATIVE to bring photo ID to the appointment. EPA documents cannot be completed without a photo ID.\n\nTo register for this workshop\, call our clinical administrator Ronda at the PCN to complete the registration process. 780-986-6624.
URL:https://lbdpcn.com/events/personal-directive-enduring-power-of-attorney-3/
LOCATION:Leduc Beaumont Devon Primary Care Network\, #301 4710 50 Street\, Leduc\, Alberta\, T9E 6W2\, Canada
CATEGORIES:Basic Health Care,Coordination of Care,Education,End of Life Care,Health Self Management,Senior Care
GEO:53.262996;-113.5530327
X-APPLE-STRUCTURED-LOCATION;VALUE=URI;X-ADDRESS=Leduc Beaumont Devon Primary Care Network #301 4710 50 Street Leduc Alberta T9E 6W2 Canada;X-APPLE-RADIUS=500;X-TITLE=#301 4710 50 Street:geo:-113.5530327,53.262996
END:VEVENT
END:VCALENDAR