BEGIN:VCALENDAR
VERSION:2.0
PRODID:-//Leduc Beaumont Devon PCN - ECPv6.15.20//NONSGML v1.0//EN
CALSCALE:GREGORIAN
METHOD:PUBLISH
X-WR-CALNAME:Leduc Beaumont Devon PCN
X-ORIGINAL-URL:https://lbdpcn.com
X-WR-CALDESC:Events for Leduc Beaumont Devon PCN
REFRESH-INTERVAL;VALUE=DURATION:PT1H
X-Robots-Tag:noindex
X-PUBLISHED-TTL:PT1H
BEGIN:VTIMEZONE
TZID:America/Edmonton
BEGIN:DAYLIGHT
TZOFFSETFROM:-0700
TZOFFSETTO:-0600
TZNAME:MDT
DTSTART:20230312T090000
END:DAYLIGHT
BEGIN:STANDARD
TZOFFSETFROM:-0600
TZOFFSETTO:-0700
TZNAME:MST
DTSTART:20231105T080000
END:STANDARD
BEGIN:DAYLIGHT
TZOFFSETFROM:-0700
TZOFFSETTO:-0600
TZNAME:MDT
DTSTART:20240310T090000
END:DAYLIGHT
BEGIN:STANDARD
TZOFFSETFROM:-0600
TZOFFSETTO:-0700
TZNAME:MST
DTSTART:20241103T080000
END:STANDARD
BEGIN:DAYLIGHT
TZOFFSETFROM:-0700
TZOFFSETTO:-0600
TZNAME:MDT
DTSTART:20250309T090000
END:DAYLIGHT
BEGIN:STANDARD
TZOFFSETFROM:-0600
TZOFFSETTO:-0700
TZNAME:MST
DTSTART:20251102T080000
END:STANDARD
END:VTIMEZONE
BEGIN:VEVENT
DTSTART;TZID=America/Edmonton:20240919T173000
DTEND;TZID=America/Edmonton:20240919T200000
DTSTAMP:20260421T122523
CREATED:20240111T205725Z
LAST-MODIFIED:20240917T205849Z
UID:10002161-1726767000-1726776000@lbdpcn.com
SUMMARY:Personal Directive & Enduring Power of Attorney
DESCRIPTION:The September workshop is now full. Please call the office at 780-986-6624 to be added to the waitlist for the next class. \nThis workshop explains the importance of having a Personal Directive and Enduring Power of Attorney in place and will be facilitated by a Healthy Aging Social Worker who is also a Commissioner of Oaths. \nPersonal Directive – a document to name someone to make personal decisions for you in case you become incapable due to illness or injury.\nEnduring Power of Attorney – a document to name someone to make financial decisions on your behalf if you become incapable due to injury or illness. \nDuring this workshop\, the participants will: \nLearn the importance of having these documents\nReceive step-by-step instructions on how to fill out the paperwork\nWork with the Healthy Aging Social Worker to complete the forms properly\nHave the finished papers witnessed and signed\, making them official \nGuidelines for registration: \nParticipants must be 18 years of age or older\nParticipants must register themselves\nParticipants MUST be able to understand and communicate in English. No interpreters are permitted as the liability of creating legal documents through an interpreter is too high.\nParticipants must be able to fill in their own PD and EPA templates under the direction of the group facilitator. A support person can assist at the direction of the participant with their consent.\nIf a participant has a hearing impairment\, cognitive deficits or other physical or psychological barriers that make it a challenge to function within a group environment\, this is not the appropriate workshop.\nNo more than 2 people from the same family can attend the same group. This reduces the risk of abuse and coercion and an imbalance of group dynamics.\nA support person is not required. If your patient wants to bring one\, the support person must call in and register themselves. Experience shows the majority of support people want to complete their own documents once the group starts.\nIt is IMPERATIVE to bring photo ID to the appointment. EPA documents cannot be completed without a photo ID. \nTo register for this workshop\, call our clinical administrator\, Ronda\, at the PCN to complete the registration process. 780-986-6624.
URL:https://lbdpcn.com/events/personal-directive-enduring-power-of-attorney-4/
LOCATION:Leduc Beaumont Devon Primary Care Network\, #301 4710 50 Street\, Leduc\, Alberta\, T9E 6W2\, Canada
CATEGORIES:Basic Health Care,Coordination of Care,Crisis and Emergency Care,Education,End of Life Care,Health Self Management,Senior Care
GEO:53.262996;-113.5530327
X-APPLE-STRUCTURED-LOCATION;VALUE=URI;X-ADDRESS=Leduc Beaumont Devon Primary Care Network #301 4710 50 Street Leduc Alberta T9E 6W2 Canada;X-APPLE-RADIUS=500;X-TITLE=#301 4710 50 Street:geo:-113.5530327,53.262996
END:VEVENT
END:VCALENDAR