BEGIN:VCALENDAR
VERSION:2.0
PRODID:-//Leduc Beaumont Devon PCN - ECPv6.15.20//NONSGML v1.0//EN
CALSCALE:GREGORIAN
METHOD:PUBLISH
X-WR-CALNAME:Leduc Beaumont Devon PCN
X-ORIGINAL-URL:https://lbdpcn.com
X-WR-CALDESC:Events for Leduc Beaumont Devon PCN
REFRESH-INTERVAL;VALUE=DURATION:PT1H
X-Robots-Tag:noindex
X-PUBLISHED-TTL:PT1H
BEGIN:VTIMEZONE
TZID:America/Edmonton
BEGIN:DAYLIGHT
TZOFFSETFROM:-0700
TZOFFSETTO:-0600
TZNAME:MDT
DTSTART:20240310T090000
END:DAYLIGHT
BEGIN:STANDARD
TZOFFSETFROM:-0600
TZOFFSETTO:-0700
TZNAME:MST
DTSTART:20241103T080000
END:STANDARD
BEGIN:DAYLIGHT
TZOFFSETFROM:-0700
TZOFFSETTO:-0600
TZNAME:MDT
DTSTART:20250309T090000
END:DAYLIGHT
BEGIN:STANDARD
TZOFFSETFROM:-0600
TZOFFSETTO:-0700
TZNAME:MST
DTSTART:20251102T080000
END:STANDARD
BEGIN:DAYLIGHT
TZOFFSETFROM:-0700
TZOFFSETTO:-0600
TZNAME:MDT
DTSTART:20260308T090000
END:DAYLIGHT
BEGIN:STANDARD
TZOFFSETFROM:-0600
TZOFFSETTO:-0700
TZNAME:MST
DTSTART:20261101T080000
END:STANDARD
END:VTIMEZONE
BEGIN:VEVENT
DTSTART;TZID=America/Edmonton:20250205T180000
DTEND;TZID=America/Edmonton:20250205T200000
DTSTAMP:20260421T140859
CREATED:20241112T182614Z
LAST-MODIFIED:20241210T211805Z
UID:10003006-1738778400-1738785600@lbdpcn.com
SUMMARY:Managing Menopause
DESCRIPTION:Dealing with hot flashes\, night sweats\, trouble sleeping and mood swings related to menopause? Discover ways to help manage these symptoms through lifestyle changes\, non-prescription and prescription therapy options\, including a detailed discussion on hormone therapy and pelvic floor exercises. \nThis class will be held in-person at the Warburg Nurse Practitioner-Led Clinic in Warburg\, in the basement of the Village of Warburg office\, and facilitated by the PCN Registered Nurses Melissa and Rebecca. \nRegistration will be accepted by Katelynn with Warburg FCSS – please call 780-848-2828 or email fcss@warburg.ca
URL:https://lbdpcn.com/events/managing-menopause-2/
LOCATION:Warburg Nurse Practitioner-Led Clinic\, 50 Avenue 5212\, Warburg\, Alberta\, T0C 2T0\, Canada
CATEGORIES:Basic Health Care,Health Self Management,Women's Health
ATTACH;FMTTYPE=image/jpeg:https://lbdpcn.com/wp-content/uploads/2024/11/Managing-Menopause-F-B-2025-Warburg-1.jpg
GEO:53.178847;-114.320657
X-APPLE-STRUCTURED-LOCATION;VALUE=URI;X-ADDRESS=Warburg Nurse Practitioner-Led Clinic 50 Avenue 5212 Warburg Alberta T0C 2T0 Canada;X-APPLE-RADIUS=500;X-TITLE=50 Avenue 5212:geo:-114.320657,53.178847
END:VEVENT
BEGIN:VEVENT
DTSTART;TZID=America/Edmonton:20250220T180000
DTEND;TZID=America/Edmonton:20250220T200000
DTSTAMP:20260421T140859
CREATED:20241202T212722Z
LAST-MODIFIED:20241210T212114Z
UID:10003017-1740074400-1740081600@lbdpcn.com
SUMMARY:Managing Menopause
DESCRIPTION:Dealing with hot flashes\, night sweats\, trouble sleeping and mood swings related to menopause? Discover ways to help manage these symptoms through lifestyle changes\, non-prescription and prescription therapy options\, including a detailed discussion on hormone therapy and pelvic floor exercises. \nThis class will be facilitated by the PCN Registered Nurse\, Melissa\, and Registered Dietitian\, Andrea\, and will be held virtually over Zoom. A link will be emailed to you when you register. \nThis class is being offered in partnership with Leduc County FCSS. Registration will be accepted by Lucille through Leduc County FCSS by calling 780-941-2382 or register online at www.leduc-county.com/managing-menopause
URL:https://lbdpcn.com/events/managing-menopause-3/
LOCATION:Virtual\, Alberta\, Canada
CATEGORIES:Education,Health Self Management,Women's Health
GEO:53.9332706;-116.5765035
END:VEVENT
END:VCALENDAR