BEGIN:VCALENDAR
VERSION:2.0
PRODID:-//Leduc Beaumont Devon PCN - ECPv6.15.20//NONSGML v1.0//EN
CALSCALE:GREGORIAN
METHOD:PUBLISH
X-WR-CALNAME:Leduc Beaumont Devon PCN
X-ORIGINAL-URL:https://lbdpcn.com
X-WR-CALDESC:Events for Leduc Beaumont Devon PCN
REFRESH-INTERVAL;VALUE=DURATION:PT1H
X-Robots-Tag:noindex
X-PUBLISHED-TTL:PT1H
BEGIN:VTIMEZONE
TZID:America/Edmonton
BEGIN:DAYLIGHT
TZOFFSETFROM:-0700
TZOFFSETTO:-0600
TZNAME:MDT
DTSTART:20270314T090000
END:DAYLIGHT
BEGIN:STANDARD
TZOFFSETFROM:-0600
TZOFFSETTO:-0700
TZNAME:MST
DTSTART:20271107T080000
END:STANDARD
BEGIN:DAYLIGHT
TZOFFSETFROM:-0700
TZOFFSETTO:-0600
TZNAME:MDT
DTSTART:20280312T090000
END:DAYLIGHT
BEGIN:STANDARD
TZOFFSETFROM:-0600
TZOFFSETTO:-0700
TZNAME:MST
DTSTART:20281105T080000
END:STANDARD
BEGIN:DAYLIGHT
TZOFFSETFROM:-0700
TZOFFSETTO:-0600
TZNAME:MDT
DTSTART:20290311T090000
END:DAYLIGHT
BEGIN:STANDARD
TZOFFSETFROM:-0600
TZOFFSETTO:-0700
TZNAME:MST
DTSTART:20291104T080000
END:STANDARD
END:VTIMEZONE
BEGIN:VEVENT
DTSTART;TZID=America/Edmonton:20280717T133000
DTEND;TZID=America/Edmonton:20280717T140000
DTSTAMP:20260422T063715
CREATED:20250723T163402Z
LAST-MODIFIED:20250723T163402Z
UID:10004543-1847453400-1847455200@lbdpcn.com
SUMMARY:Virtual Drop-In Exercise Class
DESCRIPTION:Led by the Sherwood Park PCN Exercise Specialist\, this virtual exercise class focuses on guiding you through low-impact stretches and exercises. \nClasses every Monday and Thursday.
URL:https://lbdpcn.com/events/virtual-drop-in-exercise-class/2028-07-17/
LOCATION:Virtual\, Alberta\, Canada
CATEGORIES:Basic Health Care,Exercise,Health Self Management
GEO:53.9332706;-116.5765035
END:VEVENT
BEGIN:VEVENT
DTSTART;TZID=America/Edmonton:20280720T133000
DTEND;TZID=America/Edmonton:20280720T140000
DTSTAMP:20260422T063715
CREATED:20250723T163402Z
LAST-MODIFIED:20250723T163402Z
UID:10004544-1847712600-1847714400@lbdpcn.com
SUMMARY:Virtual Drop-In Exercise Class
DESCRIPTION:Led by the Sherwood Park PCN Exercise Specialist\, this virtual exercise class focuses on guiding you through low-impact stretches and exercises. \nClasses every Monday and Thursday.
URL:https://lbdpcn.com/events/virtual-drop-in-exercise-class/2028-07-20/
LOCATION:Virtual\, Alberta\, Canada
CATEGORIES:Basic Health Care,Exercise,Health Self Management
GEO:53.9332706;-116.5765035
END:VEVENT
BEGIN:VEVENT
DTSTART;TZID=America/Edmonton:20280724T133000
DTEND;TZID=America/Edmonton:20280724T140000
DTSTAMP:20260422T063715
CREATED:20250723T163402Z
LAST-MODIFIED:20250723T163402Z
UID:10004545-1848058200-1848060000@lbdpcn.com
SUMMARY:Virtual Drop-In Exercise Class
DESCRIPTION:Led by the Sherwood Park PCN Exercise Specialist\, this virtual exercise class focuses on guiding you through low-impact stretches and exercises. \nClasses every Monday and Thursday.
URL:https://lbdpcn.com/events/virtual-drop-in-exercise-class/2028-07-24/
LOCATION:Virtual\, Alberta\, Canada
CATEGORIES:Basic Health Care,Exercise,Health Self Management
GEO:53.9332706;-116.5765035
END:VEVENT
BEGIN:VEVENT
DTSTART;TZID=America/Edmonton:20280727T133000
DTEND;TZID=America/Edmonton:20280727T140000
DTSTAMP:20260422T063715
CREATED:20250723T163402Z
LAST-MODIFIED:20250723T163402Z
UID:10004546-1848317400-1848319200@lbdpcn.com
SUMMARY:Virtual Drop-In Exercise Class
DESCRIPTION:Led by the Sherwood Park PCN Exercise Specialist\, this virtual exercise class focuses on guiding you through low-impact stretches and exercises. \nClasses every Monday and Thursday.
URL:https://lbdpcn.com/events/virtual-drop-in-exercise-class/2028-07-27/
LOCATION:Virtual\, Alberta\, Canada
CATEGORIES:Basic Health Care,Exercise,Health Self Management
GEO:53.9332706;-116.5765035
END:VEVENT
BEGIN:VEVENT
DTSTART;TZID=America/Edmonton:20280731T133000
DTEND;TZID=America/Edmonton:20280731T140000
DTSTAMP:20260422T063715
CREATED:20250723T163402Z
LAST-MODIFIED:20250723T163402Z
UID:10004547-1848663000-1848664800@lbdpcn.com
SUMMARY:Virtual Drop-In Exercise Class
DESCRIPTION:Led by the Sherwood Park PCN Exercise Specialist\, this virtual exercise class focuses on guiding you through low-impact stretches and exercises. \nClasses every Monday and Thursday.
URL:https://lbdpcn.com/events/virtual-drop-in-exercise-class/2028-07-31/
LOCATION:Virtual\, Alberta\, Canada
CATEGORIES:Basic Health Care,Exercise,Health Self Management
GEO:53.9332706;-116.5765035
END:VEVENT
BEGIN:VEVENT
DTSTART;TZID=America/Edmonton:20280803T133000
DTEND;TZID=America/Edmonton:20280803T140000
DTSTAMP:20260422T063715
CREATED:20250723T163402Z
LAST-MODIFIED:20250723T163402Z
UID:10004548-1848922200-1848924000@lbdpcn.com
SUMMARY:Virtual Drop-In Exercise Class
DESCRIPTION:Led by the Sherwood Park PCN Exercise Specialist\, this virtual exercise class focuses on guiding you through low-impact stretches and exercises. \nClasses every Monday and Thursday.
URL:https://lbdpcn.com/events/virtual-drop-in-exercise-class/2028-08-03/
LOCATION:Virtual\, Alberta\, Canada
CATEGORIES:Basic Health Care,Exercise,Health Self Management
GEO:53.9332706;-116.5765035
END:VEVENT
BEGIN:VEVENT
DTSTART;TZID=America/Edmonton:20280807T133000
DTEND;TZID=America/Edmonton:20280807T140000
DTSTAMP:20260422T063715
CREATED:20250723T163402Z
LAST-MODIFIED:20250723T163402Z
UID:10004549-1849267800-1849269600@lbdpcn.com
SUMMARY:Virtual Drop-In Exercise Class
DESCRIPTION:Led by the Sherwood Park PCN Exercise Specialist\, this virtual exercise class focuses on guiding you through low-impact stretches and exercises. \nClasses every Monday and Thursday.
URL:https://lbdpcn.com/events/virtual-drop-in-exercise-class/2028-08-07/
LOCATION:Virtual\, Alberta\, Canada
CATEGORIES:Basic Health Care,Exercise,Health Self Management
GEO:53.9332706;-116.5765035
END:VEVENT
BEGIN:VEVENT
DTSTART;TZID=America/Edmonton:20280810T133000
DTEND;TZID=America/Edmonton:20280810T140000
DTSTAMP:20260422T063715
CREATED:20250723T163402Z
LAST-MODIFIED:20250723T163402Z
UID:10004550-1849527000-1849528800@lbdpcn.com
SUMMARY:Virtual Drop-In Exercise Class
DESCRIPTION:Led by the Sherwood Park PCN Exercise Specialist\, this virtual exercise class focuses on guiding you through low-impact stretches and exercises. \nClasses every Monday and Thursday.
URL:https://lbdpcn.com/events/virtual-drop-in-exercise-class/2028-08-10/
LOCATION:Virtual\, Alberta\, Canada
CATEGORIES:Basic Health Care,Exercise,Health Self Management
GEO:53.9332706;-116.5765035
END:VEVENT
BEGIN:VEVENT
DTSTART;TZID=America/Edmonton:20280814T133000
DTEND;TZID=America/Edmonton:20280814T140000
DTSTAMP:20260422T063715
CREATED:20250723T163402Z
LAST-MODIFIED:20250723T163402Z
UID:10004551-1849872600-1849874400@lbdpcn.com
SUMMARY:Virtual Drop-In Exercise Class
DESCRIPTION:Led by the Sherwood Park PCN Exercise Specialist\, this virtual exercise class focuses on guiding you through low-impact stretches and exercises. \nClasses every Monday and Thursday.
URL:https://lbdpcn.com/events/virtual-drop-in-exercise-class/2028-08-14/
LOCATION:Virtual\, Alberta\, Canada
CATEGORIES:Basic Health Care,Exercise,Health Self Management
GEO:53.9332706;-116.5765035
END:VEVENT
BEGIN:VEVENT
DTSTART;TZID=America/Edmonton:20280817T133000
DTEND;TZID=America/Edmonton:20280817T140000
DTSTAMP:20260422T063715
CREATED:20250723T163402Z
LAST-MODIFIED:20250723T163402Z
UID:10004552-1850131800-1850133600@lbdpcn.com
SUMMARY:Virtual Drop-In Exercise Class
DESCRIPTION:Led by the Sherwood Park PCN Exercise Specialist\, this virtual exercise class focuses on guiding you through low-impact stretches and exercises. \nClasses every Monday and Thursday.
URL:https://lbdpcn.com/events/virtual-drop-in-exercise-class/2028-08-17/
LOCATION:Virtual\, Alberta\, Canada
CATEGORIES:Basic Health Care,Exercise,Health Self Management
GEO:53.9332706;-116.5765035
END:VEVENT
BEGIN:VEVENT
DTSTART;TZID=America/Edmonton:20280821T133000
DTEND;TZID=America/Edmonton:20280821T140000
DTSTAMP:20260422T063715
CREATED:20250723T163402Z
LAST-MODIFIED:20250723T163402Z
UID:10004553-1850477400-1850479200@lbdpcn.com
SUMMARY:Virtual Drop-In Exercise Class
DESCRIPTION:Led by the Sherwood Park PCN Exercise Specialist\, this virtual exercise class focuses on guiding you through low-impact stretches and exercises. \nClasses every Monday and Thursday.
URL:https://lbdpcn.com/events/virtual-drop-in-exercise-class/2028-08-21/
LOCATION:Virtual\, Alberta\, Canada
CATEGORIES:Basic Health Care,Exercise,Health Self Management
GEO:53.9332706;-116.5765035
END:VEVENT
BEGIN:VEVENT
DTSTART;TZID=America/Edmonton:20280824T133000
DTEND;TZID=America/Edmonton:20280824T140000
DTSTAMP:20260422T063715
CREATED:20250723T163402Z
LAST-MODIFIED:20250723T163402Z
UID:10004554-1850736600-1850738400@lbdpcn.com
SUMMARY:Virtual Drop-In Exercise Class
DESCRIPTION:Led by the Sherwood Park PCN Exercise Specialist\, this virtual exercise class focuses on guiding you through low-impact stretches and exercises. \nClasses every Monday and Thursday.
URL:https://lbdpcn.com/events/virtual-drop-in-exercise-class/2028-08-24/
LOCATION:Virtual\, Alberta\, Canada
CATEGORIES:Basic Health Care,Exercise,Health Self Management
GEO:53.9332706;-116.5765035
END:VEVENT
BEGIN:VEVENT
DTSTART;TZID=America/Edmonton:20280828T133000
DTEND;TZID=America/Edmonton:20280828T140000
DTSTAMP:20260422T063715
CREATED:20250723T163402Z
LAST-MODIFIED:20250723T163402Z
UID:10004555-1851082200-1851084000@lbdpcn.com
SUMMARY:Virtual Drop-In Exercise Class
DESCRIPTION:Led by the Sherwood Park PCN Exercise Specialist\, this virtual exercise class focuses on guiding you through low-impact stretches and exercises. \nClasses every Monday and Thursday.
URL:https://lbdpcn.com/events/virtual-drop-in-exercise-class/2028-08-28/
LOCATION:Virtual\, Alberta\, Canada
CATEGORIES:Basic Health Care,Exercise,Health Self Management
GEO:53.9332706;-116.5765035
END:VEVENT
BEGIN:VEVENT
DTSTART;TZID=America/Edmonton:20280831T133000
DTEND;TZID=America/Edmonton:20280831T140000
DTSTAMP:20260422T063715
CREATED:20250723T163402Z
LAST-MODIFIED:20250723T163402Z
UID:10004556-1851341400-1851343200@lbdpcn.com
SUMMARY:Virtual Drop-In Exercise Class
DESCRIPTION:Led by the Sherwood Park PCN Exercise Specialist\, this virtual exercise class focuses on guiding you through low-impact stretches and exercises. \nClasses every Monday and Thursday.
URL:https://lbdpcn.com/events/virtual-drop-in-exercise-class/2028-08-31/
LOCATION:Virtual\, Alberta\, Canada
CATEGORIES:Basic Health Care,Exercise,Health Self Management
GEO:53.9332706;-116.5765035
END:VEVENT
BEGIN:VEVENT
DTSTART;TZID=America/Edmonton:20280904T133000
DTEND;TZID=America/Edmonton:20280904T140000
DTSTAMP:20260422T063715
CREATED:20250723T163402Z
LAST-MODIFIED:20250723T163402Z
UID:10004557-1851687000-1851688800@lbdpcn.com
SUMMARY:Virtual Drop-In Exercise Class
DESCRIPTION:Led by the Sherwood Park PCN Exercise Specialist\, this virtual exercise class focuses on guiding you through low-impact stretches and exercises. \nClasses every Monday and Thursday.
URL:https://lbdpcn.com/events/virtual-drop-in-exercise-class/2028-09-04/
LOCATION:Virtual\, Alberta\, Canada
CATEGORIES:Basic Health Care,Exercise,Health Self Management
GEO:53.9332706;-116.5765035
END:VEVENT
BEGIN:VEVENT
DTSTART;TZID=America/Edmonton:20280907T133000
DTEND;TZID=America/Edmonton:20280907T140000
DTSTAMP:20260422T063715
CREATED:20250723T163402Z
LAST-MODIFIED:20250723T163402Z
UID:10004558-1851946200-1851948000@lbdpcn.com
SUMMARY:Virtual Drop-In Exercise Class
DESCRIPTION:Led by the Sherwood Park PCN Exercise Specialist\, this virtual exercise class focuses on guiding you through low-impact stretches and exercises. \nClasses every Monday and Thursday.
URL:https://lbdpcn.com/events/virtual-drop-in-exercise-class/2028-09-07/
LOCATION:Virtual\, Alberta\, Canada
CATEGORIES:Basic Health Care,Exercise,Health Self Management
GEO:53.9332706;-116.5765035
END:VEVENT
BEGIN:VEVENT
DTSTART;TZID=America/Edmonton:20280911T133000
DTEND;TZID=America/Edmonton:20280911T140000
DTSTAMP:20260422T063715
CREATED:20250723T163402Z
LAST-MODIFIED:20250723T163402Z
UID:10004559-1852291800-1852293600@lbdpcn.com
SUMMARY:Virtual Drop-In Exercise Class
DESCRIPTION:Led by the Sherwood Park PCN Exercise Specialist\, this virtual exercise class focuses on guiding you through low-impact stretches and exercises. \nClasses every Monday and Thursday.
URL:https://lbdpcn.com/events/virtual-drop-in-exercise-class/2028-09-11/
LOCATION:Virtual\, Alberta\, Canada
CATEGORIES:Basic Health Care,Exercise,Health Self Management
GEO:53.9332706;-116.5765035
END:VEVENT
BEGIN:VEVENT
DTSTART;TZID=America/Edmonton:20280914T133000
DTEND;TZID=America/Edmonton:20280914T140000
DTSTAMP:20260422T063715
CREATED:20250723T163402Z
LAST-MODIFIED:20250723T163402Z
UID:10004560-1852551000-1852552800@lbdpcn.com
SUMMARY:Virtual Drop-In Exercise Class
DESCRIPTION:Led by the Sherwood Park PCN Exercise Specialist\, this virtual exercise class focuses on guiding you through low-impact stretches and exercises. \nClasses every Monday and Thursday.
URL:https://lbdpcn.com/events/virtual-drop-in-exercise-class/2028-09-14/
LOCATION:Virtual\, Alberta\, Canada
CATEGORIES:Basic Health Care,Exercise,Health Self Management
GEO:53.9332706;-116.5765035
END:VEVENT
BEGIN:VEVENT
DTSTART;TZID=America/Edmonton:20280918T133000
DTEND;TZID=America/Edmonton:20280918T140000
DTSTAMP:20260422T063715
CREATED:20250723T163402Z
LAST-MODIFIED:20250723T163402Z
UID:10004561-1852896600-1852898400@lbdpcn.com
SUMMARY:Virtual Drop-In Exercise Class
DESCRIPTION:Led by the Sherwood Park PCN Exercise Specialist\, this virtual exercise class focuses on guiding you through low-impact stretches and exercises. \nClasses every Monday and Thursday.
URL:https://lbdpcn.com/events/virtual-drop-in-exercise-class/2028-09-18/
LOCATION:Virtual\, Alberta\, Canada
CATEGORIES:Basic Health Care,Exercise,Health Self Management
GEO:53.9332706;-116.5765035
END:VEVENT
BEGIN:VEVENT
DTSTART;TZID=America/Edmonton:20280921T133000
DTEND;TZID=America/Edmonton:20280921T140000
DTSTAMP:20260422T063715
CREATED:20250723T163402Z
LAST-MODIFIED:20250723T163402Z
UID:10004562-1853155800-1853157600@lbdpcn.com
SUMMARY:Virtual Drop-In Exercise Class
DESCRIPTION:Led by the Sherwood Park PCN Exercise Specialist\, this virtual exercise class focuses on guiding you through low-impact stretches and exercises. \nClasses every Monday and Thursday.
URL:https://lbdpcn.com/events/virtual-drop-in-exercise-class/2028-09-21/
LOCATION:Virtual\, Alberta\, Canada
CATEGORIES:Basic Health Care,Exercise,Health Self Management
GEO:53.9332706;-116.5765035
END:VEVENT
BEGIN:VEVENT
DTSTART;TZID=America/Edmonton:20280925T133000
DTEND;TZID=America/Edmonton:20280925T140000
DTSTAMP:20260422T063715
CREATED:20250723T163402Z
LAST-MODIFIED:20250723T163402Z
UID:10004563-1853501400-1853503200@lbdpcn.com
SUMMARY:Virtual Drop-In Exercise Class
DESCRIPTION:Led by the Sherwood Park PCN Exercise Specialist\, this virtual exercise class focuses on guiding you through low-impact stretches and exercises. \nClasses every Monday and Thursday.
URL:https://lbdpcn.com/events/virtual-drop-in-exercise-class/2028-09-25/
LOCATION:Virtual\, Alberta\, Canada
CATEGORIES:Basic Health Care,Exercise,Health Self Management
GEO:53.9332706;-116.5765035
END:VEVENT
BEGIN:VEVENT
DTSTART;TZID=America/Edmonton:20280928T133000
DTEND;TZID=America/Edmonton:20280928T140000
DTSTAMP:20260422T063715
CREATED:20250723T163402Z
LAST-MODIFIED:20250723T163402Z
UID:10004564-1853760600-1853762400@lbdpcn.com
SUMMARY:Virtual Drop-In Exercise Class
DESCRIPTION:Led by the Sherwood Park PCN Exercise Specialist\, this virtual exercise class focuses on guiding you through low-impact stretches and exercises. \nClasses every Monday and Thursday.
URL:https://lbdpcn.com/events/virtual-drop-in-exercise-class/2028-09-28/
LOCATION:Virtual\, Alberta\, Canada
CATEGORIES:Basic Health Care,Exercise,Health Self Management
GEO:53.9332706;-116.5765035
END:VEVENT
BEGIN:VEVENT
DTSTART;TZID=America/Edmonton:20281002T133000
DTEND;TZID=America/Edmonton:20281002T140000
DTSTAMP:20260422T063715
CREATED:20250723T163402Z
LAST-MODIFIED:20250723T163402Z
UID:10004565-1854106200-1854108000@lbdpcn.com
SUMMARY:Virtual Drop-In Exercise Class
DESCRIPTION:Led by the Sherwood Park PCN Exercise Specialist\, this virtual exercise class focuses on guiding you through low-impact stretches and exercises. \nClasses every Monday and Thursday.
URL:https://lbdpcn.com/events/virtual-drop-in-exercise-class/2028-10-02/
LOCATION:Virtual\, Alberta\, Canada
CATEGORIES:Basic Health Care,Exercise,Health Self Management
GEO:53.9332706;-116.5765035
END:VEVENT
BEGIN:VEVENT
DTSTART;TZID=America/Edmonton:20281005T133000
DTEND;TZID=America/Edmonton:20281005T140000
DTSTAMP:20260422T063715
CREATED:20250723T163402Z
LAST-MODIFIED:20250723T163402Z
UID:10004566-1854365400-1854367200@lbdpcn.com
SUMMARY:Virtual Drop-In Exercise Class
DESCRIPTION:Led by the Sherwood Park PCN Exercise Specialist\, this virtual exercise class focuses on guiding you through low-impact stretches and exercises. \nClasses every Monday and Thursday.
URL:https://lbdpcn.com/events/virtual-drop-in-exercise-class/2028-10-05/
LOCATION:Virtual\, Alberta\, Canada
CATEGORIES:Basic Health Care,Exercise,Health Self Management
GEO:53.9332706;-116.5765035
END:VEVENT
BEGIN:VEVENT
DTSTART;TZID=America/Edmonton:20281009T133000
DTEND;TZID=America/Edmonton:20281009T140000
DTSTAMP:20260422T063715
CREATED:20250723T163402Z
LAST-MODIFIED:20250723T163402Z
UID:10004567-1854711000-1854712800@lbdpcn.com
SUMMARY:Virtual Drop-In Exercise Class
DESCRIPTION:Led by the Sherwood Park PCN Exercise Specialist\, this virtual exercise class focuses on guiding you through low-impact stretches and exercises. \nClasses every Monday and Thursday.
URL:https://lbdpcn.com/events/virtual-drop-in-exercise-class/2028-10-09/
LOCATION:Virtual\, Alberta\, Canada
CATEGORIES:Basic Health Care,Exercise,Health Self Management
GEO:53.9332706;-116.5765035
END:VEVENT
BEGIN:VEVENT
DTSTART;TZID=America/Edmonton:20281012T133000
DTEND;TZID=America/Edmonton:20281012T140000
DTSTAMP:20260422T063715
CREATED:20250723T163402Z
LAST-MODIFIED:20250723T163402Z
UID:10004568-1854970200-1854972000@lbdpcn.com
SUMMARY:Virtual Drop-In Exercise Class
DESCRIPTION:Led by the Sherwood Park PCN Exercise Specialist\, this virtual exercise class focuses on guiding you through low-impact stretches and exercises. \nClasses every Monday and Thursday.
URL:https://lbdpcn.com/events/virtual-drop-in-exercise-class/2028-10-12/
LOCATION:Virtual\, Alberta\, Canada
CATEGORIES:Basic Health Care,Exercise,Health Self Management
GEO:53.9332706;-116.5765035
END:VEVENT
BEGIN:VEVENT
DTSTART;TZID=America/Edmonton:20281016T133000
DTEND;TZID=America/Edmonton:20281016T140000
DTSTAMP:20260422T063715
CREATED:20250723T163402Z
LAST-MODIFIED:20250723T163402Z
UID:10004569-1855315800-1855317600@lbdpcn.com
SUMMARY:Virtual Drop-In Exercise Class
DESCRIPTION:Led by the Sherwood Park PCN Exercise Specialist\, this virtual exercise class focuses on guiding you through low-impact stretches and exercises. \nClasses every Monday and Thursday.
URL:https://lbdpcn.com/events/virtual-drop-in-exercise-class/2028-10-16/
LOCATION:Virtual\, Alberta\, Canada
CATEGORIES:Basic Health Care,Exercise,Health Self Management
GEO:53.9332706;-116.5765035
END:VEVENT
BEGIN:VEVENT
DTSTART;TZID=America/Edmonton:20281019T133000
DTEND;TZID=America/Edmonton:20281019T140000
DTSTAMP:20260422T063715
CREATED:20250723T163402Z
LAST-MODIFIED:20250723T163402Z
UID:10004570-1855575000-1855576800@lbdpcn.com
SUMMARY:Virtual Drop-In Exercise Class
DESCRIPTION:Led by the Sherwood Park PCN Exercise Specialist\, this virtual exercise class focuses on guiding you through low-impact stretches and exercises. \nClasses every Monday and Thursday.
URL:https://lbdpcn.com/events/virtual-drop-in-exercise-class/2028-10-19/
LOCATION:Virtual\, Alberta\, Canada
CATEGORIES:Basic Health Care,Exercise,Health Self Management
GEO:53.9332706;-116.5765035
END:VEVENT
BEGIN:VEVENT
DTSTART;TZID=America/Edmonton:20281023T133000
DTEND;TZID=America/Edmonton:20281023T140000
DTSTAMP:20260422T063715
CREATED:20250723T163402Z
LAST-MODIFIED:20250723T163402Z
UID:10004571-1855920600-1855922400@lbdpcn.com
SUMMARY:Virtual Drop-In Exercise Class
DESCRIPTION:Led by the Sherwood Park PCN Exercise Specialist\, this virtual exercise class focuses on guiding you through low-impact stretches and exercises. \nClasses every Monday and Thursday.
URL:https://lbdpcn.com/events/virtual-drop-in-exercise-class/2028-10-23/
LOCATION:Virtual\, Alberta\, Canada
CATEGORIES:Basic Health Care,Exercise,Health Self Management
GEO:53.9332706;-116.5765035
END:VEVENT
BEGIN:VEVENT
DTSTART;TZID=America/Edmonton:20281026T133000
DTEND;TZID=America/Edmonton:20281026T140000
DTSTAMP:20260422T063715
CREATED:20250723T163402Z
LAST-MODIFIED:20250723T163402Z
UID:10004572-1856179800-1856181600@lbdpcn.com
SUMMARY:Virtual Drop-In Exercise Class
DESCRIPTION:Led by the Sherwood Park PCN Exercise Specialist\, this virtual exercise class focuses on guiding you through low-impact stretches and exercises. \nClasses every Monday and Thursday.
URL:https://lbdpcn.com/events/virtual-drop-in-exercise-class/2028-10-26/
LOCATION:Virtual\, Alberta\, Canada
CATEGORIES:Basic Health Care,Exercise,Health Self Management
GEO:53.9332706;-116.5765035
END:VEVENT
END:VCALENDAR