BEGIN:VCALENDAR
VERSION:2.0
PRODID:-//Leduc Beaumont Devon PCN - ECPv6.15.20//NONSGML v1.0//EN
CALSCALE:GREGORIAN
METHOD:PUBLISH
X-ORIGINAL-URL:https://lbdpcn.com
X-WR-CALDESC:Events for Leduc Beaumont Devon PCN
REFRESH-INTERVAL;VALUE=DURATION:PT1H
X-Robots-Tag:noindex
X-PUBLISHED-TTL:PT1H
BEGIN:VTIMEZONE
TZID:America/Edmonton
BEGIN:DAYLIGHT
TZOFFSETFROM:-0700
TZOFFSETTO:-0600
TZNAME:MDT
DTSTART:20230312T090000
END:DAYLIGHT
BEGIN:STANDARD
TZOFFSETFROM:-0600
TZOFFSETTO:-0700
TZNAME:MST
DTSTART:20231105T080000
END:STANDARD
BEGIN:DAYLIGHT
TZOFFSETFROM:-0700
TZOFFSETTO:-0600
TZNAME:MDT
DTSTART:20240310T090000
END:DAYLIGHT
BEGIN:STANDARD
TZOFFSETFROM:-0600
TZOFFSETTO:-0700
TZNAME:MST
DTSTART:20241103T080000
END:STANDARD
BEGIN:DAYLIGHT
TZOFFSETFROM:-0700
TZOFFSETTO:-0600
TZNAME:MDT
DTSTART:20250309T090000
END:DAYLIGHT
BEGIN:STANDARD
TZOFFSETFROM:-0600
TZOFFSETTO:-0700
TZNAME:MST
DTSTART:20251102T080000
END:STANDARD
END:VTIMEZONE
BEGIN:VEVENT
DTSTART;TZID=America/Edmonton:20240304T133000
DTEND;TZID=America/Edmonton:20240304T153000
DTSTAMP:20260421T225921
CREATED:20211207T184044Z
LAST-MODIFIED:20231117T213512Z
UID:10000825-1709559000-1709566200@lbdpcn.com
SUMMARY:Happiness Basics
DESCRIPTION:Learn how to make lifestyle changes and add new habits into your everyday life to boost your overall happiness. Taking Happiness Basics has been shown to increase mood\, increase energy levels\, and boost physical and mental health. \n4-part series.
URL:https://lbdpcn.com/events/happiness-basics-3-2022-03-08/
LOCATION:Virtual\, Alberta\, Canada
CATEGORIES:Addiction and Mental Health,Basic Health Care,Health Self Management
ATTACH;FMTTYPE=image/jpeg:https://lbdpcn.com/wp-content/uploads/2023/11/Alberta-Happiness-Basics-2.jpg
GEO:53.9332706;-116.5765035
END:VEVENT
END:VCALENDAR