BEGIN:VCALENDAR
VERSION:2.0
PRODID:-//Leduc Beaumont Devon PCN - ECPv6.15.20//NONSGML v1.0//EN
CALSCALE:GREGORIAN
METHOD:PUBLISH
X-WR-CALNAME:Leduc Beaumont Devon PCN
X-ORIGINAL-URL:https://lbdpcn.com
X-WR-CALDESC:Events for Leduc Beaumont Devon PCN
REFRESH-INTERVAL;VALUE=DURATION:PT1H
X-Robots-Tag:noindex
X-PUBLISHED-TTL:PT1H
BEGIN:VTIMEZONE
TZID:America/Edmonton
BEGIN:DAYLIGHT
TZOFFSETFROM:-0700
TZOFFSETTO:-0600
TZNAME:MDT
DTSTART:20250309T090000
END:DAYLIGHT
BEGIN:STANDARD
TZOFFSETFROM:-0600
TZOFFSETTO:-0700
TZNAME:MST
DTSTART:20251102T080000
END:STANDARD
BEGIN:DAYLIGHT
TZOFFSETFROM:-0700
TZOFFSETTO:-0600
TZNAME:MDT
DTSTART:20260308T090000
END:DAYLIGHT
BEGIN:STANDARD
TZOFFSETFROM:-0600
TZOFFSETTO:-0700
TZNAME:MST
DTSTART:20261101T080000
END:STANDARD
BEGIN:DAYLIGHT
TZOFFSETFROM:-0700
TZOFFSETTO:-0600
TZNAME:MDT
DTSTART:20270314T090000
END:DAYLIGHT
BEGIN:STANDARD
TZOFFSETFROM:-0600
TZOFFSETTO:-0700
TZNAME:MST
DTSTART:20271107T080000
END:STANDARD
END:VTIMEZONE
BEGIN:VEVENT
DTSTART;TZID=America/Edmonton:20260505T173000
DTEND;TZID=America/Edmonton:20260505T193000
DTSTAMP:20260425T144058
CREATED:20250116T192054Z
LAST-MODIFIED:20260112T231514Z
UID:10004892-1778002200-1778009400@lbdpcn.com
SUMMARY:Mindful Eating Active Living
DESCRIPTION:This is a six-week program that helps you cultivate a healthy and satisfying relationship with food\, your body\, and physical activity. \nThis program challenges popular diet rules that are short-term and unsustainable and instead teaches you the skill of focusing on your body’s hunger and fullness cues to guide eating. Instead of someone else telling you what to eat\, how much weight to lose or how much exercise you need\, this program will guide you to tune into your body’s wisdom. \nThis program will encourage you to make satisfying food choices\, develop a positive body image\, and connect with your body’s need for daily movement.
URL:https://lbdpcn.com/events/mindful-eating-active-living/2026-05-05/
LOCATION:Alberta
CATEGORIES:Basic Health Care,Education,Exercise,Health Self Management,Healthy Eating,Nutrition
END:VEVENT
BEGIN:VEVENT
DTSTART;TZID=America/Edmonton:20260506T100000
DTEND;TZID=America/Edmonton:20260506T110000
DTSTAMP:20260425T144058
CREATED:20250623T221348Z
LAST-MODIFIED:20250623T221919Z
UID:10003794-1778061600-1778065200@lbdpcn.com
SUMMARY:Movers & Groovers
DESCRIPTION:Online follow-along exercise program for adults. Includes strength exercises\, balance exercises\, and stretches. \nJoin Brad\, PCN Exercise Specialist with the Wolf Creek PCN\, as he leads you through safe and appropriate exercises for a wide range of fitness levels each day.\nMovers & Groovers is a year-round drop-in class. You can attend as many times as you like. In fact\, we encourage you to attend often! \nFor more information\, visit the website at wolfcreekpcn.com/programs-and-classes/movers-and-groovers. \nJoin the class at the time of the event through the link.
URL:https://lbdpcn.com/events/movers-groovers/2026-05-06/
LOCATION:Virtual\, Alberta\, Canada
CATEGORIES:Exercise
GEO:53.9332706;-116.5765035
END:VEVENT
BEGIN:VEVENT
DTSTART;TZID=America/Edmonton:20260506T181500
DTEND;TZID=America/Edmonton:20260506T201500
DTSTAMP:20260425T144058
CREATED:20230109T185734Z
LAST-MODIFIED:20260219T204337Z
UID:10004907-1778091300-1778098500@lbdpcn.com
SUMMARY:Mindful Eating Active Living
DESCRIPTION:This is a six-week program that helps you cultivate a healthy and satisfying relationship with food\, your body\, and physical activity. \nThis program challenges popular diet rules that are short-term and unsustainable and instead teaches you the skill of focusing on your body’s hunger and fullness cues to guide eating. Instead of someone else telling you what to eat\, how much weight to lose or how much exercise you need\, this program will guide you to tune into your body’s wisdom. \nThis program will encourage you to make satisfying food choices\, develop a positive body image\, and connect with your body’s need for daily movement. \nPlease call 780-395-2626 to register.
URL:https://lbdpcn.com/events/introduction-to-mindful-eating-active-living-2/2026-05-06/
LOCATION:Edmonton Southside PCN\, 3110 Calgary Trail NW\, Edmonton\, Alberta\, T6J 6V4\, Canada
CATEGORIES:Basic Health Care,Exercise,Health Self Management,Healthy Eating,Nutrition
GEO:53.4633987;-113.4956335
X-APPLE-STRUCTURED-LOCATION;VALUE=URI;X-ADDRESS=Edmonton Southside PCN 3110 Calgary Trail NW Edmonton Alberta T6J 6V4 Canada;X-APPLE-RADIUS=500;X-TITLE=3110 Calgary Trail NW:geo:-113.4956335,53.4633987
END:VEVENT
BEGIN:VEVENT
DTSTART;TZID=America/Edmonton:20260507T133000
DTEND;TZID=America/Edmonton:20260507T140000
DTSTAMP:20260425T144058
CREATED:20250723T163402Z
LAST-MODIFIED:20250723T163402Z
UID:10004314-1778160600-1778162400@lbdpcn.com
SUMMARY:Virtual Drop-In Exercise Class
DESCRIPTION:Led by the Sherwood Park PCN Exercise Specialist\, this virtual exercise class focuses on guiding you through low-impact stretches and exercises. \nClasses every Monday and Thursday.
URL:https://lbdpcn.com/events/virtual-drop-in-exercise-class/2026-05-07/
LOCATION:Virtual\, Alberta\, Canada
CATEGORIES:Basic Health Care,Exercise,Health Self Management
GEO:53.9332706;-116.5765035
END:VEVENT
BEGIN:VEVENT
DTSTART;TZID=America/Edmonton:20260511T100000
DTEND;TZID=America/Edmonton:20260511T110000
DTSTAMP:20260425T144058
CREATED:20250623T221348Z
LAST-MODIFIED:20250623T221919Z
UID:10003795-1778493600-1778497200@lbdpcn.com
SUMMARY:Movers & Groovers
DESCRIPTION:Online follow-along exercise program for adults. Includes strength exercises\, balance exercises\, and stretches. \nJoin Brad\, PCN Exercise Specialist with the Wolf Creek PCN\, as he leads you through safe and appropriate exercises for a wide range of fitness levels each day.\nMovers & Groovers is a year-round drop-in class. You can attend as many times as you like. In fact\, we encourage you to attend often! \nFor more information\, visit the website at wolfcreekpcn.com/programs-and-classes/movers-and-groovers. \nJoin the class at the time of the event through the link.
URL:https://lbdpcn.com/events/movers-groovers/2026-05-11/
LOCATION:Virtual\, Alberta\, Canada
CATEGORIES:Exercise
GEO:53.9332706;-116.5765035
END:VEVENT
BEGIN:VEVENT
DTSTART;TZID=America/Edmonton:20260511T100000
DTEND;TZID=America/Edmonton:20260511T113000
DTSTAMP:20260425T144058
CREATED:20260219T214632Z
LAST-MODIFIED:20260415T172404Z
UID:10004932-1778493600-1778499000@lbdpcn.com
SUMMARY:My Way to Wellness: Diabetes
DESCRIPTION:This class provides an interactive\, beginner-friendly introduction to type 2 diabetes\, focusing on what diabetes is\, how insulin resistance develops\, and how high blood sugar affects the body. It empowers participants to improve their health through practical lifestyle strategies\, like nutrition and activity\, while supporting them to set personalized goals. \nWe’ll work on tools\, skills\, and discussion of food options and physical activity ideas to help you manage your diabetes symptoms and prevent complications.
URL:https://lbdpcn.com/events/my-way-to-wellness-diabetes/2026-05-11/
LOCATION:Sherwood Park PCN\, 150 Broadway Crescent #108\, Sherwood Park\, Alberta\, T8H 0V3\, Canada
CATEGORIES:Chronic Disease Management,Diabetes
GEO:53.5462517;-113.313407
X-APPLE-STRUCTURED-LOCATION;VALUE=URI;X-ADDRESS=Sherwood Park PCN 150 Broadway Crescent #108 Sherwood Park Alberta T8H 0V3 Canada;X-APPLE-RADIUS=500;X-TITLE=150 Broadway Crescent #108:geo:-113.313407,53.5462517
END:VEVENT
BEGIN:VEVENT
DTSTART;TZID=America/Edmonton:20260511T133000
DTEND;TZID=America/Edmonton:20260511T140000
DTSTAMP:20260425T144058
CREATED:20250723T163402Z
LAST-MODIFIED:20250723T163402Z
UID:10004315-1778506200-1778508000@lbdpcn.com
SUMMARY:Virtual Drop-In Exercise Class
DESCRIPTION:Led by the Sherwood Park PCN Exercise Specialist\, this virtual exercise class focuses on guiding you through low-impact stretches and exercises. \nClasses every Monday and Thursday.
URL:https://lbdpcn.com/events/virtual-drop-in-exercise-class/2026-05-11/
LOCATION:Virtual\, Alberta\, Canada
CATEGORIES:Basic Health Care,Exercise,Health Self Management
GEO:53.9332706;-116.5765035
END:VEVENT
BEGIN:VEVENT
DTSTART;TZID=America/Edmonton:20260512T100000
DTEND;TZID=America/Edmonton:20260512T120000
DTSTAMP:20260425T144058
CREATED:20250411T182446Z
LAST-MODIFIED:20250411T182446Z
UID:10003142-1778580000-1778587200@lbdpcn.com
SUMMARY:Balance 55+
DESCRIPTION:Have you ever wanted to improve your physical health but not sure where to start? Do you strive to return to sport or a favourite pastime but are limited by mobility?  \nIf you have a T5W\, T5A or T5Y postal code\, join Edmonton North PCN Exercise Specialists for Balance 55+. This class focuses on strength\, mobility\, and balance to help achieve your fitness and health goals. \n\n\n\n\n\n\n\n\nEvery Tuesday at Rundle School (11005 – 34 Street)\nNo registration required.
URL:https://lbdpcn.com/events/balance-55/2026-05-12/
LOCATION:Edmonton North PCN\, Alberta\, Canada
CATEGORIES:Basic Health Care,Education,Exercise
GEO:53.9332706;-116.5765035
END:VEVENT
BEGIN:VEVENT
DTSTART;TZID=America/Edmonton:20260512T133000
DTEND;TZID=America/Edmonton:20260512T143000
DTSTAMP:20260425T144058
CREATED:20230524T175623Z
LAST-MODIFIED:20230524T175623Z
UID:10001531-1778592600-1778596200@lbdpcn.com
SUMMARY:MOVE
DESCRIPTION:MOVE is a free weekly exercise program that gives people the opportunity to be physically active alongside an exercise specialist (kinesiologist). \nLocated at the Allin Clinic\, this class runs every Tuesday from 1:30 – 2:30 pm.
URL:https://lbdpcn.com/events/move/2026-05-12/
LOCATION:Edmonton O-day’min\, 10155 120 Street\, Edmonton\, Alberta\, Canada
CATEGORIES:Basic Health Care,Chronic Disease Management,Exercise,Health Self Management
GEO:53.5427482;-113.5281666
X-APPLE-STRUCTURED-LOCATION;VALUE=URI;X-ADDRESS=Edmonton O-day’min 10155 120 Street Edmonton Alberta Canada;X-APPLE-RADIUS=500;X-TITLE=10155 120 Street:geo:-113.5281666,53.5427482
END:VEVENT
BEGIN:VEVENT
DTSTART;TZID=America/Edmonton:20260513T100000
DTEND;TZID=America/Edmonton:20260513T110000
DTSTAMP:20260425T144058
CREATED:20250623T221348Z
LAST-MODIFIED:20250623T221919Z
UID:10003796-1778666400-1778670000@lbdpcn.com
SUMMARY:Movers & Groovers
DESCRIPTION:Online follow-along exercise program for adults. Includes strength exercises\, balance exercises\, and stretches. \nJoin Brad\, PCN Exercise Specialist with the Wolf Creek PCN\, as he leads you through safe and appropriate exercises for a wide range of fitness levels each day.\nMovers & Groovers is a year-round drop-in class. You can attend as many times as you like. In fact\, we encourage you to attend often! \nFor more information\, visit the website at wolfcreekpcn.com/programs-and-classes/movers-and-groovers. \nJoin the class at the time of the event through the link.
URL:https://lbdpcn.com/events/movers-groovers/2026-05-13/
LOCATION:Virtual\, Alberta\, Canada
CATEGORIES:Exercise
GEO:53.9332706;-116.5765035
END:VEVENT
BEGIN:VEVENT
DTSTART;TZID=America/Edmonton:20260514T133000
DTEND;TZID=America/Edmonton:20260514T140000
DTSTAMP:20260425T144058
CREATED:20250723T163402Z
LAST-MODIFIED:20250723T163402Z
UID:10004316-1778765400-1778767200@lbdpcn.com
SUMMARY:Virtual Drop-In Exercise Class
DESCRIPTION:Led by the Sherwood Park PCN Exercise Specialist\, this virtual exercise class focuses on guiding you through low-impact stretches and exercises. \nClasses every Monday and Thursday.
URL:https://lbdpcn.com/events/virtual-drop-in-exercise-class/2026-05-14/
LOCATION:Virtual\, Alberta\, Canada
CATEGORIES:Basic Health Care,Exercise,Health Self Management
GEO:53.9332706;-116.5765035
END:VEVENT
BEGIN:VEVENT
DTSTART;TZID=America/Edmonton:20260518T100000
DTEND;TZID=America/Edmonton:20260518T110000
DTSTAMP:20260425T144058
CREATED:20250623T221348Z
LAST-MODIFIED:20250623T221919Z
UID:10003797-1779098400-1779102000@lbdpcn.com
SUMMARY:Movers & Groovers
DESCRIPTION:Online follow-along exercise program for adults. Includes strength exercises\, balance exercises\, and stretches. \nJoin Brad\, PCN Exercise Specialist with the Wolf Creek PCN\, as he leads you through safe and appropriate exercises for a wide range of fitness levels each day.\nMovers & Groovers is a year-round drop-in class. You can attend as many times as you like. In fact\, we encourage you to attend often! \nFor more information\, visit the website at wolfcreekpcn.com/programs-and-classes/movers-and-groovers. \nJoin the class at the time of the event through the link.
URL:https://lbdpcn.com/events/movers-groovers/2026-05-18/
LOCATION:Virtual\, Alberta\, Canada
CATEGORIES:Exercise
GEO:53.9332706;-116.5765035
END:VEVENT
BEGIN:VEVENT
DTSTART;TZID=America/Edmonton:20260518T133000
DTEND;TZID=America/Edmonton:20260518T140000
DTSTAMP:20260425T144058
CREATED:20250723T163402Z
LAST-MODIFIED:20250723T163402Z
UID:10004317-1779111000-1779112800@lbdpcn.com
SUMMARY:Virtual Drop-In Exercise Class
DESCRIPTION:Led by the Sherwood Park PCN Exercise Specialist\, this virtual exercise class focuses on guiding you through low-impact stretches and exercises. \nClasses every Monday and Thursday.
URL:https://lbdpcn.com/events/virtual-drop-in-exercise-class/2026-05-18/
LOCATION:Virtual\, Alberta\, Canada
CATEGORIES:Basic Health Care,Exercise,Health Self Management
GEO:53.9332706;-116.5765035
END:VEVENT
BEGIN:VEVENT
DTSTART;TZID=America/Edmonton:20260519T100000
DTEND;TZID=America/Edmonton:20260519T120000
DTSTAMP:20260425T144058
CREATED:20250411T182446Z
LAST-MODIFIED:20250411T182446Z
UID:10003143-1779184800-1779192000@lbdpcn.com
SUMMARY:Balance 55+
DESCRIPTION:Have you ever wanted to improve your physical health but not sure where to start? Do you strive to return to sport or a favourite pastime but are limited by mobility?  \nIf you have a T5W\, T5A or T5Y postal code\, join Edmonton North PCN Exercise Specialists for Balance 55+. This class focuses on strength\, mobility\, and balance to help achieve your fitness and health goals. \n\n\n\n\n\n\n\n\nEvery Tuesday at Rundle School (11005 – 34 Street)\nNo registration required.
URL:https://lbdpcn.com/events/balance-55/2026-05-19/
LOCATION:Edmonton North PCN\, Alberta\, Canada
CATEGORIES:Basic Health Care,Education,Exercise
GEO:53.9332706;-116.5765035
END:VEVENT
BEGIN:VEVENT
DTSTART;TZID=America/Edmonton:20260519T133000
DTEND;TZID=America/Edmonton:20260519T143000
DTSTAMP:20260425T144058
CREATED:20230524T175623Z
LAST-MODIFIED:20230524T175623Z
UID:10001532-1779197400-1779201000@lbdpcn.com
SUMMARY:MOVE
DESCRIPTION:MOVE is a free weekly exercise program that gives people the opportunity to be physically active alongside an exercise specialist (kinesiologist). \nLocated at the Allin Clinic\, this class runs every Tuesday from 1:30 – 2:30 pm.
URL:https://lbdpcn.com/events/move/2026-05-19/
LOCATION:Edmonton O-day’min\, 10155 120 Street\, Edmonton\, Alberta\, Canada
CATEGORIES:Basic Health Care,Chronic Disease Management,Exercise,Health Self Management
GEO:53.5427482;-113.5281666
X-APPLE-STRUCTURED-LOCATION;VALUE=URI;X-ADDRESS=Edmonton O-day’min 10155 120 Street Edmonton Alberta Canada;X-APPLE-RADIUS=500;X-TITLE=10155 120 Street:geo:-113.5281666,53.5427482
END:VEVENT
BEGIN:VEVENT
DTSTART;TZID=America/Edmonton:20260520T100000
DTEND;TZID=America/Edmonton:20260520T110000
DTSTAMP:20260425T144058
CREATED:20250623T221348Z
LAST-MODIFIED:20250623T221919Z
UID:10003798-1779271200-1779274800@lbdpcn.com
SUMMARY:Movers & Groovers
DESCRIPTION:Online follow-along exercise program for adults. Includes strength exercises\, balance exercises\, and stretches. \nJoin Brad\, PCN Exercise Specialist with the Wolf Creek PCN\, as he leads you through safe and appropriate exercises for a wide range of fitness levels each day.\nMovers & Groovers is a year-round drop-in class. You can attend as many times as you like. In fact\, we encourage you to attend often! \nFor more information\, visit the website at wolfcreekpcn.com/programs-and-classes/movers-and-groovers. \nJoin the class at the time of the event through the link.
URL:https://lbdpcn.com/events/movers-groovers/2026-05-20/
LOCATION:Virtual\, Alberta\, Canada
CATEGORIES:Exercise
GEO:53.9332706;-116.5765035
END:VEVENT
BEGIN:VEVENT
DTSTART;TZID=America/Edmonton:20260521T133000
DTEND;TZID=America/Edmonton:20260521T140000
DTSTAMP:20260425T144058
CREATED:20250723T163402Z
LAST-MODIFIED:20250723T163402Z
UID:10004318-1779370200-1779372000@lbdpcn.com
SUMMARY:Virtual Drop-In Exercise Class
DESCRIPTION:Led by the Sherwood Park PCN Exercise Specialist\, this virtual exercise class focuses on guiding you through low-impact stretches and exercises. \nClasses every Monday and Thursday.
URL:https://lbdpcn.com/events/virtual-drop-in-exercise-class/2026-05-21/
LOCATION:Virtual\, Alberta\, Canada
CATEGORIES:Basic Health Care,Exercise,Health Self Management
GEO:53.9332706;-116.5765035
END:VEVENT
BEGIN:VEVENT
DTSTART;TZID=America/Edmonton:20260522T100000
DTEND;TZID=America/Edmonton:20260522T113000
DTSTAMP:20260425T144058
CREATED:20260219T214632Z
LAST-MODIFIED:20260415T172404Z
UID:10004933-1779444000-1779449400@lbdpcn.com
SUMMARY:My Way to Wellness: Diabetes
DESCRIPTION:This class provides an interactive\, beginner-friendly introduction to type 2 diabetes\, focusing on what diabetes is\, how insulin resistance develops\, and how high blood sugar affects the body. It empowers participants to improve their health through practical lifestyle strategies\, like nutrition and activity\, while supporting them to set personalized goals. \nWe’ll work on tools\, skills\, and discussion of food options and physical activity ideas to help you manage your diabetes symptoms and prevent complications.
URL:https://lbdpcn.com/events/my-way-to-wellness-diabetes/2026-05-22/
LOCATION:Sherwood Park PCN\, 150 Broadway Crescent #108\, Sherwood Park\, Alberta\, T8H 0V3\, Canada
CATEGORIES:Chronic Disease Management,Diabetes
GEO:53.5462517;-113.313407
X-APPLE-STRUCTURED-LOCATION;VALUE=URI;X-ADDRESS=Sherwood Park PCN 150 Broadway Crescent #108 Sherwood Park Alberta T8H 0V3 Canada;X-APPLE-RADIUS=500;X-TITLE=150 Broadway Crescent #108:geo:-113.313407,53.5462517
END:VEVENT
BEGIN:VEVENT
DTSTART;TZID=America/Edmonton:20260525T100000
DTEND;TZID=America/Edmonton:20260525T110000
DTSTAMP:20260425T144058
CREATED:20250623T221348Z
LAST-MODIFIED:20250623T221919Z
UID:10003799-1779703200-1779706800@lbdpcn.com
SUMMARY:Movers & Groovers
DESCRIPTION:Online follow-along exercise program for adults. Includes strength exercises\, balance exercises\, and stretches. \nJoin Brad\, PCN Exercise Specialist with the Wolf Creek PCN\, as he leads you through safe and appropriate exercises for a wide range of fitness levels each day.\nMovers & Groovers is a year-round drop-in class. You can attend as many times as you like. In fact\, we encourage you to attend often! \nFor more information\, visit the website at wolfcreekpcn.com/programs-and-classes/movers-and-groovers. \nJoin the class at the time of the event through the link.
URL:https://lbdpcn.com/events/movers-groovers/2026-05-25/
LOCATION:Virtual\, Alberta\, Canada
CATEGORIES:Exercise
GEO:53.9332706;-116.5765035
END:VEVENT
BEGIN:VEVENT
DTSTART;TZID=America/Edmonton:20260525T133000
DTEND;TZID=America/Edmonton:20260525T140000
DTSTAMP:20260425T144058
CREATED:20250723T163402Z
LAST-MODIFIED:20250723T163402Z
UID:10004319-1779715800-1779717600@lbdpcn.com
SUMMARY:Virtual Drop-In Exercise Class
DESCRIPTION:Led by the Sherwood Park PCN Exercise Specialist\, this virtual exercise class focuses on guiding you through low-impact stretches and exercises. \nClasses every Monday and Thursday.
URL:https://lbdpcn.com/events/virtual-drop-in-exercise-class/2026-05-25/
LOCATION:Virtual\, Alberta\, Canada
CATEGORIES:Basic Health Care,Exercise,Health Self Management
GEO:53.9332706;-116.5765035
END:VEVENT
BEGIN:VEVENT
DTSTART;TZID=America/Edmonton:20260526T100000
DTEND;TZID=America/Edmonton:20260526T120000
DTSTAMP:20260425T144058
CREATED:20250411T182446Z
LAST-MODIFIED:20250411T182446Z
UID:10003144-1779789600-1779796800@lbdpcn.com
SUMMARY:Balance 55+
DESCRIPTION:Have you ever wanted to improve your physical health but not sure where to start? Do you strive to return to sport or a favourite pastime but are limited by mobility?  \nIf you have a T5W\, T5A or T5Y postal code\, join Edmonton North PCN Exercise Specialists for Balance 55+. This class focuses on strength\, mobility\, and balance to help achieve your fitness and health goals. \n\n\n\n\n\n\n\n\nEvery Tuesday at Rundle School (11005 – 34 Street)\nNo registration required.
URL:https://lbdpcn.com/events/balance-55/2026-05-26/
LOCATION:Edmonton North PCN\, Alberta\, Canada
CATEGORIES:Basic Health Care,Education,Exercise
GEO:53.9332706;-116.5765035
END:VEVENT
BEGIN:VEVENT
DTSTART;TZID=America/Edmonton:20260526T133000
DTEND;TZID=America/Edmonton:20260526T143000
DTSTAMP:20260425T144058
CREATED:20230524T175623Z
LAST-MODIFIED:20230524T175623Z
UID:10001533-1779802200-1779805800@lbdpcn.com
SUMMARY:MOVE
DESCRIPTION:MOVE is a free weekly exercise program that gives people the opportunity to be physically active alongside an exercise specialist (kinesiologist). \nLocated at the Allin Clinic\, this class runs every Tuesday from 1:30 – 2:30 pm.
URL:https://lbdpcn.com/events/move/2026-05-26/
LOCATION:Edmonton O-day’min\, 10155 120 Street\, Edmonton\, Alberta\, Canada
CATEGORIES:Basic Health Care,Chronic Disease Management,Exercise,Health Self Management
GEO:53.5427482;-113.5281666
X-APPLE-STRUCTURED-LOCATION;VALUE=URI;X-ADDRESS=Edmonton O-day’min 10155 120 Street Edmonton Alberta Canada;X-APPLE-RADIUS=500;X-TITLE=10155 120 Street:geo:-113.5281666,53.5427482
END:VEVENT
BEGIN:VEVENT
DTSTART;TZID=America/Edmonton:20260527T100000
DTEND;TZID=America/Edmonton:20260527T110000
DTSTAMP:20260425T144058
CREATED:20250623T221348Z
LAST-MODIFIED:20250623T221919Z
UID:10003800-1779876000-1779879600@lbdpcn.com
SUMMARY:Movers & Groovers
DESCRIPTION:Online follow-along exercise program for adults. Includes strength exercises\, balance exercises\, and stretches. \nJoin Brad\, PCN Exercise Specialist with the Wolf Creek PCN\, as he leads you through safe and appropriate exercises for a wide range of fitness levels each day.\nMovers & Groovers is a year-round drop-in class. You can attend as many times as you like. In fact\, we encourage you to attend often! \nFor more information\, visit the website at wolfcreekpcn.com/programs-and-classes/movers-and-groovers. \nJoin the class at the time of the event through the link.
URL:https://lbdpcn.com/events/movers-groovers/2026-05-27/
LOCATION:Virtual\, Alberta\, Canada
CATEGORIES:Exercise
GEO:53.9332706;-116.5765035
END:VEVENT
BEGIN:VEVENT
DTSTART;TZID=America/Edmonton:20260528T133000
DTEND;TZID=America/Edmonton:20260528T140000
DTSTAMP:20260425T144058
CREATED:20250723T163402Z
LAST-MODIFIED:20250723T163402Z
UID:10004320-1779975000-1779976800@lbdpcn.com
SUMMARY:Virtual Drop-In Exercise Class
DESCRIPTION:Led by the Sherwood Park PCN Exercise Specialist\, this virtual exercise class focuses on guiding you through low-impact stretches and exercises. \nClasses every Monday and Thursday.
URL:https://lbdpcn.com/events/virtual-drop-in-exercise-class/2026-05-28/
LOCATION:Virtual\, Alberta\, Canada
CATEGORIES:Basic Health Care,Exercise,Health Self Management
GEO:53.9332706;-116.5765035
END:VEVENT
BEGIN:VEVENT
DTSTART;TZID=America/Edmonton:20260601T100000
DTEND;TZID=America/Edmonton:20260601T110000
DTSTAMP:20260425T144058
CREATED:20250623T221348Z
LAST-MODIFIED:20250623T221919Z
UID:10003801-1780308000-1780311600@lbdpcn.com
SUMMARY:Movers & Groovers
DESCRIPTION:Online follow-along exercise program for adults. Includes strength exercises\, balance exercises\, and stretches. \nJoin Brad\, PCN Exercise Specialist with the Wolf Creek PCN\, as he leads you through safe and appropriate exercises for a wide range of fitness levels each day.\nMovers & Groovers is a year-round drop-in class. You can attend as many times as you like. In fact\, we encourage you to attend often! \nFor more information\, visit the website at wolfcreekpcn.com/programs-and-classes/movers-and-groovers. \nJoin the class at the time of the event through the link.
URL:https://lbdpcn.com/events/movers-groovers/2026-06-01/
LOCATION:Virtual\, Alberta\, Canada
CATEGORIES:Exercise
GEO:53.9332706;-116.5765035
END:VEVENT
BEGIN:VEVENT
DTSTART;TZID=America/Edmonton:20260601T133000
DTEND;TZID=America/Edmonton:20260601T140000
DTSTAMP:20260425T144058
CREATED:20250723T163402Z
LAST-MODIFIED:20250723T163402Z
UID:10004321-1780320600-1780322400@lbdpcn.com
SUMMARY:Virtual Drop-In Exercise Class
DESCRIPTION:Led by the Sherwood Park PCN Exercise Specialist\, this virtual exercise class focuses on guiding you through low-impact stretches and exercises. \nClasses every Monday and Thursday.
URL:https://lbdpcn.com/events/virtual-drop-in-exercise-class/2026-06-01/
LOCATION:Virtual\, Alberta\, Canada
CATEGORIES:Basic Health Care,Exercise,Health Self Management
GEO:53.9332706;-116.5765035
END:VEVENT
BEGIN:VEVENT
DTSTART;TZID=America/Edmonton:20260602T100000
DTEND;TZID=America/Edmonton:20260602T120000
DTSTAMP:20260425T144058
CREATED:20250411T182446Z
LAST-MODIFIED:20250411T182446Z
UID:10003145-1780394400-1780401600@lbdpcn.com
SUMMARY:Balance 55+
DESCRIPTION:Have you ever wanted to improve your physical health but not sure where to start? Do you strive to return to sport or a favourite pastime but are limited by mobility?  \nIf you have a T5W\, T5A or T5Y postal code\, join Edmonton North PCN Exercise Specialists for Balance 55+. This class focuses on strength\, mobility\, and balance to help achieve your fitness and health goals. \n\n\n\n\n\n\n\n\nEvery Tuesday at Rundle School (11005 – 34 Street)\nNo registration required.
URL:https://lbdpcn.com/events/balance-55/2026-06-02/
LOCATION:Edmonton North PCN\, Alberta\, Canada
CATEGORIES:Basic Health Care,Education,Exercise
GEO:53.9332706;-116.5765035
END:VEVENT
BEGIN:VEVENT
DTSTART;TZID=America/Edmonton:20260602T133000
DTEND;TZID=America/Edmonton:20260602T143000
DTSTAMP:20260425T144058
CREATED:20230524T175623Z
LAST-MODIFIED:20230524T175623Z
UID:10001534-1780407000-1780410600@lbdpcn.com
SUMMARY:MOVE
DESCRIPTION:MOVE is a free weekly exercise program that gives people the opportunity to be physically active alongside an exercise specialist (kinesiologist). \nLocated at the Allin Clinic\, this class runs every Tuesday from 1:30 – 2:30 pm.
URL:https://lbdpcn.com/events/move/2026-06-02/
LOCATION:Edmonton O-day’min\, 10155 120 Street\, Edmonton\, Alberta\, Canada
CATEGORIES:Basic Health Care,Chronic Disease Management,Exercise,Health Self Management
GEO:53.5427482;-113.5281666
X-APPLE-STRUCTURED-LOCATION;VALUE=URI;X-ADDRESS=Edmonton O-day’min 10155 120 Street Edmonton Alberta Canada;X-APPLE-RADIUS=500;X-TITLE=10155 120 Street:geo:-113.5281666,53.5427482
END:VEVENT
BEGIN:VEVENT
DTSTART;TZID=America/Edmonton:20260603T100000
DTEND;TZID=America/Edmonton:20260603T110000
DTSTAMP:20260425T144058
CREATED:20250623T221348Z
LAST-MODIFIED:20250623T221919Z
UID:10003802-1780480800-1780484400@lbdpcn.com
SUMMARY:Movers & Groovers
DESCRIPTION:Online follow-along exercise program for adults. Includes strength exercises\, balance exercises\, and stretches. \nJoin Brad\, PCN Exercise Specialist with the Wolf Creek PCN\, as he leads you through safe and appropriate exercises for a wide range of fitness levels each day.\nMovers & Groovers is a year-round drop-in class. You can attend as many times as you like. In fact\, we encourage you to attend often! \nFor more information\, visit the website at wolfcreekpcn.com/programs-and-classes/movers-and-groovers. \nJoin the class at the time of the event through the link.
URL:https://lbdpcn.com/events/movers-groovers/2026-06-03/
LOCATION:Virtual\, Alberta\, Canada
CATEGORIES:Exercise
GEO:53.9332706;-116.5765035
END:VEVENT
BEGIN:VEVENT
DTSTART;TZID=America/Edmonton:20260603T133000
DTEND;TZID=America/Edmonton:20260603T150000
DTSTAMP:20260425T144058
CREATED:20260219T214632Z
LAST-MODIFIED:20260415T172404Z
UID:10004934-1780493400-1780498800@lbdpcn.com
SUMMARY:My Way to Wellness: Diabetes
DESCRIPTION:This class provides an interactive\, beginner-friendly introduction to type 2 diabetes\, focusing on what diabetes is\, how insulin resistance develops\, and how high blood sugar affects the body. It empowers participants to improve their health through practical lifestyle strategies\, like nutrition and activity\, while supporting them to set personalized goals. \nWe’ll work on tools\, skills\, and discussion of food options and physical activity ideas to help you manage your diabetes symptoms and prevent complications.
URL:https://lbdpcn.com/events/my-way-to-wellness-diabetes/2026-06-03/
LOCATION:Sherwood Park PCN\, 150 Broadway Crescent #108\, Sherwood Park\, Alberta\, T8H 0V3\, Canada
CATEGORIES:Chronic Disease Management,Diabetes
GEO:53.5462517;-113.313407
X-APPLE-STRUCTURED-LOCATION;VALUE=URI;X-ADDRESS=Sherwood Park PCN 150 Broadway Crescent #108 Sherwood Park Alberta T8H 0V3 Canada;X-APPLE-RADIUS=500;X-TITLE=150 Broadway Crescent #108:geo:-113.313407,53.5462517
END:VEVENT
END:VCALENDAR