BEGIN:VCALENDAR
VERSION:2.0
PRODID:-//Leduc Beaumont Devon PCN - ECPv6.15.20//NONSGML v1.0//EN
CALSCALE:GREGORIAN
METHOD:PUBLISH
X-WR-CALNAME:Leduc Beaumont Devon PCN
X-ORIGINAL-URL:https://lbdpcn.com
X-WR-CALDESC:Events for Leduc Beaumont Devon PCN
REFRESH-INTERVAL;VALUE=DURATION:PT1H
X-Robots-Tag:noindex
X-PUBLISHED-TTL:PT1H
BEGIN:VTIMEZONE
TZID:America/Edmonton
BEGIN:DAYLIGHT
TZOFFSETFROM:-0700
TZOFFSETTO:-0600
TZNAME:MDT
DTSTART:20290311T090000
END:DAYLIGHT
BEGIN:STANDARD
TZOFFSETFROM:-0600
TZOFFSETTO:-0700
TZNAME:MST
DTSTART:20291104T080000
END:STANDARD
BEGIN:DAYLIGHT
TZOFFSETFROM:-0700
TZOFFSETTO:-0600
TZNAME:MDT
DTSTART:20300310T090000
END:DAYLIGHT
BEGIN:STANDARD
TZOFFSETFROM:-0600
TZOFFSETTO:-0700
TZNAME:MST
DTSTART:20301103T080000
END:STANDARD
BEGIN:DAYLIGHT
TZOFFSETFROM:-0700
TZOFFSETTO:-0600
TZNAME:MDT
DTSTART:20310309T090000
END:DAYLIGHT
BEGIN:STANDARD
TZOFFSETFROM:-0600
TZOFFSETTO:-0700
TZNAME:MST
DTSTART:20311102T080000
END:STANDARD
END:VTIMEZONE
BEGIN:VEVENT
DTSTART;TZID=America/Edmonton:20300304T133000
DTEND;TZID=America/Edmonton:20300304T140000
DTSTAMP:20260423T155450
CREATED:20250723T163402Z
LAST-MODIFIED:20250723T163402Z
UID:10004713-1898861400-1898863200@lbdpcn.com
SUMMARY:Virtual Drop-In Exercise Class
DESCRIPTION:Led by the Sherwood Park PCN Exercise Specialist\, this virtual exercise class focuses on guiding you through low-impact stretches and exercises. \nClasses every Monday and Thursday.
URL:https://lbdpcn.com/events/virtual-drop-in-exercise-class/2030-03-04/
LOCATION:Virtual\, Alberta\, Canada
CATEGORIES:Basic Health Care,Exercise,Health Self Management
GEO:53.9332706;-116.5765035
END:VEVENT
BEGIN:VEVENT
DTSTART;TZID=America/Edmonton:20300307T133000
DTEND;TZID=America/Edmonton:20300307T140000
DTSTAMP:20260423T155450
CREATED:20250723T163402Z
LAST-MODIFIED:20250723T163402Z
UID:10004714-1899120600-1899122400@lbdpcn.com
SUMMARY:Virtual Drop-In Exercise Class
DESCRIPTION:Led by the Sherwood Park PCN Exercise Specialist\, this virtual exercise class focuses on guiding you through low-impact stretches and exercises. \nClasses every Monday and Thursday.
URL:https://lbdpcn.com/events/virtual-drop-in-exercise-class/2030-03-07/
LOCATION:Virtual\, Alberta\, Canada
CATEGORIES:Basic Health Care,Exercise,Health Self Management
GEO:53.9332706;-116.5765035
END:VEVENT
BEGIN:VEVENT
DTSTART;TZID=America/Edmonton:20300311T133000
DTEND;TZID=America/Edmonton:20300311T140000
DTSTAMP:20260423T155450
CREATED:20250723T163402Z
LAST-MODIFIED:20250723T163402Z
UID:10004715-1899466200-1899468000@lbdpcn.com
SUMMARY:Virtual Drop-In Exercise Class
DESCRIPTION:Led by the Sherwood Park PCN Exercise Specialist\, this virtual exercise class focuses on guiding you through low-impact stretches and exercises. \nClasses every Monday and Thursday.
URL:https://lbdpcn.com/events/virtual-drop-in-exercise-class/2030-03-11/
LOCATION:Virtual\, Alberta\, Canada
CATEGORIES:Basic Health Care,Exercise,Health Self Management
GEO:53.9332706;-116.5765035
END:VEVENT
BEGIN:VEVENT
DTSTART;TZID=America/Edmonton:20300314T133000
DTEND;TZID=America/Edmonton:20300314T140000
DTSTAMP:20260423T155450
CREATED:20250723T163402Z
LAST-MODIFIED:20250723T163402Z
UID:10004716-1899725400-1899727200@lbdpcn.com
SUMMARY:Virtual Drop-In Exercise Class
DESCRIPTION:Led by the Sherwood Park PCN Exercise Specialist\, this virtual exercise class focuses on guiding you through low-impact stretches and exercises. \nClasses every Monday and Thursday.
URL:https://lbdpcn.com/events/virtual-drop-in-exercise-class/2030-03-14/
LOCATION:Virtual\, Alberta\, Canada
CATEGORIES:Basic Health Care,Exercise,Health Self Management
GEO:53.9332706;-116.5765035
END:VEVENT
BEGIN:VEVENT
DTSTART;TZID=America/Edmonton:20300318T133000
DTEND;TZID=America/Edmonton:20300318T140000
DTSTAMP:20260423T155450
CREATED:20250723T163402Z
LAST-MODIFIED:20250723T163402Z
UID:10004717-1900071000-1900072800@lbdpcn.com
SUMMARY:Virtual Drop-In Exercise Class
DESCRIPTION:Led by the Sherwood Park PCN Exercise Specialist\, this virtual exercise class focuses on guiding you through low-impact stretches and exercises. \nClasses every Monday and Thursday.
URL:https://lbdpcn.com/events/virtual-drop-in-exercise-class/2030-03-18/
LOCATION:Virtual\, Alberta\, Canada
CATEGORIES:Basic Health Care,Exercise,Health Self Management
GEO:53.9332706;-116.5765035
END:VEVENT
BEGIN:VEVENT
DTSTART;TZID=America/Edmonton:20300321T133000
DTEND;TZID=America/Edmonton:20300321T140000
DTSTAMP:20260423T155450
CREATED:20250723T163402Z
LAST-MODIFIED:20250723T163402Z
UID:10004718-1900330200-1900332000@lbdpcn.com
SUMMARY:Virtual Drop-In Exercise Class
DESCRIPTION:Led by the Sherwood Park PCN Exercise Specialist\, this virtual exercise class focuses on guiding you through low-impact stretches and exercises. \nClasses every Monday and Thursday.
URL:https://lbdpcn.com/events/virtual-drop-in-exercise-class/2030-03-21/
LOCATION:Virtual\, Alberta\, Canada
CATEGORIES:Basic Health Care,Exercise,Health Self Management
GEO:53.9332706;-116.5765035
END:VEVENT
BEGIN:VEVENT
DTSTART;TZID=America/Edmonton:20300325T133000
DTEND;TZID=America/Edmonton:20300325T140000
DTSTAMP:20260423T155450
CREATED:20250723T163402Z
LAST-MODIFIED:20250723T163402Z
UID:10004719-1900675800-1900677600@lbdpcn.com
SUMMARY:Virtual Drop-In Exercise Class
DESCRIPTION:Led by the Sherwood Park PCN Exercise Specialist\, this virtual exercise class focuses on guiding you through low-impact stretches and exercises. \nClasses every Monday and Thursday.
URL:https://lbdpcn.com/events/virtual-drop-in-exercise-class/2030-03-25/
LOCATION:Virtual\, Alberta\, Canada
CATEGORIES:Basic Health Care,Exercise,Health Self Management
GEO:53.9332706;-116.5765035
END:VEVENT
BEGIN:VEVENT
DTSTART;TZID=America/Edmonton:20300328T133000
DTEND;TZID=America/Edmonton:20300328T140000
DTSTAMP:20260423T155450
CREATED:20250723T163402Z
LAST-MODIFIED:20250723T163402Z
UID:10004720-1900935000-1900936800@lbdpcn.com
SUMMARY:Virtual Drop-In Exercise Class
DESCRIPTION:Led by the Sherwood Park PCN Exercise Specialist\, this virtual exercise class focuses on guiding you through low-impact stretches and exercises. \nClasses every Monday and Thursday.
URL:https://lbdpcn.com/events/virtual-drop-in-exercise-class/2030-03-28/
LOCATION:Virtual\, Alberta\, Canada
CATEGORIES:Basic Health Care,Exercise,Health Self Management
GEO:53.9332706;-116.5765035
END:VEVENT
END:VCALENDAR