BEGIN:VCALENDAR
VERSION:2.0
PRODID:-//Leduc Beaumont Devon PCN - ECPv6.15.20//NONSGML v1.0//EN
CALSCALE:GREGORIAN
METHOD:PUBLISH
X-ORIGINAL-URL:https://lbdpcn.com
X-WR-CALDESC:Events for Leduc Beaumont Devon PCN
REFRESH-INTERVAL;VALUE=DURATION:PT1H
X-Robots-Tag:noindex
X-PUBLISHED-TTL:PT1H
BEGIN:VTIMEZONE
TZID:America/Edmonton
BEGIN:DAYLIGHT
TZOFFSETFROM:-0700
TZOFFSETTO:-0600
TZNAME:MDT
DTSTART:20280312T090000
END:DAYLIGHT
BEGIN:STANDARD
TZOFFSETFROM:-0600
TZOFFSETTO:-0700
TZNAME:MST
DTSTART:20281105T080000
END:STANDARD
BEGIN:DAYLIGHT
TZOFFSETFROM:-0700
TZOFFSETTO:-0600
TZNAME:MDT
DTSTART:20290311T090000
END:DAYLIGHT
BEGIN:STANDARD
TZOFFSETFROM:-0600
TZOFFSETTO:-0700
TZNAME:MST
DTSTART:20291104T080000
END:STANDARD
BEGIN:DAYLIGHT
TZOFFSETFROM:-0700
TZOFFSETTO:-0600
TZNAME:MDT
DTSTART:20300310T090000
END:DAYLIGHT
BEGIN:STANDARD
TZOFFSETFROM:-0600
TZOFFSETTO:-0700
TZNAME:MST
DTSTART:20301103T080000
END:STANDARD
END:VTIMEZONE
BEGIN:VEVENT
DTSTART;TZID=America/Edmonton:20291203T133000
DTEND;TZID=America/Edmonton:20291203T140000
DTSTAMP:20260423T114414
CREATED:20250723T163402Z
LAST-MODIFIED:20250723T163402Z
UID:10004687-1890999000-1891000800@lbdpcn.com
SUMMARY:Virtual Drop-In Exercise Class
DESCRIPTION:Led by the Sherwood Park PCN Exercise Specialist\, this virtual exercise class focuses on guiding you through low-impact stretches and exercises. \nClasses every Monday and Thursday.
URL:https://lbdpcn.com/events/virtual-drop-in-exercise-class/2029-12-03/
LOCATION:Virtual\, Alberta\, Canada
CATEGORIES:Basic Health Care,Exercise,Health Self Management
GEO:53.9332706;-116.5765035
END:VEVENT
BEGIN:VEVENT
DTSTART;TZID=America/Edmonton:20291206T133000
DTEND;TZID=America/Edmonton:20291206T140000
DTSTAMP:20260423T114414
CREATED:20250723T163402Z
LAST-MODIFIED:20250723T163402Z
UID:10004688-1891258200-1891260000@lbdpcn.com
SUMMARY:Virtual Drop-In Exercise Class
DESCRIPTION:Led by the Sherwood Park PCN Exercise Specialist\, this virtual exercise class focuses on guiding you through low-impact stretches and exercises. \nClasses every Monday and Thursday.
URL:https://lbdpcn.com/events/virtual-drop-in-exercise-class/2029-12-06/
LOCATION:Virtual\, Alberta\, Canada
CATEGORIES:Basic Health Care,Exercise,Health Self Management
GEO:53.9332706;-116.5765035
END:VEVENT
BEGIN:VEVENT
DTSTART;TZID=America/Edmonton:20291210T133000
DTEND;TZID=America/Edmonton:20291210T140000
DTSTAMP:20260423T114414
CREATED:20250723T163402Z
LAST-MODIFIED:20250723T163402Z
UID:10004689-1891603800-1891605600@lbdpcn.com
SUMMARY:Virtual Drop-In Exercise Class
DESCRIPTION:Led by the Sherwood Park PCN Exercise Specialist\, this virtual exercise class focuses on guiding you through low-impact stretches and exercises. \nClasses every Monday and Thursday.
URL:https://lbdpcn.com/events/virtual-drop-in-exercise-class/2029-12-10/
LOCATION:Virtual\, Alberta\, Canada
CATEGORIES:Basic Health Care,Exercise,Health Self Management
GEO:53.9332706;-116.5765035
END:VEVENT
BEGIN:VEVENT
DTSTART;TZID=America/Edmonton:20291213T133000
DTEND;TZID=America/Edmonton:20291213T140000
DTSTAMP:20260423T114414
CREATED:20250723T163402Z
LAST-MODIFIED:20250723T163402Z
UID:10004690-1891863000-1891864800@lbdpcn.com
SUMMARY:Virtual Drop-In Exercise Class
DESCRIPTION:Led by the Sherwood Park PCN Exercise Specialist\, this virtual exercise class focuses on guiding you through low-impact stretches and exercises. \nClasses every Monday and Thursday.
URL:https://lbdpcn.com/events/virtual-drop-in-exercise-class/2029-12-13/
LOCATION:Virtual\, Alberta\, Canada
CATEGORIES:Basic Health Care,Exercise,Health Self Management
GEO:53.9332706;-116.5765035
END:VEVENT
BEGIN:VEVENT
DTSTART;TZID=America/Edmonton:20291217T133000
DTEND;TZID=America/Edmonton:20291217T140000
DTSTAMP:20260423T114414
CREATED:20250723T163402Z
LAST-MODIFIED:20250723T163402Z
UID:10004691-1892208600-1892210400@lbdpcn.com
SUMMARY:Virtual Drop-In Exercise Class
DESCRIPTION:Led by the Sherwood Park PCN Exercise Specialist\, this virtual exercise class focuses on guiding you through low-impact stretches and exercises. \nClasses every Monday and Thursday.
URL:https://lbdpcn.com/events/virtual-drop-in-exercise-class/2029-12-17/
LOCATION:Virtual\, Alberta\, Canada
CATEGORIES:Basic Health Care,Exercise,Health Self Management
GEO:53.9332706;-116.5765035
END:VEVENT
BEGIN:VEVENT
DTSTART;TZID=America/Edmonton:20291220T133000
DTEND;TZID=America/Edmonton:20291220T140000
DTSTAMP:20260423T114414
CREATED:20250723T163402Z
LAST-MODIFIED:20250723T163402Z
UID:10004692-1892467800-1892469600@lbdpcn.com
SUMMARY:Virtual Drop-In Exercise Class
DESCRIPTION:Led by the Sherwood Park PCN Exercise Specialist\, this virtual exercise class focuses on guiding you through low-impact stretches and exercises. \nClasses every Monday and Thursday.
URL:https://lbdpcn.com/events/virtual-drop-in-exercise-class/2029-12-20/
LOCATION:Virtual\, Alberta\, Canada
CATEGORIES:Basic Health Care,Exercise,Health Self Management
GEO:53.9332706;-116.5765035
END:VEVENT
BEGIN:VEVENT
DTSTART;TZID=America/Edmonton:20291224T133000
DTEND;TZID=America/Edmonton:20291224T140000
DTSTAMP:20260423T114414
CREATED:20250723T163402Z
LAST-MODIFIED:20250723T163402Z
UID:10004693-1892813400-1892815200@lbdpcn.com
SUMMARY:Virtual Drop-In Exercise Class
DESCRIPTION:Led by the Sherwood Park PCN Exercise Specialist\, this virtual exercise class focuses on guiding you through low-impact stretches and exercises. \nClasses every Monday and Thursday.
URL:https://lbdpcn.com/events/virtual-drop-in-exercise-class/2029-12-24/
LOCATION:Virtual\, Alberta\, Canada
CATEGORIES:Basic Health Care,Exercise,Health Self Management
GEO:53.9332706;-116.5765035
END:VEVENT
BEGIN:VEVENT
DTSTART;TZID=America/Edmonton:20291227T133000
DTEND;TZID=America/Edmonton:20291227T140000
DTSTAMP:20260423T114414
CREATED:20250723T163402Z
LAST-MODIFIED:20250723T163402Z
UID:10004694-1893072600-1893074400@lbdpcn.com
SUMMARY:Virtual Drop-In Exercise Class
DESCRIPTION:Led by the Sherwood Park PCN Exercise Specialist\, this virtual exercise class focuses on guiding you through low-impact stretches and exercises. \nClasses every Monday and Thursday.
URL:https://lbdpcn.com/events/virtual-drop-in-exercise-class/2029-12-27/
LOCATION:Virtual\, Alberta\, Canada
CATEGORIES:Basic Health Care,Exercise,Health Self Management
GEO:53.9332706;-116.5765035
END:VEVENT
BEGIN:VEVENT
DTSTART;TZID=America/Edmonton:20291231T133000
DTEND;TZID=America/Edmonton:20291231T140000
DTSTAMP:20260423T114414
CREATED:20250723T163402Z
LAST-MODIFIED:20250723T163402Z
UID:10004695-1893418200-1893420000@lbdpcn.com
SUMMARY:Virtual Drop-In Exercise Class
DESCRIPTION:Led by the Sherwood Park PCN Exercise Specialist\, this virtual exercise class focuses on guiding you through low-impact stretches and exercises. \nClasses every Monday and Thursday.
URL:https://lbdpcn.com/events/virtual-drop-in-exercise-class/2029-12-31/
LOCATION:Virtual\, Alberta\, Canada
CATEGORIES:Basic Health Care,Exercise,Health Self Management
GEO:53.9332706;-116.5765035
END:VEVENT
END:VCALENDAR