BEGIN:VCALENDAR
VERSION:2.0
PRODID:-//Leduc Beaumont Devon PCN - ECPv6.15.20//NONSGML v1.0//EN
CALSCALE:GREGORIAN
METHOD:PUBLISH
X-ORIGINAL-URL:https://lbdpcn.com
X-WR-CALDESC:Events for Leduc Beaumont Devon PCN
REFRESH-INTERVAL;VALUE=DURATION:PT1H
X-Robots-Tag:noindex
X-PUBLISHED-TTL:PT1H
BEGIN:VTIMEZONE
TZID:America/Edmonton
BEGIN:DAYLIGHT
TZOFFSETFROM:-0700
TZOFFSETTO:-0600
TZNAME:MDT
DTSTART:20280312T090000
END:DAYLIGHT
BEGIN:STANDARD
TZOFFSETFROM:-0600
TZOFFSETTO:-0700
TZNAME:MST
DTSTART:20281105T080000
END:STANDARD
BEGIN:DAYLIGHT
TZOFFSETFROM:-0700
TZOFFSETTO:-0600
TZNAME:MDT
DTSTART:20290311T090000
END:DAYLIGHT
BEGIN:STANDARD
TZOFFSETFROM:-0600
TZOFFSETTO:-0700
TZNAME:MST
DTSTART:20291104T080000
END:STANDARD
BEGIN:DAYLIGHT
TZOFFSETFROM:-0700
TZOFFSETTO:-0600
TZNAME:MDT
DTSTART:20300310T090000
END:DAYLIGHT
BEGIN:STANDARD
TZOFFSETFROM:-0600
TZOFFSETTO:-0700
TZNAME:MST
DTSTART:20301103T080000
END:STANDARD
END:VTIMEZONE
BEGIN:VEVENT
DTSTART;TZID=America/Edmonton:20290201T133000
DTEND;TZID=America/Edmonton:20290201T140000
DTSTAMP:20260422T211135
CREATED:20250723T163402Z
LAST-MODIFIED:20250723T163402Z
UID:10004600-1864647000-1864648800@lbdpcn.com
SUMMARY:Virtual Drop-In Exercise Class
DESCRIPTION:Led by the Sherwood Park PCN Exercise Specialist\, this virtual exercise class focuses on guiding you through low-impact stretches and exercises. \nClasses every Monday and Thursday.
URL:https://lbdpcn.com/events/virtual-drop-in-exercise-class/2029-02-01/
LOCATION:Virtual\, Alberta\, Canada
CATEGORIES:Basic Health Care,Exercise,Health Self Management
GEO:53.9332706;-116.5765035
END:VEVENT
BEGIN:VEVENT
DTSTART;TZID=America/Edmonton:20290205T133000
DTEND;TZID=America/Edmonton:20290205T140000
DTSTAMP:20260422T211135
CREATED:20250723T163402Z
LAST-MODIFIED:20250723T163402Z
UID:10004601-1864992600-1864994400@lbdpcn.com
SUMMARY:Virtual Drop-In Exercise Class
DESCRIPTION:Led by the Sherwood Park PCN Exercise Specialist\, this virtual exercise class focuses on guiding you through low-impact stretches and exercises. \nClasses every Monday and Thursday.
URL:https://lbdpcn.com/events/virtual-drop-in-exercise-class/2029-02-05/
LOCATION:Virtual\, Alberta\, Canada
CATEGORIES:Basic Health Care,Exercise,Health Self Management
GEO:53.9332706;-116.5765035
END:VEVENT
BEGIN:VEVENT
DTSTART;TZID=America/Edmonton:20290208T133000
DTEND;TZID=America/Edmonton:20290208T140000
DTSTAMP:20260422T211135
CREATED:20250723T163402Z
LAST-MODIFIED:20250723T163402Z
UID:10004602-1865251800-1865253600@lbdpcn.com
SUMMARY:Virtual Drop-In Exercise Class
DESCRIPTION:Led by the Sherwood Park PCN Exercise Specialist\, this virtual exercise class focuses on guiding you through low-impact stretches and exercises. \nClasses every Monday and Thursday.
URL:https://lbdpcn.com/events/virtual-drop-in-exercise-class/2029-02-08/
LOCATION:Virtual\, Alberta\, Canada
CATEGORIES:Basic Health Care,Exercise,Health Self Management
GEO:53.9332706;-116.5765035
END:VEVENT
BEGIN:VEVENT
DTSTART;TZID=America/Edmonton:20290212T133000
DTEND;TZID=America/Edmonton:20290212T140000
DTSTAMP:20260422T211135
CREATED:20250723T163402Z
LAST-MODIFIED:20250723T163402Z
UID:10004603-1865597400-1865599200@lbdpcn.com
SUMMARY:Virtual Drop-In Exercise Class
DESCRIPTION:Led by the Sherwood Park PCN Exercise Specialist\, this virtual exercise class focuses on guiding you through low-impact stretches and exercises. \nClasses every Monday and Thursday.
URL:https://lbdpcn.com/events/virtual-drop-in-exercise-class/2029-02-12/
LOCATION:Virtual\, Alberta\, Canada
CATEGORIES:Basic Health Care,Exercise,Health Self Management
GEO:53.9332706;-116.5765035
END:VEVENT
BEGIN:VEVENT
DTSTART;TZID=America/Edmonton:20290215T133000
DTEND;TZID=America/Edmonton:20290215T140000
DTSTAMP:20260422T211135
CREATED:20250723T163402Z
LAST-MODIFIED:20250723T163402Z
UID:10004604-1865856600-1865858400@lbdpcn.com
SUMMARY:Virtual Drop-In Exercise Class
DESCRIPTION:Led by the Sherwood Park PCN Exercise Specialist\, this virtual exercise class focuses on guiding you through low-impact stretches and exercises. \nClasses every Monday and Thursday.
URL:https://lbdpcn.com/events/virtual-drop-in-exercise-class/2029-02-15/
LOCATION:Virtual\, Alberta\, Canada
CATEGORIES:Basic Health Care,Exercise,Health Self Management
GEO:53.9332706;-116.5765035
END:VEVENT
BEGIN:VEVENT
DTSTART;TZID=America/Edmonton:20290219T133000
DTEND;TZID=America/Edmonton:20290219T140000
DTSTAMP:20260422T211135
CREATED:20250723T163402Z
LAST-MODIFIED:20250723T163402Z
UID:10004605-1866202200-1866204000@lbdpcn.com
SUMMARY:Virtual Drop-In Exercise Class
DESCRIPTION:Led by the Sherwood Park PCN Exercise Specialist\, this virtual exercise class focuses on guiding you through low-impact stretches and exercises. \nClasses every Monday and Thursday.
URL:https://lbdpcn.com/events/virtual-drop-in-exercise-class/2029-02-19/
LOCATION:Virtual\, Alberta\, Canada
CATEGORIES:Basic Health Care,Exercise,Health Self Management
GEO:53.9332706;-116.5765035
END:VEVENT
BEGIN:VEVENT
DTSTART;TZID=America/Edmonton:20290222T133000
DTEND;TZID=America/Edmonton:20290222T140000
DTSTAMP:20260422T211135
CREATED:20250723T163402Z
LAST-MODIFIED:20250723T163402Z
UID:10004606-1866461400-1866463200@lbdpcn.com
SUMMARY:Virtual Drop-In Exercise Class
DESCRIPTION:Led by the Sherwood Park PCN Exercise Specialist\, this virtual exercise class focuses on guiding you through low-impact stretches and exercises. \nClasses every Monday and Thursday.
URL:https://lbdpcn.com/events/virtual-drop-in-exercise-class/2029-02-22/
LOCATION:Virtual\, Alberta\, Canada
CATEGORIES:Basic Health Care,Exercise,Health Self Management
GEO:53.9332706;-116.5765035
END:VEVENT
BEGIN:VEVENT
DTSTART;TZID=America/Edmonton:20290226T133000
DTEND;TZID=America/Edmonton:20290226T140000
DTSTAMP:20260422T211135
CREATED:20250723T163402Z
LAST-MODIFIED:20250723T163402Z
UID:10004607-1866807000-1866808800@lbdpcn.com
SUMMARY:Virtual Drop-In Exercise Class
DESCRIPTION:Led by the Sherwood Park PCN Exercise Specialist\, this virtual exercise class focuses on guiding you through low-impact stretches and exercises. \nClasses every Monday and Thursday.
URL:https://lbdpcn.com/events/virtual-drop-in-exercise-class/2029-02-26/
LOCATION:Virtual\, Alberta\, Canada
CATEGORIES:Basic Health Care,Exercise,Health Self Management
GEO:53.9332706;-116.5765035
END:VEVENT
END:VCALENDAR