BEGIN:VCALENDAR
VERSION:2.0
PRODID:-//Leduc Beaumont Devon PCN - ECPv6.15.20//NONSGML v1.0//EN
CALSCALE:GREGORIAN
METHOD:PUBLISH
X-ORIGINAL-URL:https://lbdpcn.com
X-WR-CALDESC:Events for Leduc Beaumont Devon PCN
REFRESH-INTERVAL;VALUE=DURATION:PT1H
X-Robots-Tag:noindex
X-PUBLISHED-TTL:PT1H
BEGIN:VTIMEZONE
TZID:America/Edmonton
BEGIN:DAYLIGHT
TZOFFSETFROM:-0700
TZOFFSETTO:-0600
TZNAME:MDT
DTSTART:20260308T090000
END:DAYLIGHT
BEGIN:STANDARD
TZOFFSETFROM:-0600
TZOFFSETTO:-0700
TZNAME:MST
DTSTART:20261101T080000
END:STANDARD
BEGIN:DAYLIGHT
TZOFFSETFROM:-0700
TZOFFSETTO:-0600
TZNAME:MDT
DTSTART:20270314T090000
END:DAYLIGHT
BEGIN:STANDARD
TZOFFSETFROM:-0600
TZOFFSETTO:-0700
TZNAME:MST
DTSTART:20271107T080000
END:STANDARD
BEGIN:DAYLIGHT
TZOFFSETFROM:-0700
TZOFFSETTO:-0600
TZNAME:MDT
DTSTART:20280312T090000
END:DAYLIGHT
BEGIN:STANDARD
TZOFFSETFROM:-0600
TZOFFSETTO:-0700
TZNAME:MST
DTSTART:20281105T080000
END:STANDARD
END:VTIMEZONE
BEGIN:VEVENT
DTSTART;TZID=America/Edmonton:20271101T133000
DTEND;TZID=America/Edmonton:20271101T140000
DTSTAMP:20260421T212605
CREATED:20250723T163402Z
LAST-MODIFIED:20250723T163402Z
UID:10004469-1825075800-1825077600@lbdpcn.com
SUMMARY:Virtual Drop-In Exercise Class
DESCRIPTION:Led by the Sherwood Park PCN Exercise Specialist\, this virtual exercise class focuses on guiding you through low-impact stretches and exercises. \nClasses every Monday and Thursday.
URL:https://lbdpcn.com/events/virtual-drop-in-exercise-class/2027-11-01/
LOCATION:Virtual\, Alberta\, Canada
CATEGORIES:Basic Health Care,Exercise,Health Self Management
GEO:53.9332706;-116.5765035
END:VEVENT
BEGIN:VEVENT
DTSTART;TZID=America/Edmonton:20271104T133000
DTEND;TZID=America/Edmonton:20271104T140000
DTSTAMP:20260421T212605
CREATED:20250723T163402Z
LAST-MODIFIED:20250723T163402Z
UID:10004470-1825335000-1825336800@lbdpcn.com
SUMMARY:Virtual Drop-In Exercise Class
DESCRIPTION:Led by the Sherwood Park PCN Exercise Specialist\, this virtual exercise class focuses on guiding you through low-impact stretches and exercises. \nClasses every Monday and Thursday.
URL:https://lbdpcn.com/events/virtual-drop-in-exercise-class/2027-11-04/
LOCATION:Virtual\, Alberta\, Canada
CATEGORIES:Basic Health Care,Exercise,Health Self Management
GEO:53.9332706;-116.5765035
END:VEVENT
BEGIN:VEVENT
DTSTART;TZID=America/Edmonton:20271108T133000
DTEND;TZID=America/Edmonton:20271108T140000
DTSTAMP:20260421T212605
CREATED:20250723T163402Z
LAST-MODIFIED:20250723T163402Z
UID:10004471-1825680600-1825682400@lbdpcn.com
SUMMARY:Virtual Drop-In Exercise Class
DESCRIPTION:Led by the Sherwood Park PCN Exercise Specialist\, this virtual exercise class focuses on guiding you through low-impact stretches and exercises. \nClasses every Monday and Thursday.
URL:https://lbdpcn.com/events/virtual-drop-in-exercise-class/2027-11-08/
LOCATION:Virtual\, Alberta\, Canada
CATEGORIES:Basic Health Care,Exercise,Health Self Management
GEO:53.9332706;-116.5765035
END:VEVENT
BEGIN:VEVENT
DTSTART;TZID=America/Edmonton:20271111T133000
DTEND;TZID=America/Edmonton:20271111T140000
DTSTAMP:20260421T212605
CREATED:20250723T163402Z
LAST-MODIFIED:20250723T163402Z
UID:10004472-1825939800-1825941600@lbdpcn.com
SUMMARY:Virtual Drop-In Exercise Class
DESCRIPTION:Led by the Sherwood Park PCN Exercise Specialist\, this virtual exercise class focuses on guiding you through low-impact stretches and exercises. \nClasses every Monday and Thursday.
URL:https://lbdpcn.com/events/virtual-drop-in-exercise-class/2027-11-11/
LOCATION:Virtual\, Alberta\, Canada
CATEGORIES:Basic Health Care,Exercise,Health Self Management
GEO:53.9332706;-116.5765035
END:VEVENT
BEGIN:VEVENT
DTSTART;TZID=America/Edmonton:20271115T133000
DTEND;TZID=America/Edmonton:20271115T140000
DTSTAMP:20260421T212605
CREATED:20250723T163402Z
LAST-MODIFIED:20250723T163402Z
UID:10004473-1826285400-1826287200@lbdpcn.com
SUMMARY:Virtual Drop-In Exercise Class
DESCRIPTION:Led by the Sherwood Park PCN Exercise Specialist\, this virtual exercise class focuses on guiding you through low-impact stretches and exercises. \nClasses every Monday and Thursday.
URL:https://lbdpcn.com/events/virtual-drop-in-exercise-class/2027-11-15/
LOCATION:Virtual\, Alberta\, Canada
CATEGORIES:Basic Health Care,Exercise,Health Self Management
GEO:53.9332706;-116.5765035
END:VEVENT
BEGIN:VEVENT
DTSTART;TZID=America/Edmonton:20271118T133000
DTEND;TZID=America/Edmonton:20271118T140000
DTSTAMP:20260421T212605
CREATED:20250723T163402Z
LAST-MODIFIED:20250723T163402Z
UID:10004474-1826544600-1826546400@lbdpcn.com
SUMMARY:Virtual Drop-In Exercise Class
DESCRIPTION:Led by the Sherwood Park PCN Exercise Specialist\, this virtual exercise class focuses on guiding you through low-impact stretches and exercises. \nClasses every Monday and Thursday.
URL:https://lbdpcn.com/events/virtual-drop-in-exercise-class/2027-11-18/
LOCATION:Virtual\, Alberta\, Canada
CATEGORIES:Basic Health Care,Exercise,Health Self Management
GEO:53.9332706;-116.5765035
END:VEVENT
BEGIN:VEVENT
DTSTART;TZID=America/Edmonton:20271122T133000
DTEND;TZID=America/Edmonton:20271122T140000
DTSTAMP:20260421T212605
CREATED:20250723T163402Z
LAST-MODIFIED:20250723T163402Z
UID:10004475-1826890200-1826892000@lbdpcn.com
SUMMARY:Virtual Drop-In Exercise Class
DESCRIPTION:Led by the Sherwood Park PCN Exercise Specialist\, this virtual exercise class focuses on guiding you through low-impact stretches and exercises. \nClasses every Monday and Thursday.
URL:https://lbdpcn.com/events/virtual-drop-in-exercise-class/2027-11-22/
LOCATION:Virtual\, Alberta\, Canada
CATEGORIES:Basic Health Care,Exercise,Health Self Management
GEO:53.9332706;-116.5765035
END:VEVENT
BEGIN:VEVENT
DTSTART;TZID=America/Edmonton:20271125T133000
DTEND;TZID=America/Edmonton:20271125T140000
DTSTAMP:20260421T212605
CREATED:20250723T163402Z
LAST-MODIFIED:20250723T163402Z
UID:10004476-1827149400-1827151200@lbdpcn.com
SUMMARY:Virtual Drop-In Exercise Class
DESCRIPTION:Led by the Sherwood Park PCN Exercise Specialist\, this virtual exercise class focuses on guiding you through low-impact stretches and exercises. \nClasses every Monday and Thursday.
URL:https://lbdpcn.com/events/virtual-drop-in-exercise-class/2027-11-25/
LOCATION:Virtual\, Alberta\, Canada
CATEGORIES:Basic Health Care,Exercise,Health Self Management
GEO:53.9332706;-116.5765035
END:VEVENT
BEGIN:VEVENT
DTSTART;TZID=America/Edmonton:20271129T133000
DTEND;TZID=America/Edmonton:20271129T140000
DTSTAMP:20260421T212605
CREATED:20250723T163402Z
LAST-MODIFIED:20250723T163402Z
UID:10004477-1827495000-1827496800@lbdpcn.com
SUMMARY:Virtual Drop-In Exercise Class
DESCRIPTION:Led by the Sherwood Park PCN Exercise Specialist\, this virtual exercise class focuses on guiding you through low-impact stretches and exercises. \nClasses every Monday and Thursday.
URL:https://lbdpcn.com/events/virtual-drop-in-exercise-class/2027-11-29/
LOCATION:Virtual\, Alberta\, Canada
CATEGORIES:Basic Health Care,Exercise,Health Self Management
GEO:53.9332706;-116.5765035
END:VEVENT
END:VCALENDAR