BEGIN:VCALENDAR
VERSION:2.0
PRODID:-//Leduc Beaumont Devon PCN - ECPv6.15.20//NONSGML v1.0//EN
CALSCALE:GREGORIAN
METHOD:PUBLISH
X-ORIGINAL-URL:https://lbdpcn.com
X-WR-CALDESC:Events for Leduc Beaumont Devon PCN
REFRESH-INTERVAL;VALUE=DURATION:PT1H
X-Robots-Tag:noindex
X-PUBLISHED-TTL:PT1H
BEGIN:VTIMEZONE
TZID:America/Edmonton
BEGIN:DAYLIGHT
TZOFFSETFROM:-0700
TZOFFSETTO:-0600
TZNAME:MDT
DTSTART:20250309T090000
END:DAYLIGHT
BEGIN:STANDARD
TZOFFSETFROM:-0600
TZOFFSETTO:-0700
TZNAME:MST
DTSTART:20251102T080000
END:STANDARD
BEGIN:DAYLIGHT
TZOFFSETFROM:-0700
TZOFFSETTO:-0600
TZNAME:MDT
DTSTART:20260308T090000
END:DAYLIGHT
BEGIN:STANDARD
TZOFFSETFROM:-0600
TZOFFSETTO:-0700
TZNAME:MST
DTSTART:20261101T080000
END:STANDARD
BEGIN:DAYLIGHT
TZOFFSETFROM:-0700
TZOFFSETTO:-0600
TZNAME:MDT
DTSTART:20270314T090000
END:DAYLIGHT
BEGIN:STANDARD
TZOFFSETFROM:-0600
TZOFFSETTO:-0700
TZNAME:MST
DTSTART:20271107T080000
END:STANDARD
END:VTIMEZONE
BEGIN:VEVENT
DTSTART;TZID=America/Edmonton:20260914T100000
DTEND;TZID=America/Edmonton:20260914T110000
DTSTAMP:20260421T114853
CREATED:20250623T221348Z
LAST-MODIFIED:20250623T221919Z
UID:10003831-1789380000-1789383600@lbdpcn.com
SUMMARY:Movers & Groovers
DESCRIPTION:Online follow-along exercise program for adults. Includes strength exercises\, balance exercises\, and stretches. \nJoin Brad\, PCN Exercise Specialist with the Wolf Creek PCN\, as he leads you through safe and appropriate exercises for a wide range of fitness levels each day.\nMovers & Groovers is a year-round drop-in class. You can attend as many times as you like. In fact\, we encourage you to attend often! \nFor more information\, visit the website at wolfcreekpcn.com/programs-and-classes/movers-and-groovers. \nJoin the class at the time of the event through the link.
URL:https://lbdpcn.com/events/movers-groovers/2026-09-14/
LOCATION:Virtual\, Alberta\, Canada
CATEGORIES:Exercise
GEO:53.9332706;-116.5765035
END:VEVENT
BEGIN:VEVENT
DTSTART;TZID=America/Edmonton:20260914T133000
DTEND;TZID=America/Edmonton:20260914T140000
DTSTAMP:20260421T114853
CREATED:20230110T214632Z
LAST-MODIFIED:20231219T172528Z
UID:10001920-1789392600-1789394400@lbdpcn.com
SUMMARY:Drop-In Exercise
DESCRIPTION:Led by an Exercise Specialist\, this class focuses on guiding you through low impact stretches and exercises. Each class will focus on a specific muscle group\, so you optimize your workout and learn exercises associated with different muscle groups. We do not require medical screenings for participation in this class\, so if you have any concerns please contact one of our Exercise Specialists to discuss them. \nVirtual class.
URL:https://lbdpcn.com/events/drop-in-exercise/2026-09-14/
LOCATION:Sherwood Park PCN\, 150 Broadway Crescent #108\, Sherwood Park\, Alberta\, T8H 0V3\, Canada
CATEGORIES:Basic Health Care,Chronic Disease Management,Exercise,Health Self Management,Weight Management
GEO:53.5462517;-113.313407
X-APPLE-STRUCTURED-LOCATION;VALUE=URI;X-ADDRESS=Sherwood Park PCN 150 Broadway Crescent #108 Sherwood Park Alberta T8H 0V3 Canada;X-APPLE-RADIUS=500;X-TITLE=150 Broadway Crescent #108:geo:-113.313407,53.5462517
END:VEVENT
BEGIN:VEVENT
DTSTART;TZID=America/Edmonton:20260914T133000
DTEND;TZID=America/Edmonton:20260914T140000
DTSTAMP:20260421T114853
CREATED:20250723T163402Z
LAST-MODIFIED:20250723T163402Z
UID:10004351-1789392600-1789394400@lbdpcn.com
SUMMARY:Virtual Drop-In Exercise Class
DESCRIPTION:Led by the Sherwood Park PCN Exercise Specialist\, this virtual exercise class focuses on guiding you through low-impact stretches and exercises. \nClasses every Monday and Thursday.
URL:https://lbdpcn.com/events/virtual-drop-in-exercise-class/2026-09-14/
LOCATION:Virtual\, Alberta\, Canada
CATEGORIES:Basic Health Care,Exercise,Health Self Management
GEO:53.9332706;-116.5765035
END:VEVENT
BEGIN:VEVENT
DTSTART;TZID=America/Edmonton:20260915T100000
DTEND;TZID=America/Edmonton:20260915T120000
DTSTAMP:20260421T114853
CREATED:20250411T182446Z
LAST-MODIFIED:20250411T182446Z
UID:10003160-1789466400-1789473600@lbdpcn.com
SUMMARY:Balance 55+
DESCRIPTION:Have you ever wanted to improve your physical health but not sure where to start? Do you strive to return to sport or a favourite pastime but are limited by mobility?  \nIf you have a T5W\, T5A or T5Y postal code\, join Edmonton North PCN Exercise Specialists for Balance 55+. This class focuses on strength\, mobility\, and balance to help achieve your fitness and health goals. \n\n\n\n\n\n\n\n\nEvery Tuesday at Rundle School (11005 – 34 Street)\nNo registration required.
URL:https://lbdpcn.com/events/balance-55/2026-09-15/
LOCATION:Edmonton North PCN\, Alberta\, Canada
CATEGORIES:Basic Health Care,Education,Exercise
GEO:53.9332706;-116.5765035
END:VEVENT
BEGIN:VEVENT
DTSTART;TZID=America/Edmonton:20260915T133000
DTEND;TZID=America/Edmonton:20260915T143000
DTSTAMP:20260421T114853
CREATED:20230524T175623Z
LAST-MODIFIED:20230524T175623Z
UID:10001549-1789479000-1789482600@lbdpcn.com
SUMMARY:MOVE
DESCRIPTION:MOVE is a free weekly exercise program that gives people the opportunity to be physically active alongside an exercise specialist (kinesiologist). \nLocated at the Allin Clinic\, this class runs every Tuesday from 1:30 – 2:30 pm.
URL:https://lbdpcn.com/events/move/2026-09-15/
LOCATION:Edmonton O-day’min\, 10155 120 Street\, Edmonton\, Alberta\, Canada
CATEGORIES:Basic Health Care,Chronic Disease Management,Exercise,Health Self Management
GEO:53.5427482;-113.5281666
X-APPLE-STRUCTURED-LOCATION;VALUE=URI;X-ADDRESS=Edmonton O-day’min 10155 120 Street Edmonton Alberta Canada;X-APPLE-RADIUS=500;X-TITLE=10155 120 Street:geo:-113.5281666,53.5427482
END:VEVENT
BEGIN:VEVENT
DTSTART;TZID=America/Edmonton:20260916T100000
DTEND;TZID=America/Edmonton:20260916T110000
DTSTAMP:20260421T114853
CREATED:20250623T221348Z
LAST-MODIFIED:20250623T221919Z
UID:10003832-1789552800-1789556400@lbdpcn.com
SUMMARY:Movers & Groovers
DESCRIPTION:Online follow-along exercise program for adults. Includes strength exercises\, balance exercises\, and stretches. \nJoin Brad\, PCN Exercise Specialist with the Wolf Creek PCN\, as he leads you through safe and appropriate exercises for a wide range of fitness levels each day.\nMovers & Groovers is a year-round drop-in class. You can attend as many times as you like. In fact\, we encourage you to attend often! \nFor more information\, visit the website at wolfcreekpcn.com/programs-and-classes/movers-and-groovers. \nJoin the class at the time of the event through the link.
URL:https://lbdpcn.com/events/movers-groovers/2026-09-16/
LOCATION:Virtual\, Alberta\, Canada
CATEGORIES:Exercise
GEO:53.9332706;-116.5765035
END:VEVENT
BEGIN:VEVENT
DTSTART;TZID=America/Edmonton:20260917T133000
DTEND;TZID=America/Edmonton:20260917T140000
DTSTAMP:20260421T114853
CREATED:20230110T214632Z
LAST-MODIFIED:20231219T172528Z
UID:10001921-1789651800-1789653600@lbdpcn.com
SUMMARY:Drop-In Exercise
DESCRIPTION:Led by an Exercise Specialist\, this class focuses on guiding you through low impact stretches and exercises. Each class will focus on a specific muscle group\, so you optimize your workout and learn exercises associated with different muscle groups. We do not require medical screenings for participation in this class\, so if you have any concerns please contact one of our Exercise Specialists to discuss them. \nVirtual class.
URL:https://lbdpcn.com/events/drop-in-exercise/2026-09-17/
LOCATION:Sherwood Park PCN\, 150 Broadway Crescent #108\, Sherwood Park\, Alberta\, T8H 0V3\, Canada
CATEGORIES:Basic Health Care,Chronic Disease Management,Exercise,Health Self Management,Weight Management
GEO:53.5462517;-113.313407
X-APPLE-STRUCTURED-LOCATION;VALUE=URI;X-ADDRESS=Sherwood Park PCN 150 Broadway Crescent #108 Sherwood Park Alberta T8H 0V3 Canada;X-APPLE-RADIUS=500;X-TITLE=150 Broadway Crescent #108:geo:-113.313407,53.5462517
END:VEVENT
BEGIN:VEVENT
DTSTART;TZID=America/Edmonton:20260917T133000
DTEND;TZID=America/Edmonton:20260917T140000
DTSTAMP:20260421T114853
CREATED:20250723T163402Z
LAST-MODIFIED:20250723T163402Z
UID:10004352-1789651800-1789653600@lbdpcn.com
SUMMARY:Virtual Drop-In Exercise Class
DESCRIPTION:Led by the Sherwood Park PCN Exercise Specialist\, this virtual exercise class focuses on guiding you through low-impact stretches and exercises. \nClasses every Monday and Thursday.
URL:https://lbdpcn.com/events/virtual-drop-in-exercise-class/2026-09-17/
LOCATION:Virtual\, Alberta\, Canada
CATEGORIES:Basic Health Care,Exercise,Health Self Management
GEO:53.9332706;-116.5765035
END:VEVENT
BEGIN:VEVENT
DTSTART;TZID=America/Edmonton:20260921T100000
DTEND;TZID=America/Edmonton:20260921T110000
DTSTAMP:20260421T114853
CREATED:20250623T221348Z
LAST-MODIFIED:20250623T221919Z
UID:10003833-1789984800-1789988400@lbdpcn.com
SUMMARY:Movers & Groovers
DESCRIPTION:Online follow-along exercise program for adults. Includes strength exercises\, balance exercises\, and stretches. \nJoin Brad\, PCN Exercise Specialist with the Wolf Creek PCN\, as he leads you through safe and appropriate exercises for a wide range of fitness levels each day.\nMovers & Groovers is a year-round drop-in class. You can attend as many times as you like. In fact\, we encourage you to attend often! \nFor more information\, visit the website at wolfcreekpcn.com/programs-and-classes/movers-and-groovers. \nJoin the class at the time of the event through the link.
URL:https://lbdpcn.com/events/movers-groovers/2026-09-21/
LOCATION:Virtual\, Alberta\, Canada
CATEGORIES:Exercise
GEO:53.9332706;-116.5765035
END:VEVENT
BEGIN:VEVENT
DTSTART;TZID=America/Edmonton:20260921T133000
DTEND;TZID=America/Edmonton:20260921T140000
DTSTAMP:20260421T114853
CREATED:20230110T214632Z
LAST-MODIFIED:20231219T172528Z
UID:10001922-1789997400-1789999200@lbdpcn.com
SUMMARY:Drop-In Exercise
DESCRIPTION:Led by an Exercise Specialist\, this class focuses on guiding you through low impact stretches and exercises. Each class will focus on a specific muscle group\, so you optimize your workout and learn exercises associated with different muscle groups. We do not require medical screenings for participation in this class\, so if you have any concerns please contact one of our Exercise Specialists to discuss them. \nVirtual class.
URL:https://lbdpcn.com/events/drop-in-exercise/2026-09-21/
LOCATION:Sherwood Park PCN\, 150 Broadway Crescent #108\, Sherwood Park\, Alberta\, T8H 0V3\, Canada
CATEGORIES:Basic Health Care,Chronic Disease Management,Exercise,Health Self Management,Weight Management
GEO:53.5462517;-113.313407
X-APPLE-STRUCTURED-LOCATION;VALUE=URI;X-ADDRESS=Sherwood Park PCN 150 Broadway Crescent #108 Sherwood Park Alberta T8H 0V3 Canada;X-APPLE-RADIUS=500;X-TITLE=150 Broadway Crescent #108:geo:-113.313407,53.5462517
END:VEVENT
BEGIN:VEVENT
DTSTART;TZID=America/Edmonton:20260921T133000
DTEND;TZID=America/Edmonton:20260921T140000
DTSTAMP:20260421T114853
CREATED:20250723T163402Z
LAST-MODIFIED:20250723T163402Z
UID:10004353-1789997400-1789999200@lbdpcn.com
SUMMARY:Virtual Drop-In Exercise Class
DESCRIPTION:Led by the Sherwood Park PCN Exercise Specialist\, this virtual exercise class focuses on guiding you through low-impact stretches and exercises. \nClasses every Monday and Thursday.
URL:https://lbdpcn.com/events/virtual-drop-in-exercise-class/2026-09-21/
LOCATION:Virtual\, Alberta\, Canada
CATEGORIES:Basic Health Care,Exercise,Health Self Management
GEO:53.9332706;-116.5765035
END:VEVENT
BEGIN:VEVENT
DTSTART;TZID=America/Edmonton:20260922T100000
DTEND;TZID=America/Edmonton:20260922T120000
DTSTAMP:20260421T114853
CREATED:20250411T182446Z
LAST-MODIFIED:20250411T182446Z
UID:10003161-1790071200-1790078400@lbdpcn.com
SUMMARY:Balance 55+
DESCRIPTION:Have you ever wanted to improve your physical health but not sure where to start? Do you strive to return to sport or a favourite pastime but are limited by mobility?  \nIf you have a T5W\, T5A or T5Y postal code\, join Edmonton North PCN Exercise Specialists for Balance 55+. This class focuses on strength\, mobility\, and balance to help achieve your fitness and health goals. \n\n\n\n\n\n\n\n\nEvery Tuesday at Rundle School (11005 – 34 Street)\nNo registration required.
URL:https://lbdpcn.com/events/balance-55/2026-09-22/
LOCATION:Edmonton North PCN\, Alberta\, Canada
CATEGORIES:Basic Health Care,Education,Exercise
GEO:53.9332706;-116.5765035
END:VEVENT
BEGIN:VEVENT
DTSTART;TZID=America/Edmonton:20260922T133000
DTEND;TZID=America/Edmonton:20260922T143000
DTSTAMP:20260421T114853
CREATED:20230524T175623Z
LAST-MODIFIED:20230524T175623Z
UID:10001550-1790083800-1790087400@lbdpcn.com
SUMMARY:MOVE
DESCRIPTION:MOVE is a free weekly exercise program that gives people the opportunity to be physically active alongside an exercise specialist (kinesiologist). \nLocated at the Allin Clinic\, this class runs every Tuesday from 1:30 – 2:30 pm.
URL:https://lbdpcn.com/events/move/2026-09-22/
LOCATION:Edmonton O-day’min\, 10155 120 Street\, Edmonton\, Alberta\, Canada
CATEGORIES:Basic Health Care,Chronic Disease Management,Exercise,Health Self Management
GEO:53.5427482;-113.5281666
X-APPLE-STRUCTURED-LOCATION;VALUE=URI;X-ADDRESS=Edmonton O-day’min 10155 120 Street Edmonton Alberta Canada;X-APPLE-RADIUS=500;X-TITLE=10155 120 Street:geo:-113.5281666,53.5427482
END:VEVENT
BEGIN:VEVENT
DTSTART;TZID=America/Edmonton:20260923T100000
DTEND;TZID=America/Edmonton:20260923T110000
DTSTAMP:20260421T114853
CREATED:20250623T221348Z
LAST-MODIFIED:20250623T221919Z
UID:10003834-1790157600-1790161200@lbdpcn.com
SUMMARY:Movers & Groovers
DESCRIPTION:Online follow-along exercise program for adults. Includes strength exercises\, balance exercises\, and stretches. \nJoin Brad\, PCN Exercise Specialist with the Wolf Creek PCN\, as he leads you through safe and appropriate exercises for a wide range of fitness levels each day.\nMovers & Groovers is a year-round drop-in class. You can attend as many times as you like. In fact\, we encourage you to attend often! \nFor more information\, visit the website at wolfcreekpcn.com/programs-and-classes/movers-and-groovers. \nJoin the class at the time of the event through the link.
URL:https://lbdpcn.com/events/movers-groovers/2026-09-23/
LOCATION:Virtual\, Alberta\, Canada
CATEGORIES:Exercise
GEO:53.9332706;-116.5765035
END:VEVENT
BEGIN:VEVENT
DTSTART;TZID=America/Edmonton:20260924T133000
DTEND;TZID=America/Edmonton:20260924T140000
DTSTAMP:20260421T114853
CREATED:20230110T214632Z
LAST-MODIFIED:20231219T172528Z
UID:10001923-1790256600-1790258400@lbdpcn.com
SUMMARY:Drop-In Exercise
DESCRIPTION:Led by an Exercise Specialist\, this class focuses on guiding you through low impact stretches and exercises. Each class will focus on a specific muscle group\, so you optimize your workout and learn exercises associated with different muscle groups. We do not require medical screenings for participation in this class\, so if you have any concerns please contact one of our Exercise Specialists to discuss them. \nVirtual class.
URL:https://lbdpcn.com/events/drop-in-exercise/2026-09-24/
LOCATION:Sherwood Park PCN\, 150 Broadway Crescent #108\, Sherwood Park\, Alberta\, T8H 0V3\, Canada
CATEGORIES:Basic Health Care,Chronic Disease Management,Exercise,Health Self Management,Weight Management
GEO:53.5462517;-113.313407
X-APPLE-STRUCTURED-LOCATION;VALUE=URI;X-ADDRESS=Sherwood Park PCN 150 Broadway Crescent #108 Sherwood Park Alberta T8H 0V3 Canada;X-APPLE-RADIUS=500;X-TITLE=150 Broadway Crescent #108:geo:-113.313407,53.5462517
END:VEVENT
BEGIN:VEVENT
DTSTART;TZID=America/Edmonton:20260924T133000
DTEND;TZID=America/Edmonton:20260924T140000
DTSTAMP:20260421T114853
CREATED:20250723T163402Z
LAST-MODIFIED:20250723T163402Z
UID:10004354-1790256600-1790258400@lbdpcn.com
SUMMARY:Virtual Drop-In Exercise Class
DESCRIPTION:Led by the Sherwood Park PCN Exercise Specialist\, this virtual exercise class focuses on guiding you through low-impact stretches and exercises. \nClasses every Monday and Thursday.
URL:https://lbdpcn.com/events/virtual-drop-in-exercise-class/2026-09-24/
LOCATION:Virtual\, Alberta\, Canada
CATEGORIES:Basic Health Care,Exercise,Health Self Management
GEO:53.9332706;-116.5765035
END:VEVENT
BEGIN:VEVENT
DTSTART;TZID=America/Edmonton:20260928T100000
DTEND;TZID=America/Edmonton:20260928T110000
DTSTAMP:20260421T114853
CREATED:20250623T221348Z
LAST-MODIFIED:20250623T221919Z
UID:10003835-1790589600-1790593200@lbdpcn.com
SUMMARY:Movers & Groovers
DESCRIPTION:Online follow-along exercise program for adults. Includes strength exercises\, balance exercises\, and stretches. \nJoin Brad\, PCN Exercise Specialist with the Wolf Creek PCN\, as he leads you through safe and appropriate exercises for a wide range of fitness levels each day.\nMovers & Groovers is a year-round drop-in class. You can attend as many times as you like. In fact\, we encourage you to attend often! \nFor more information\, visit the website at wolfcreekpcn.com/programs-and-classes/movers-and-groovers. \nJoin the class at the time of the event through the link.
URL:https://lbdpcn.com/events/movers-groovers/2026-09-28/
LOCATION:Virtual\, Alberta\, Canada
CATEGORIES:Exercise
GEO:53.9332706;-116.5765035
END:VEVENT
BEGIN:VEVENT
DTSTART;TZID=America/Edmonton:20260928T133000
DTEND;TZID=America/Edmonton:20260928T140000
DTSTAMP:20260421T114853
CREATED:20230110T214632Z
LAST-MODIFIED:20231219T172528Z
UID:10001924-1790602200-1790604000@lbdpcn.com
SUMMARY:Drop-In Exercise
DESCRIPTION:Led by an Exercise Specialist\, this class focuses on guiding you through low impact stretches and exercises. Each class will focus on a specific muscle group\, so you optimize your workout and learn exercises associated with different muscle groups. We do not require medical screenings for participation in this class\, so if you have any concerns please contact one of our Exercise Specialists to discuss them. \nVirtual class.
URL:https://lbdpcn.com/events/drop-in-exercise/2026-09-28/
LOCATION:Sherwood Park PCN\, 150 Broadway Crescent #108\, Sherwood Park\, Alberta\, T8H 0V3\, Canada
CATEGORIES:Basic Health Care,Chronic Disease Management,Exercise,Health Self Management,Weight Management
GEO:53.5462517;-113.313407
X-APPLE-STRUCTURED-LOCATION;VALUE=URI;X-ADDRESS=Sherwood Park PCN 150 Broadway Crescent #108 Sherwood Park Alberta T8H 0V3 Canada;X-APPLE-RADIUS=500;X-TITLE=150 Broadway Crescent #108:geo:-113.313407,53.5462517
END:VEVENT
BEGIN:VEVENT
DTSTART;TZID=America/Edmonton:20260928T133000
DTEND;TZID=America/Edmonton:20260928T140000
DTSTAMP:20260421T114853
CREATED:20250723T163402Z
LAST-MODIFIED:20250723T163402Z
UID:10004355-1790602200-1790604000@lbdpcn.com
SUMMARY:Virtual Drop-In Exercise Class
DESCRIPTION:Led by the Sherwood Park PCN Exercise Specialist\, this virtual exercise class focuses on guiding you through low-impact stretches and exercises. \nClasses every Monday and Thursday.
URL:https://lbdpcn.com/events/virtual-drop-in-exercise-class/2026-09-28/
LOCATION:Virtual\, Alberta\, Canada
CATEGORIES:Basic Health Care,Exercise,Health Self Management
GEO:53.9332706;-116.5765035
END:VEVENT
BEGIN:VEVENT
DTSTART;TZID=America/Edmonton:20260929T100000
DTEND;TZID=America/Edmonton:20260929T120000
DTSTAMP:20260421T114853
CREATED:20250411T182446Z
LAST-MODIFIED:20250411T182446Z
UID:10003162-1790676000-1790683200@lbdpcn.com
SUMMARY:Balance 55+
DESCRIPTION:Have you ever wanted to improve your physical health but not sure where to start? Do you strive to return to sport or a favourite pastime but are limited by mobility?  \nIf you have a T5W\, T5A or T5Y postal code\, join Edmonton North PCN Exercise Specialists for Balance 55+. This class focuses on strength\, mobility\, and balance to help achieve your fitness and health goals. \n\n\n\n\n\n\n\n\nEvery Tuesday at Rundle School (11005 – 34 Street)\nNo registration required.
URL:https://lbdpcn.com/events/balance-55/2026-09-29/
LOCATION:Edmonton North PCN\, Alberta\, Canada
CATEGORIES:Basic Health Care,Education,Exercise
GEO:53.9332706;-116.5765035
END:VEVENT
BEGIN:VEVENT
DTSTART;TZID=America/Edmonton:20260929T133000
DTEND;TZID=America/Edmonton:20260929T143000
DTSTAMP:20260421T114853
CREATED:20230524T175623Z
LAST-MODIFIED:20230524T175623Z
UID:10001551-1790688600-1790692200@lbdpcn.com
SUMMARY:MOVE
DESCRIPTION:MOVE is a free weekly exercise program that gives people the opportunity to be physically active alongside an exercise specialist (kinesiologist). \nLocated at the Allin Clinic\, this class runs every Tuesday from 1:30 – 2:30 pm.
URL:https://lbdpcn.com/events/move/2026-09-29/
LOCATION:Edmonton O-day’min\, 10155 120 Street\, Edmonton\, Alberta\, Canada
CATEGORIES:Basic Health Care,Chronic Disease Management,Exercise,Health Self Management
GEO:53.5427482;-113.5281666
X-APPLE-STRUCTURED-LOCATION;VALUE=URI;X-ADDRESS=Edmonton O-day’min 10155 120 Street Edmonton Alberta Canada;X-APPLE-RADIUS=500;X-TITLE=10155 120 Street:geo:-113.5281666,53.5427482
END:VEVENT
BEGIN:VEVENT
DTSTART;TZID=America/Edmonton:20260930T100000
DTEND;TZID=America/Edmonton:20260930T110000
DTSTAMP:20260421T114853
CREATED:20250623T221348Z
LAST-MODIFIED:20250623T221919Z
UID:10003836-1790762400-1790766000@lbdpcn.com
SUMMARY:Movers & Groovers
DESCRIPTION:Online follow-along exercise program for adults. Includes strength exercises\, balance exercises\, and stretches. \nJoin Brad\, PCN Exercise Specialist with the Wolf Creek PCN\, as he leads you through safe and appropriate exercises for a wide range of fitness levels each day.\nMovers & Groovers is a year-round drop-in class. You can attend as many times as you like. In fact\, we encourage you to attend often! \nFor more information\, visit the website at wolfcreekpcn.com/programs-and-classes/movers-and-groovers. \nJoin the class at the time of the event through the link.
URL:https://lbdpcn.com/events/movers-groovers/2026-09-30/
LOCATION:Virtual\, Alberta\, Canada
CATEGORIES:Exercise
GEO:53.9332706;-116.5765035
END:VEVENT
BEGIN:VEVENT
DTSTART;TZID=America/Edmonton:20261001T133000
DTEND;TZID=America/Edmonton:20261001T140000
DTSTAMP:20260421T114853
CREATED:20230110T214632Z
LAST-MODIFIED:20231219T172528Z
UID:10001925-1790861400-1790863200@lbdpcn.com
SUMMARY:Drop-In Exercise
DESCRIPTION:Led by an Exercise Specialist\, this class focuses on guiding you through low impact stretches and exercises. Each class will focus on a specific muscle group\, so you optimize your workout and learn exercises associated with different muscle groups. We do not require medical screenings for participation in this class\, so if you have any concerns please contact one of our Exercise Specialists to discuss them. \nVirtual class.
URL:https://lbdpcn.com/events/drop-in-exercise/2026-10-01/
LOCATION:Sherwood Park PCN\, 150 Broadway Crescent #108\, Sherwood Park\, Alberta\, T8H 0V3\, Canada
CATEGORIES:Basic Health Care,Chronic Disease Management,Exercise,Health Self Management,Weight Management
GEO:53.5462517;-113.313407
X-APPLE-STRUCTURED-LOCATION;VALUE=URI;X-ADDRESS=Sherwood Park PCN 150 Broadway Crescent #108 Sherwood Park Alberta T8H 0V3 Canada;X-APPLE-RADIUS=500;X-TITLE=150 Broadway Crescent #108:geo:-113.313407,53.5462517
END:VEVENT
BEGIN:VEVENT
DTSTART;TZID=America/Edmonton:20261001T133000
DTEND;TZID=America/Edmonton:20261001T140000
DTSTAMP:20260421T114853
CREATED:20250723T163402Z
LAST-MODIFIED:20250723T163402Z
UID:10004356-1790861400-1790863200@lbdpcn.com
SUMMARY:Virtual Drop-In Exercise Class
DESCRIPTION:Led by the Sherwood Park PCN Exercise Specialist\, this virtual exercise class focuses on guiding you through low-impact stretches and exercises. \nClasses every Monday and Thursday.
URL:https://lbdpcn.com/events/virtual-drop-in-exercise-class/2026-10-01/
LOCATION:Virtual\, Alberta\, Canada
CATEGORIES:Basic Health Care,Exercise,Health Self Management
GEO:53.9332706;-116.5765035
END:VEVENT
BEGIN:VEVENT
DTSTART;TZID=America/Edmonton:20261005T100000
DTEND;TZID=America/Edmonton:20261005T110000
DTSTAMP:20260421T114853
CREATED:20250623T221348Z
LAST-MODIFIED:20250623T221919Z
UID:10003837-1791194400-1791198000@lbdpcn.com
SUMMARY:Movers & Groovers
DESCRIPTION:Online follow-along exercise program for adults. Includes strength exercises\, balance exercises\, and stretches. \nJoin Brad\, PCN Exercise Specialist with the Wolf Creek PCN\, as he leads you through safe and appropriate exercises for a wide range of fitness levels each day.\nMovers & Groovers is a year-round drop-in class. You can attend as many times as you like. In fact\, we encourage you to attend often! \nFor more information\, visit the website at wolfcreekpcn.com/programs-and-classes/movers-and-groovers. \nJoin the class at the time of the event through the link.
URL:https://lbdpcn.com/events/movers-groovers/2026-10-05/
LOCATION:Virtual\, Alberta\, Canada
CATEGORIES:Exercise
GEO:53.9332706;-116.5765035
END:VEVENT
BEGIN:VEVENT
DTSTART;TZID=America/Edmonton:20261005T133000
DTEND;TZID=America/Edmonton:20261005T140000
DTSTAMP:20260421T114853
CREATED:20230110T214632Z
LAST-MODIFIED:20231219T172528Z
UID:10001926-1791207000-1791208800@lbdpcn.com
SUMMARY:Drop-In Exercise
DESCRIPTION:Led by an Exercise Specialist\, this class focuses on guiding you through low impact stretches and exercises. Each class will focus on a specific muscle group\, so you optimize your workout and learn exercises associated with different muscle groups. We do not require medical screenings for participation in this class\, so if you have any concerns please contact one of our Exercise Specialists to discuss them. \nVirtual class.
URL:https://lbdpcn.com/events/drop-in-exercise/2026-10-05/
LOCATION:Sherwood Park PCN\, 150 Broadway Crescent #108\, Sherwood Park\, Alberta\, T8H 0V3\, Canada
CATEGORIES:Basic Health Care,Chronic Disease Management,Exercise,Health Self Management,Weight Management
GEO:53.5462517;-113.313407
X-APPLE-STRUCTURED-LOCATION;VALUE=URI;X-ADDRESS=Sherwood Park PCN 150 Broadway Crescent #108 Sherwood Park Alberta T8H 0V3 Canada;X-APPLE-RADIUS=500;X-TITLE=150 Broadway Crescent #108:geo:-113.313407,53.5462517
END:VEVENT
BEGIN:VEVENT
DTSTART;TZID=America/Edmonton:20261005T133000
DTEND;TZID=America/Edmonton:20261005T140000
DTSTAMP:20260421T114853
CREATED:20250723T163402Z
LAST-MODIFIED:20250723T163402Z
UID:10004357-1791207000-1791208800@lbdpcn.com
SUMMARY:Virtual Drop-In Exercise Class
DESCRIPTION:Led by the Sherwood Park PCN Exercise Specialist\, this virtual exercise class focuses on guiding you through low-impact stretches and exercises. \nClasses every Monday and Thursday.
URL:https://lbdpcn.com/events/virtual-drop-in-exercise-class/2026-10-05/
LOCATION:Virtual\, Alberta\, Canada
CATEGORIES:Basic Health Care,Exercise,Health Self Management
GEO:53.9332706;-116.5765035
END:VEVENT
BEGIN:VEVENT
DTSTART;TZID=America/Edmonton:20261006T100000
DTEND;TZID=America/Edmonton:20261006T120000
DTSTAMP:20260421T114853
CREATED:20250411T182446Z
LAST-MODIFIED:20250411T182446Z
UID:10003163-1791280800-1791288000@lbdpcn.com
SUMMARY:Balance 55+
DESCRIPTION:Have you ever wanted to improve your physical health but not sure where to start? Do you strive to return to sport or a favourite pastime but are limited by mobility?  \nIf you have a T5W\, T5A or T5Y postal code\, join Edmonton North PCN Exercise Specialists for Balance 55+. This class focuses on strength\, mobility\, and balance to help achieve your fitness and health goals. \n\n\n\n\n\n\n\n\nEvery Tuesday at Rundle School (11005 – 34 Street)\nNo registration required.
URL:https://lbdpcn.com/events/balance-55/2026-10-06/
LOCATION:Edmonton North PCN\, Alberta\, Canada
CATEGORIES:Basic Health Care,Education,Exercise
GEO:53.9332706;-116.5765035
END:VEVENT
BEGIN:VEVENT
DTSTART;TZID=America/Edmonton:20261006T133000
DTEND;TZID=America/Edmonton:20261006T143000
DTSTAMP:20260421T114853
CREATED:20230524T175623Z
LAST-MODIFIED:20230524T175623Z
UID:10001552-1791293400-1791297000@lbdpcn.com
SUMMARY:MOVE
DESCRIPTION:MOVE is a free weekly exercise program that gives people the opportunity to be physically active alongside an exercise specialist (kinesiologist). \nLocated at the Allin Clinic\, this class runs every Tuesday from 1:30 – 2:30 pm.
URL:https://lbdpcn.com/events/move/2026-10-06/
LOCATION:Edmonton O-day’min\, 10155 120 Street\, Edmonton\, Alberta\, Canada
CATEGORIES:Basic Health Care,Chronic Disease Management,Exercise,Health Self Management
GEO:53.5427482;-113.5281666
X-APPLE-STRUCTURED-LOCATION;VALUE=URI;X-ADDRESS=Edmonton O-day’min 10155 120 Street Edmonton Alberta Canada;X-APPLE-RADIUS=500;X-TITLE=10155 120 Street:geo:-113.5281666,53.5427482
END:VEVENT
BEGIN:VEVENT
DTSTART;TZID=America/Edmonton:20261007T100000
DTEND;TZID=America/Edmonton:20261007T110000
DTSTAMP:20260421T114853
CREATED:20250623T221348Z
LAST-MODIFIED:20250623T221919Z
UID:10003838-1791367200-1791370800@lbdpcn.com
SUMMARY:Movers & Groovers
DESCRIPTION:Online follow-along exercise program for adults. Includes strength exercises\, balance exercises\, and stretches. \nJoin Brad\, PCN Exercise Specialist with the Wolf Creek PCN\, as he leads you through safe and appropriate exercises for a wide range of fitness levels each day.\nMovers & Groovers is a year-round drop-in class. You can attend as many times as you like. In fact\, we encourage you to attend often! \nFor more information\, visit the website at wolfcreekpcn.com/programs-and-classes/movers-and-groovers. \nJoin the class at the time of the event through the link.
URL:https://lbdpcn.com/events/movers-groovers/2026-10-07/
LOCATION:Virtual\, Alberta\, Canada
CATEGORIES:Exercise
GEO:53.9332706;-116.5765035
END:VEVENT
END:VCALENDAR