BEGIN:VCALENDAR
VERSION:2.0
PRODID:-//Leduc Beaumont Devon PCN - ECPv6.15.20//NONSGML v1.0//EN
CALSCALE:GREGORIAN
METHOD:PUBLISH
X-WR-CALNAME:Leduc Beaumont Devon PCN
X-ORIGINAL-URL:https://lbdpcn.com
X-WR-CALDESC:Events for Leduc Beaumont Devon PCN
REFRESH-INTERVAL;VALUE=DURATION:PT1H
X-Robots-Tag:noindex
X-PUBLISHED-TTL:PT1H
BEGIN:VTIMEZONE
TZID:America/Edmonton
BEGIN:DAYLIGHT
TZOFFSETFROM:-0700
TZOFFSETTO:-0600
TZNAME:MDT
DTSTART:20250309T090000
END:DAYLIGHT
BEGIN:STANDARD
TZOFFSETFROM:-0600
TZOFFSETTO:-0700
TZNAME:MST
DTSTART:20251102T080000
END:STANDARD
BEGIN:DAYLIGHT
TZOFFSETFROM:-0700
TZOFFSETTO:-0600
TZNAME:MDT
DTSTART:20260308T090000
END:DAYLIGHT
BEGIN:STANDARD
TZOFFSETFROM:-0600
TZOFFSETTO:-0700
TZNAME:MST
DTSTART:20261101T080000
END:STANDARD
BEGIN:DAYLIGHT
TZOFFSETFROM:-0700
TZOFFSETTO:-0600
TZNAME:MDT
DTSTART:20270314T090000
END:DAYLIGHT
BEGIN:STANDARD
TZOFFSETFROM:-0600
TZOFFSETTO:-0700
TZNAME:MST
DTSTART:20271107T080000
END:STANDARD
END:VTIMEZONE
BEGIN:VEVENT
DTSTART;TZID=America/Edmonton:20260622T133000
DTEND;TZID=America/Edmonton:20260622T140000
DTSTAMP:20260421T000740
CREATED:20230110T214632Z
LAST-MODIFIED:20231219T172528Z
UID:10001896-1782135000-1782136800@lbdpcn.com
SUMMARY:Drop-In Exercise
DESCRIPTION:Led by an Exercise Specialist\, this class focuses on guiding you through low impact stretches and exercises. Each class will focus on a specific muscle group\, so you optimize your workout and learn exercises associated with different muscle groups. We do not require medical screenings for participation in this class\, so if you have any concerns please contact one of our Exercise Specialists to discuss them. \nVirtual class.
URL:https://lbdpcn.com/events/drop-in-exercise/2026-06-22/
LOCATION:Sherwood Park PCN\, 150 Broadway Crescent #108\, Sherwood Park\, Alberta\, T8H 0V3\, Canada
CATEGORIES:Basic Health Care,Chronic Disease Management,Exercise,Health Self Management,Weight Management
GEO:53.5462517;-113.313407
X-APPLE-STRUCTURED-LOCATION;VALUE=URI;X-ADDRESS=Sherwood Park PCN 150 Broadway Crescent #108 Sherwood Park Alberta T8H 0V3 Canada;X-APPLE-RADIUS=500;X-TITLE=150 Broadway Crescent #108:geo:-113.313407,53.5462517
END:VEVENT
BEGIN:VEVENT
DTSTART;TZID=America/Edmonton:20260622T133000
DTEND;TZID=America/Edmonton:20260622T140000
DTSTAMP:20260421T000740
CREATED:20250723T163402Z
LAST-MODIFIED:20250723T163402Z
UID:10004327-1782135000-1782136800@lbdpcn.com
SUMMARY:Virtual Drop-In Exercise Class
DESCRIPTION:Led by the Sherwood Park PCN Exercise Specialist\, this virtual exercise class focuses on guiding you through low-impact stretches and exercises. \nClasses every Monday and Thursday.
URL:https://lbdpcn.com/events/virtual-drop-in-exercise-class/2026-06-22/
LOCATION:Virtual\, Alberta\, Canada
CATEGORIES:Basic Health Care,Exercise,Health Self Management
GEO:53.9332706;-116.5765035
END:VEVENT
BEGIN:VEVENT
DTSTART;TZID=America/Edmonton:20260623T100000
DTEND;TZID=America/Edmonton:20260623T120000
DTSTAMP:20260421T000740
CREATED:20250411T182446Z
LAST-MODIFIED:20250411T182446Z
UID:10003148-1782208800-1782216000@lbdpcn.com
SUMMARY:Balance 55+
DESCRIPTION:Have you ever wanted to improve your physical health but not sure where to start? Do you strive to return to sport or a favourite pastime but are limited by mobility?  \nIf you have a T5W\, T5A or T5Y postal code\, join Edmonton North PCN Exercise Specialists for Balance 55+. This class focuses on strength\, mobility\, and balance to help achieve your fitness and health goals. \n\n\n\n\n\n\n\n\nEvery Tuesday at Rundle School (11005 – 34 Street)\nNo registration required.
URL:https://lbdpcn.com/events/balance-55/2026-06-23/
LOCATION:Edmonton North PCN\, Alberta\, Canada
CATEGORIES:Basic Health Care,Education,Exercise
GEO:53.9332706;-116.5765035
END:VEVENT
BEGIN:VEVENT
DTSTART;TZID=America/Edmonton:20260623T133000
DTEND;TZID=America/Edmonton:20260623T143000
DTSTAMP:20260421T000740
CREATED:20230524T175623Z
LAST-MODIFIED:20230524T175623Z
UID:10001537-1782221400-1782225000@lbdpcn.com
SUMMARY:MOVE
DESCRIPTION:MOVE is a free weekly exercise program that gives people the opportunity to be physically active alongside an exercise specialist (kinesiologist). \nLocated at the Allin Clinic\, this class runs every Tuesday from 1:30 – 2:30 pm.
URL:https://lbdpcn.com/events/move/2026-06-23/
LOCATION:Edmonton O-day’min\, 10155 120 Street\, Edmonton\, Alberta\, Canada
CATEGORIES:Basic Health Care,Chronic Disease Management,Exercise,Health Self Management
GEO:53.5427482;-113.5281666
X-APPLE-STRUCTURED-LOCATION;VALUE=URI;X-ADDRESS=Edmonton O-day’min 10155 120 Street Edmonton Alberta Canada;X-APPLE-RADIUS=500;X-TITLE=10155 120 Street:geo:-113.5281666,53.5427482
END:VEVENT
BEGIN:VEVENT
DTSTART;TZID=America/Edmonton:20260624T090000
DTEND;TZID=America/Edmonton:20260624T103000
DTSTAMP:20260421T000740
CREATED:20231219T172839Z
LAST-MODIFIED:20260415T174653Z
UID:10004866-1782291600-1782297000@lbdpcn.com
SUMMARY:Eating Well the Mediterranean Way
DESCRIPTION:Research has shown that following a Mediterranean eating plan reduces the risk of chronic diseases including heart disease\, Type 2 Diabetes\, high blood pressure\, some cancers\, mental health concerns and obesity. This style of eating includes foods rich in healthy fats\, vitamins\, minerals\, fibre and other healthy plants. It’s also lower in saturated fats\, red and processed meats\, refined grains and sugar.
URL:https://lbdpcn.com/events/eating-well-the-mediterranean-way/2026-06-24/
LOCATION:Virtual\, Alberta\, Canada
GEO:53.9332706;-116.5765035
END:VEVENT
BEGIN:VEVENT
DTSTART;TZID=America/Edmonton:20260624T100000
DTEND;TZID=America/Edmonton:20260624T110000
DTSTAMP:20260421T000740
CREATED:20250623T221348Z
LAST-MODIFIED:20250623T221919Z
UID:10003808-1782295200-1782298800@lbdpcn.com
SUMMARY:Movers & Groovers
DESCRIPTION:Online follow-along exercise program for adults. Includes strength exercises\, balance exercises\, and stretches. \nJoin Brad\, PCN Exercise Specialist with the Wolf Creek PCN\, as he leads you through safe and appropriate exercises for a wide range of fitness levels each day.\nMovers & Groovers is a year-round drop-in class. You can attend as many times as you like. In fact\, we encourage you to attend often! \nFor more information\, visit the website at wolfcreekpcn.com/programs-and-classes/movers-and-groovers. \nJoin the class at the time of the event through the link.
URL:https://lbdpcn.com/events/movers-groovers/2026-06-24/
LOCATION:Virtual\, Alberta\, Canada
CATEGORIES:Exercise
GEO:53.9332706;-116.5765035
END:VEVENT
BEGIN:VEVENT
DTSTART;TZID=America/Edmonton:20260624T140000
DTEND;TZID=America/Edmonton:20260624T153000
DTSTAMP:20260421T000740
CREATED:20241022T211054Z
LAST-MODIFIED:20260415T174309Z
UID:10004940-1782309600-1782315000@lbdpcn.com
SUMMARY:Make it Mediterranean
DESCRIPTION:Research has shown that following a Mediterranean eating plan reduces the risk of chronic diseases including heart disease\, Type 2 Diabetes\, high blood pressure\, some cancers\, mental health concerns and obesity. This style of eating includes foods rich in healthy fats\, vitamins\, minerals\, fibre and other healthy plants. It’s also lower in saturated fats\, red and processed meats\, refined grains and sugar.
URL:https://lbdpcn.com/events/make-it-mediterranean/2026-06-24/
LOCATION:WestView PCN\, Queen Street\, Spruce Grove\, Alberta\, T7X 2V2\, Canada
CATEGORIES:Education,Healthy Eating,Nutrition
GEO:53.5449044;-113.9072144
X-APPLE-STRUCTURED-LOCATION;VALUE=URI;X-ADDRESS=WestView PCN Queen Street Spruce Grove Alberta T7X 2V2 Canada;X-APPLE-RADIUS=500;X-TITLE=Queen Street:geo:-113.9072144,53.5449044
END:VEVENT
BEGIN:VEVENT
DTSTART;TZID=America/Edmonton:20260625T133000
DTEND;TZID=America/Edmonton:20260625T140000
DTSTAMP:20260421T000740
CREATED:20230110T214632Z
LAST-MODIFIED:20231219T172528Z
UID:10001897-1782394200-1782396000@lbdpcn.com
SUMMARY:Drop-In Exercise
DESCRIPTION:Led by an Exercise Specialist\, this class focuses on guiding you through low impact stretches and exercises. Each class will focus on a specific muscle group\, so you optimize your workout and learn exercises associated with different muscle groups. We do not require medical screenings for participation in this class\, so if you have any concerns please contact one of our Exercise Specialists to discuss them. \nVirtual class.
URL:https://lbdpcn.com/events/drop-in-exercise/2026-06-25/
LOCATION:Sherwood Park PCN\, 150 Broadway Crescent #108\, Sherwood Park\, Alberta\, T8H 0V3\, Canada
CATEGORIES:Basic Health Care,Chronic Disease Management,Exercise,Health Self Management,Weight Management
GEO:53.5462517;-113.313407
X-APPLE-STRUCTURED-LOCATION;VALUE=URI;X-ADDRESS=Sherwood Park PCN 150 Broadway Crescent #108 Sherwood Park Alberta T8H 0V3 Canada;X-APPLE-RADIUS=500;X-TITLE=150 Broadway Crescent #108:geo:-113.313407,53.5462517
END:VEVENT
BEGIN:VEVENT
DTSTART;TZID=America/Edmonton:20260625T133000
DTEND;TZID=America/Edmonton:20260625T140000
DTSTAMP:20260421T000740
CREATED:20250723T163402Z
LAST-MODIFIED:20250723T163402Z
UID:10004328-1782394200-1782396000@lbdpcn.com
SUMMARY:Virtual Drop-In Exercise Class
DESCRIPTION:Led by the Sherwood Park PCN Exercise Specialist\, this virtual exercise class focuses on guiding you through low-impact stretches and exercises. \nClasses every Monday and Thursday.
URL:https://lbdpcn.com/events/virtual-drop-in-exercise-class/2026-06-25/
LOCATION:Virtual\, Alberta\, Canada
CATEGORIES:Basic Health Care,Exercise,Health Self Management
GEO:53.9332706;-116.5765035
END:VEVENT
BEGIN:VEVENT
DTSTART;TZID=America/Edmonton:20260629T100000
DTEND;TZID=America/Edmonton:20260629T110000
DTSTAMP:20260421T000740
CREATED:20250623T221348Z
LAST-MODIFIED:20250623T221919Z
UID:10003809-1782727200-1782730800@lbdpcn.com
SUMMARY:Movers & Groovers
DESCRIPTION:Online follow-along exercise program for adults. Includes strength exercises\, balance exercises\, and stretches. \nJoin Brad\, PCN Exercise Specialist with the Wolf Creek PCN\, as he leads you through safe and appropriate exercises for a wide range of fitness levels each day.\nMovers & Groovers is a year-round drop-in class. You can attend as many times as you like. In fact\, we encourage you to attend often! \nFor more information\, visit the website at wolfcreekpcn.com/programs-and-classes/movers-and-groovers. \nJoin the class at the time of the event through the link.
URL:https://lbdpcn.com/events/movers-groovers/2026-06-29/
LOCATION:Virtual\, Alberta\, Canada
CATEGORIES:Exercise
GEO:53.9332706;-116.5765035
END:VEVENT
BEGIN:VEVENT
DTSTART;TZID=America/Edmonton:20260629T133000
DTEND;TZID=America/Edmonton:20260629T140000
DTSTAMP:20260421T000740
CREATED:20230110T214632Z
LAST-MODIFIED:20231219T172528Z
UID:10001898-1782739800-1782741600@lbdpcn.com
SUMMARY:Drop-In Exercise
DESCRIPTION:Led by an Exercise Specialist\, this class focuses on guiding you through low impact stretches and exercises. Each class will focus on a specific muscle group\, so you optimize your workout and learn exercises associated with different muscle groups. We do not require medical screenings for participation in this class\, so if you have any concerns please contact one of our Exercise Specialists to discuss them. \nVirtual class.
URL:https://lbdpcn.com/events/drop-in-exercise/2026-06-29/
LOCATION:Sherwood Park PCN\, 150 Broadway Crescent #108\, Sherwood Park\, Alberta\, T8H 0V3\, Canada
CATEGORIES:Basic Health Care,Chronic Disease Management,Exercise,Health Self Management,Weight Management
GEO:53.5462517;-113.313407
X-APPLE-STRUCTURED-LOCATION;VALUE=URI;X-ADDRESS=Sherwood Park PCN 150 Broadway Crescent #108 Sherwood Park Alberta T8H 0V3 Canada;X-APPLE-RADIUS=500;X-TITLE=150 Broadway Crescent #108:geo:-113.313407,53.5462517
END:VEVENT
BEGIN:VEVENT
DTSTART;TZID=America/Edmonton:20260629T133000
DTEND;TZID=America/Edmonton:20260629T140000
DTSTAMP:20260421T000740
CREATED:20250723T163402Z
LAST-MODIFIED:20250723T163402Z
UID:10004329-1782739800-1782741600@lbdpcn.com
SUMMARY:Virtual Drop-In Exercise Class
DESCRIPTION:Led by the Sherwood Park PCN Exercise Specialist\, this virtual exercise class focuses on guiding you through low-impact stretches and exercises. \nClasses every Monday and Thursday.
URL:https://lbdpcn.com/events/virtual-drop-in-exercise-class/2026-06-29/
LOCATION:Virtual\, Alberta\, Canada
CATEGORIES:Basic Health Care,Exercise,Health Self Management
GEO:53.9332706;-116.5765035
END:VEVENT
BEGIN:VEVENT
DTSTART;TZID=America/Edmonton:20260630T100000
DTEND;TZID=America/Edmonton:20260630T120000
DTSTAMP:20260421T000740
CREATED:20250411T182446Z
LAST-MODIFIED:20250411T182446Z
UID:10003149-1782813600-1782820800@lbdpcn.com
SUMMARY:Balance 55+
DESCRIPTION:Have you ever wanted to improve your physical health but not sure where to start? Do you strive to return to sport or a favourite pastime but are limited by mobility?  \nIf you have a T5W\, T5A or T5Y postal code\, join Edmonton North PCN Exercise Specialists for Balance 55+. This class focuses on strength\, mobility\, and balance to help achieve your fitness and health goals. \n\n\n\n\n\n\n\n\nEvery Tuesday at Rundle School (11005 – 34 Street)\nNo registration required.
URL:https://lbdpcn.com/events/balance-55/2026-06-30/
LOCATION:Edmonton North PCN\, Alberta\, Canada
CATEGORIES:Basic Health Care,Education,Exercise
GEO:53.9332706;-116.5765035
END:VEVENT
BEGIN:VEVENT
DTSTART;TZID=America/Edmonton:20260630T133000
DTEND;TZID=America/Edmonton:20260630T143000
DTSTAMP:20260421T000740
CREATED:20230524T175623Z
LAST-MODIFIED:20230524T175623Z
UID:10001538-1782826200-1782829800@lbdpcn.com
SUMMARY:MOVE
DESCRIPTION:MOVE is a free weekly exercise program that gives people the opportunity to be physically active alongside an exercise specialist (kinesiologist). \nLocated at the Allin Clinic\, this class runs every Tuesday from 1:30 – 2:30 pm.
URL:https://lbdpcn.com/events/move/2026-06-30/
LOCATION:Edmonton O-day’min\, 10155 120 Street\, Edmonton\, Alberta\, Canada
CATEGORIES:Basic Health Care,Chronic Disease Management,Exercise,Health Self Management
GEO:53.5427482;-113.5281666
X-APPLE-STRUCTURED-LOCATION;VALUE=URI;X-ADDRESS=Edmonton O-day’min 10155 120 Street Edmonton Alberta Canada;X-APPLE-RADIUS=500;X-TITLE=10155 120 Street:geo:-113.5281666,53.5427482
END:VEVENT
BEGIN:VEVENT
DTSTART;TZID=America/Edmonton:20260701T100000
DTEND;TZID=America/Edmonton:20260701T110000
DTSTAMP:20260421T000740
CREATED:20250623T221348Z
LAST-MODIFIED:20250623T221919Z
UID:10003810-1782900000-1782903600@lbdpcn.com
SUMMARY:Movers & Groovers
DESCRIPTION:Online follow-along exercise program for adults. Includes strength exercises\, balance exercises\, and stretches. \nJoin Brad\, PCN Exercise Specialist with the Wolf Creek PCN\, as he leads you through safe and appropriate exercises for a wide range of fitness levels each day.\nMovers & Groovers is a year-round drop-in class. You can attend as many times as you like. In fact\, we encourage you to attend often! \nFor more information\, visit the website at wolfcreekpcn.com/programs-and-classes/movers-and-groovers. \nJoin the class at the time of the event through the link.
URL:https://lbdpcn.com/events/movers-groovers/2026-07-01/
LOCATION:Virtual\, Alberta\, Canada
CATEGORIES:Exercise
GEO:53.9332706;-116.5765035
END:VEVENT
BEGIN:VEVENT
DTSTART;TZID=America/Edmonton:20260702T133000
DTEND;TZID=America/Edmonton:20260702T140000
DTSTAMP:20260421T000740
CREATED:20230110T214632Z
LAST-MODIFIED:20231219T172528Z
UID:10001899-1782999000-1783000800@lbdpcn.com
SUMMARY:Drop-In Exercise
DESCRIPTION:Led by an Exercise Specialist\, this class focuses on guiding you through low impact stretches and exercises. Each class will focus on a specific muscle group\, so you optimize your workout and learn exercises associated with different muscle groups. We do not require medical screenings for participation in this class\, so if you have any concerns please contact one of our Exercise Specialists to discuss them. \nVirtual class.
URL:https://lbdpcn.com/events/drop-in-exercise/2026-07-02/
LOCATION:Sherwood Park PCN\, 150 Broadway Crescent #108\, Sherwood Park\, Alberta\, T8H 0V3\, Canada
CATEGORIES:Basic Health Care,Chronic Disease Management,Exercise,Health Self Management,Weight Management
GEO:53.5462517;-113.313407
X-APPLE-STRUCTURED-LOCATION;VALUE=URI;X-ADDRESS=Sherwood Park PCN 150 Broadway Crescent #108 Sherwood Park Alberta T8H 0V3 Canada;X-APPLE-RADIUS=500;X-TITLE=150 Broadway Crescent #108:geo:-113.313407,53.5462517
END:VEVENT
BEGIN:VEVENT
DTSTART;TZID=America/Edmonton:20260702T133000
DTEND;TZID=America/Edmonton:20260702T140000
DTSTAMP:20260421T000740
CREATED:20250723T163402Z
LAST-MODIFIED:20250723T163402Z
UID:10004330-1782999000-1783000800@lbdpcn.com
SUMMARY:Virtual Drop-In Exercise Class
DESCRIPTION:Led by the Sherwood Park PCN Exercise Specialist\, this virtual exercise class focuses on guiding you through low-impact stretches and exercises. \nClasses every Monday and Thursday.
URL:https://lbdpcn.com/events/virtual-drop-in-exercise-class/2026-07-02/
LOCATION:Virtual\, Alberta\, Canada
CATEGORIES:Basic Health Care,Exercise,Health Self Management
GEO:53.9332706;-116.5765035
END:VEVENT
BEGIN:VEVENT
DTSTART;TZID=America/Edmonton:20260706T100000
DTEND;TZID=America/Edmonton:20260706T110000
DTSTAMP:20260421T000740
CREATED:20250623T221348Z
LAST-MODIFIED:20250623T221919Z
UID:10003811-1783332000-1783335600@lbdpcn.com
SUMMARY:Movers & Groovers
DESCRIPTION:Online follow-along exercise program for adults. Includes strength exercises\, balance exercises\, and stretches. \nJoin Brad\, PCN Exercise Specialist with the Wolf Creek PCN\, as he leads you through safe and appropriate exercises for a wide range of fitness levels each day.\nMovers & Groovers is a year-round drop-in class. You can attend as many times as you like. In fact\, we encourage you to attend often! \nFor more information\, visit the website at wolfcreekpcn.com/programs-and-classes/movers-and-groovers. \nJoin the class at the time of the event through the link.
URL:https://lbdpcn.com/events/movers-groovers/2026-07-06/
LOCATION:Virtual\, Alberta\, Canada
CATEGORIES:Exercise
GEO:53.9332706;-116.5765035
END:VEVENT
BEGIN:VEVENT
DTSTART;TZID=America/Edmonton:20260706T133000
DTEND;TZID=America/Edmonton:20260706T140000
DTSTAMP:20260421T000740
CREATED:20230110T214632Z
LAST-MODIFIED:20231219T172528Z
UID:10001900-1783344600-1783346400@lbdpcn.com
SUMMARY:Drop-In Exercise
DESCRIPTION:Led by an Exercise Specialist\, this class focuses on guiding you through low impact stretches and exercises. Each class will focus on a specific muscle group\, so you optimize your workout and learn exercises associated with different muscle groups. We do not require medical screenings for participation in this class\, so if you have any concerns please contact one of our Exercise Specialists to discuss them. \nVirtual class.
URL:https://lbdpcn.com/events/drop-in-exercise/2026-07-06/
LOCATION:Sherwood Park PCN\, 150 Broadway Crescent #108\, Sherwood Park\, Alberta\, T8H 0V3\, Canada
CATEGORIES:Basic Health Care,Chronic Disease Management,Exercise,Health Self Management,Weight Management
GEO:53.5462517;-113.313407
X-APPLE-STRUCTURED-LOCATION;VALUE=URI;X-ADDRESS=Sherwood Park PCN 150 Broadway Crescent #108 Sherwood Park Alberta T8H 0V3 Canada;X-APPLE-RADIUS=500;X-TITLE=150 Broadway Crescent #108:geo:-113.313407,53.5462517
END:VEVENT
BEGIN:VEVENT
DTSTART;TZID=America/Edmonton:20260706T133000
DTEND;TZID=America/Edmonton:20260706T140000
DTSTAMP:20260421T000740
CREATED:20250723T163402Z
LAST-MODIFIED:20250723T163402Z
UID:10004331-1783344600-1783346400@lbdpcn.com
SUMMARY:Virtual Drop-In Exercise Class
DESCRIPTION:Led by the Sherwood Park PCN Exercise Specialist\, this virtual exercise class focuses on guiding you through low-impact stretches and exercises. \nClasses every Monday and Thursday.
URL:https://lbdpcn.com/events/virtual-drop-in-exercise-class/2026-07-06/
LOCATION:Virtual\, Alberta\, Canada
CATEGORIES:Basic Health Care,Exercise,Health Self Management
GEO:53.9332706;-116.5765035
END:VEVENT
BEGIN:VEVENT
DTSTART;TZID=America/Edmonton:20260707T100000
DTEND;TZID=America/Edmonton:20260707T120000
DTSTAMP:20260421T000740
CREATED:20250411T182446Z
LAST-MODIFIED:20250411T182446Z
UID:10003150-1783418400-1783425600@lbdpcn.com
SUMMARY:Balance 55+
DESCRIPTION:Have you ever wanted to improve your physical health but not sure where to start? Do you strive to return to sport or a favourite pastime but are limited by mobility?  \nIf you have a T5W\, T5A or T5Y postal code\, join Edmonton North PCN Exercise Specialists for Balance 55+. This class focuses on strength\, mobility\, and balance to help achieve your fitness and health goals. \n\n\n\n\n\n\n\n\nEvery Tuesday at Rundle School (11005 – 34 Street)\nNo registration required.
URL:https://lbdpcn.com/events/balance-55/2026-07-07/
LOCATION:Edmonton North PCN\, Alberta\, Canada
CATEGORIES:Basic Health Care,Education,Exercise
GEO:53.9332706;-116.5765035
END:VEVENT
BEGIN:VEVENT
DTSTART;TZID=America/Edmonton:20260707T133000
DTEND;TZID=America/Edmonton:20260707T143000
DTSTAMP:20260421T000740
CREATED:20230524T175623Z
LAST-MODIFIED:20230524T175623Z
UID:10001539-1783431000-1783434600@lbdpcn.com
SUMMARY:MOVE
DESCRIPTION:MOVE is a free weekly exercise program that gives people the opportunity to be physically active alongside an exercise specialist (kinesiologist). \nLocated at the Allin Clinic\, this class runs every Tuesday from 1:30 – 2:30 pm.
URL:https://lbdpcn.com/events/move/2026-07-07/
LOCATION:Edmonton O-day’min\, 10155 120 Street\, Edmonton\, Alberta\, Canada
CATEGORIES:Basic Health Care,Chronic Disease Management,Exercise,Health Self Management
GEO:53.5427482;-113.5281666
X-APPLE-STRUCTURED-LOCATION;VALUE=URI;X-ADDRESS=Edmonton O-day’min 10155 120 Street Edmonton Alberta Canada;X-APPLE-RADIUS=500;X-TITLE=10155 120 Street:geo:-113.5281666,53.5427482
END:VEVENT
BEGIN:VEVENT
DTSTART;TZID=America/Edmonton:20260708T100000
DTEND;TZID=America/Edmonton:20260708T110000
DTSTAMP:20260421T000740
CREATED:20250623T221348Z
LAST-MODIFIED:20250623T221919Z
UID:10003812-1783504800-1783508400@lbdpcn.com
SUMMARY:Movers & Groovers
DESCRIPTION:Online follow-along exercise program for adults. Includes strength exercises\, balance exercises\, and stretches. \nJoin Brad\, PCN Exercise Specialist with the Wolf Creek PCN\, as he leads you through safe and appropriate exercises for a wide range of fitness levels each day.\nMovers & Groovers is a year-round drop-in class. You can attend as many times as you like. In fact\, we encourage you to attend often! \nFor more information\, visit the website at wolfcreekpcn.com/programs-and-classes/movers-and-groovers. \nJoin the class at the time of the event through the link.
URL:https://lbdpcn.com/events/movers-groovers/2026-07-08/
LOCATION:Virtual\, Alberta\, Canada
CATEGORIES:Exercise
GEO:53.9332706;-116.5765035
END:VEVENT
BEGIN:VEVENT
DTSTART;TZID=America/Edmonton:20260709T133000
DTEND;TZID=America/Edmonton:20260709T140000
DTSTAMP:20260421T000740
CREATED:20230110T214632Z
LAST-MODIFIED:20231219T172528Z
UID:10001901-1783603800-1783605600@lbdpcn.com
SUMMARY:Drop-In Exercise
DESCRIPTION:Led by an Exercise Specialist\, this class focuses on guiding you through low impact stretches and exercises. Each class will focus on a specific muscle group\, so you optimize your workout and learn exercises associated with different muscle groups. We do not require medical screenings for participation in this class\, so if you have any concerns please contact one of our Exercise Specialists to discuss them. \nVirtual class.
URL:https://lbdpcn.com/events/drop-in-exercise/2026-07-09/
LOCATION:Sherwood Park PCN\, 150 Broadway Crescent #108\, Sherwood Park\, Alberta\, T8H 0V3\, Canada
CATEGORIES:Basic Health Care,Chronic Disease Management,Exercise,Health Self Management,Weight Management
GEO:53.5462517;-113.313407
X-APPLE-STRUCTURED-LOCATION;VALUE=URI;X-ADDRESS=Sherwood Park PCN 150 Broadway Crescent #108 Sherwood Park Alberta T8H 0V3 Canada;X-APPLE-RADIUS=500;X-TITLE=150 Broadway Crescent #108:geo:-113.313407,53.5462517
END:VEVENT
BEGIN:VEVENT
DTSTART;TZID=America/Edmonton:20260709T133000
DTEND;TZID=America/Edmonton:20260709T140000
DTSTAMP:20260421T000740
CREATED:20250723T163402Z
LAST-MODIFIED:20250723T163402Z
UID:10004332-1783603800-1783605600@lbdpcn.com
SUMMARY:Virtual Drop-In Exercise Class
DESCRIPTION:Led by the Sherwood Park PCN Exercise Specialist\, this virtual exercise class focuses on guiding you through low-impact stretches and exercises. \nClasses every Monday and Thursday.
URL:https://lbdpcn.com/events/virtual-drop-in-exercise-class/2026-07-09/
LOCATION:Virtual\, Alberta\, Canada
CATEGORIES:Basic Health Care,Exercise,Health Self Management
GEO:53.9332706;-116.5765035
END:VEVENT
BEGIN:VEVENT
DTSTART;TZID=America/Edmonton:20260713T100000
DTEND;TZID=America/Edmonton:20260713T110000
DTSTAMP:20260421T000740
CREATED:20250623T221348Z
LAST-MODIFIED:20250623T221919Z
UID:10003813-1783936800-1783940400@lbdpcn.com
SUMMARY:Movers & Groovers
DESCRIPTION:Online follow-along exercise program for adults. Includes strength exercises\, balance exercises\, and stretches. \nJoin Brad\, PCN Exercise Specialist with the Wolf Creek PCN\, as he leads you through safe and appropriate exercises for a wide range of fitness levels each day.\nMovers & Groovers is a year-round drop-in class. You can attend as many times as you like. In fact\, we encourage you to attend often! \nFor more information\, visit the website at wolfcreekpcn.com/programs-and-classes/movers-and-groovers. \nJoin the class at the time of the event through the link.
URL:https://lbdpcn.com/events/movers-groovers/2026-07-13/
LOCATION:Virtual\, Alberta\, Canada
CATEGORIES:Exercise
GEO:53.9332706;-116.5765035
END:VEVENT
BEGIN:VEVENT
DTSTART;TZID=America/Edmonton:20260713T133000
DTEND;TZID=America/Edmonton:20260713T140000
DTSTAMP:20260421T000740
CREATED:20230110T214632Z
LAST-MODIFIED:20231219T172528Z
UID:10001902-1783949400-1783951200@lbdpcn.com
SUMMARY:Drop-In Exercise
DESCRIPTION:Led by an Exercise Specialist\, this class focuses on guiding you through low impact stretches and exercises. Each class will focus on a specific muscle group\, so you optimize your workout and learn exercises associated with different muscle groups. We do not require medical screenings for participation in this class\, so if you have any concerns please contact one of our Exercise Specialists to discuss them. \nVirtual class.
URL:https://lbdpcn.com/events/drop-in-exercise/2026-07-13/
LOCATION:Sherwood Park PCN\, 150 Broadway Crescent #108\, Sherwood Park\, Alberta\, T8H 0V3\, Canada
CATEGORIES:Basic Health Care,Chronic Disease Management,Exercise,Health Self Management,Weight Management
GEO:53.5462517;-113.313407
X-APPLE-STRUCTURED-LOCATION;VALUE=URI;X-ADDRESS=Sherwood Park PCN 150 Broadway Crescent #108 Sherwood Park Alberta T8H 0V3 Canada;X-APPLE-RADIUS=500;X-TITLE=150 Broadway Crescent #108:geo:-113.313407,53.5462517
END:VEVENT
BEGIN:VEVENT
DTSTART;TZID=America/Edmonton:20260713T133000
DTEND;TZID=America/Edmonton:20260713T140000
DTSTAMP:20260421T000740
CREATED:20250723T163402Z
LAST-MODIFIED:20250723T163402Z
UID:10004333-1783949400-1783951200@lbdpcn.com
SUMMARY:Virtual Drop-In Exercise Class
DESCRIPTION:Led by the Sherwood Park PCN Exercise Specialist\, this virtual exercise class focuses on guiding you through low-impact stretches and exercises. \nClasses every Monday and Thursday.
URL:https://lbdpcn.com/events/virtual-drop-in-exercise-class/2026-07-13/
LOCATION:Virtual\, Alberta\, Canada
CATEGORIES:Basic Health Care,Exercise,Health Self Management
GEO:53.9332706;-116.5765035
END:VEVENT
BEGIN:VEVENT
DTSTART;TZID=America/Edmonton:20260714T100000
DTEND;TZID=America/Edmonton:20260714T120000
DTSTAMP:20260421T000740
CREATED:20250411T182446Z
LAST-MODIFIED:20250411T182446Z
UID:10003151-1784023200-1784030400@lbdpcn.com
SUMMARY:Balance 55+
DESCRIPTION:Have you ever wanted to improve your physical health but not sure where to start? Do you strive to return to sport or a favourite pastime but are limited by mobility?  \nIf you have a T5W\, T5A or T5Y postal code\, join Edmonton North PCN Exercise Specialists for Balance 55+. This class focuses on strength\, mobility\, and balance to help achieve your fitness and health goals. \n\n\n\n\n\n\n\n\nEvery Tuesday at Rundle School (11005 – 34 Street)\nNo registration required.
URL:https://lbdpcn.com/events/balance-55/2026-07-14/
LOCATION:Edmonton North PCN\, Alberta\, Canada
CATEGORIES:Basic Health Care,Education,Exercise
GEO:53.9332706;-116.5765035
END:VEVENT
BEGIN:VEVENT
DTSTART;TZID=America/Edmonton:20260714T133000
DTEND;TZID=America/Edmonton:20260714T143000
DTSTAMP:20260421T000740
CREATED:20230524T175623Z
LAST-MODIFIED:20230524T175623Z
UID:10001540-1784035800-1784039400@lbdpcn.com
SUMMARY:MOVE
DESCRIPTION:MOVE is a free weekly exercise program that gives people the opportunity to be physically active alongside an exercise specialist (kinesiologist). \nLocated at the Allin Clinic\, this class runs every Tuesday from 1:30 – 2:30 pm.
URL:https://lbdpcn.com/events/move/2026-07-14/
LOCATION:Edmonton O-day’min\, 10155 120 Street\, Edmonton\, Alberta\, Canada
CATEGORIES:Basic Health Care,Chronic Disease Management,Exercise,Health Self Management
GEO:53.5427482;-113.5281666
X-APPLE-STRUCTURED-LOCATION;VALUE=URI;X-ADDRESS=Edmonton O-day’min 10155 120 Street Edmonton Alberta Canada;X-APPLE-RADIUS=500;X-TITLE=10155 120 Street:geo:-113.5281666,53.5427482
END:VEVENT
END:VCALENDAR