BEGIN:VCALENDAR
VERSION:2.0
PRODID:-//Leduc Beaumont Devon PCN - ECPv6.15.20//NONSGML v1.0//EN
CALSCALE:GREGORIAN
METHOD:PUBLISH
X-ORIGINAL-URL:https://lbdpcn.com
X-WR-CALDESC:Events for Leduc Beaumont Devon PCN
REFRESH-INTERVAL;VALUE=DURATION:PT1H
X-Robots-Tag:noindex
X-PUBLISHED-TTL:PT1H
BEGIN:VTIMEZONE
TZID:America/Edmonton
BEGIN:DAYLIGHT
TZOFFSETFROM:-0700
TZOFFSETTO:-0600
TZNAME:MDT
DTSTART:20250309T090000
END:DAYLIGHT
BEGIN:STANDARD
TZOFFSETFROM:-0600
TZOFFSETTO:-0700
TZNAME:MST
DTSTART:20251102T080000
END:STANDARD
BEGIN:DAYLIGHT
TZOFFSETFROM:-0700
TZOFFSETTO:-0600
TZNAME:MDT
DTSTART:20260308T090000
END:DAYLIGHT
BEGIN:STANDARD
TZOFFSETFROM:-0600
TZOFFSETTO:-0700
TZNAME:MST
DTSTART:20261101T080000
END:STANDARD
BEGIN:DAYLIGHT
TZOFFSETFROM:-0700
TZOFFSETTO:-0600
TZNAME:MDT
DTSTART:20270314T090000
END:DAYLIGHT
BEGIN:STANDARD
TZOFFSETFROM:-0600
TZOFFSETTO:-0700
TZNAME:MST
DTSTART:20271107T080000
END:STANDARD
END:VTIMEZONE
BEGIN:VEVENT
DTSTART;TZID=America/Edmonton:20260512T173000
DTEND;TZID=America/Edmonton:20260512T193000
DTSTAMP:20260420T190719
CREATED:20250116T190758Z
LAST-MODIFIED:20260415T172021Z
UID:10004926-1778607000-1778614200@lbdpcn.com
SUMMARY:Managing Menopause
DESCRIPTION:Discover ways to help manage menopause symptoms through lifestyle changes and non-prescription and prescription therapy options. This class includes a detailed discussion on hormone therapy.
URL:https://lbdpcn.com/events/lets-talk-menopause-3/2026-05-12/
LOCATION:Sherwood Park PCN\, 150 Broadway Crescent #108\, Sherwood Park\, Alberta\, T8H 0V3\, Canada
CATEGORIES:Education,Health Self Management,Women's Health
GEO:53.5462517;-113.313407
X-APPLE-STRUCTURED-LOCATION;VALUE=URI;X-ADDRESS=Sherwood Park PCN 150 Broadway Crescent #108 Sherwood Park Alberta T8H 0V3 Canada;X-APPLE-RADIUS=500;X-TITLE=150 Broadway Crescent #108:geo:-113.313407,53.5462517
END:VEVENT
BEGIN:VEVENT
DTSTART;TZID=America/Edmonton:20260609T173000
DTEND;TZID=America/Edmonton:20260609T193000
DTSTAMP:20260420T190719
CREATED:20250116T190758Z
LAST-MODIFIED:20260415T172021Z
UID:10004927-1781026200-1781033400@lbdpcn.com
SUMMARY:Managing Menopause
DESCRIPTION:Discover ways to help manage menopause symptoms through lifestyle changes and non-prescription and prescription therapy options. This class includes a detailed discussion on hormone therapy.
URL:https://lbdpcn.com/events/lets-talk-menopause-3/2026-06-09/
LOCATION:Sherwood Park PCN\, 150 Broadway Crescent #108\, Sherwood Park\, Alberta\, T8H 0V3\, Canada
CATEGORIES:Education,Health Self Management,Women's Health
GEO:53.5462517;-113.313407
X-APPLE-STRUCTURED-LOCATION;VALUE=URI;X-ADDRESS=Sherwood Park PCN 150 Broadway Crescent #108 Sherwood Park Alberta T8H 0V3 Canada;X-APPLE-RADIUS=500;X-TITLE=150 Broadway Crescent #108:geo:-113.313407,53.5462517
END:VEVENT
END:VCALENDAR