BEGIN:VCALENDAR
VERSION:2.0
PRODID:-//Leduc Beaumont Devon PCN - ECPv6.15.20//NONSGML v1.0//EN
CALSCALE:GREGORIAN
METHOD:PUBLISH
X-ORIGINAL-URL:https://lbdpcn.com
X-WR-CALDESC:Events for Leduc Beaumont Devon PCN
REFRESH-INTERVAL;VALUE=DURATION:PT1H
X-Robots-Tag:noindex
X-PUBLISHED-TTL:PT1H
BEGIN:VTIMEZONE
TZID:America/Edmonton
BEGIN:DAYLIGHT
TZOFFSETFROM:-0700
TZOFFSETTO:-0600
TZNAME:MDT
DTSTART:20250309T090000
END:DAYLIGHT
BEGIN:STANDARD
TZOFFSETFROM:-0600
TZOFFSETTO:-0700
TZNAME:MST
DTSTART:20251102T080000
END:STANDARD
BEGIN:DAYLIGHT
TZOFFSETFROM:-0700
TZOFFSETTO:-0600
TZNAME:MDT
DTSTART:20260308T090000
END:DAYLIGHT
BEGIN:STANDARD
TZOFFSETFROM:-0600
TZOFFSETTO:-0700
TZNAME:MST
DTSTART:20261101T080000
END:STANDARD
BEGIN:DAYLIGHT
TZOFFSETFROM:-0700
TZOFFSETTO:-0600
TZNAME:MDT
DTSTART:20270314T090000
END:DAYLIGHT
BEGIN:STANDARD
TZOFFSETFROM:-0600
TZOFFSETTO:-0700
TZNAME:MST
DTSTART:20271107T080000
END:STANDARD
END:VTIMEZONE
BEGIN:VEVENT
DTSTART;TZID=America/Edmonton:20260617T130000
DTEND;TZID=America/Edmonton:20260617T153000
DTSTAMP:20260420T193624
CREATED:20250513T212013Z
LAST-MODIFIED:20260313T163041Z
UID:10004924-1781701200-1781710200@lbdpcn.com
SUMMARY:Advance Care Planning
DESCRIPTION:Advance Care Planning is a workshop that provides information\, education\, and guidance on the processes for completing Goals of Care (GOC)\, Personal Directives (PD)\, and Enduring Power of Attorney (EPA) documents. \nJoin an ESPCN Social Worker who can help answer your questions and provide insight from a medical perspective. \nDuring this workshop\, you will: \n\nLearn the importance of having these documents\nReceive instructions on how to fill out the paperwork\nReceive information about available resources in the community
URL:https://lbdpcn.com/events/advance-care-planning-2/2026-06-17/
LOCATION:Edmonton Southside PCN\, 3110 Calgary Trail NW\, Edmonton\, Alberta\, T6J 6V4\, Canada
CATEGORIES:Coordination of Care,Senior Care
GEO:53.4633987;-113.4956335
X-APPLE-STRUCTURED-LOCATION;VALUE=URI;X-ADDRESS=Edmonton Southside PCN 3110 Calgary Trail NW Edmonton Alberta T6J 6V4 Canada;X-APPLE-RADIUS=500;X-TITLE=3110 Calgary Trail NW:geo:-113.4956335,53.4633987
END:VEVENT
END:VCALENDAR