BEGIN:VCALENDAR
VERSION:2.0
PRODID:-//Leduc Beaumont Devon PCN - ECPv6.15.20//NONSGML v1.0//EN
CALSCALE:GREGORIAN
METHOD:PUBLISH
X-ORIGINAL-URL:https://lbdpcn.com
X-WR-CALDESC:Events for Leduc Beaumont Devon PCN
REFRESH-INTERVAL;VALUE=DURATION:PT1H
X-Robots-Tag:noindex
X-PUBLISHED-TTL:PT1H
BEGIN:VTIMEZONE
TZID:America/Edmonton
BEGIN:DAYLIGHT
TZOFFSETFROM:-0700
TZOFFSETTO:-0600
TZNAME:MDT
DTSTART:20250309T090000
END:DAYLIGHT
BEGIN:STANDARD
TZOFFSETFROM:-0600
TZOFFSETTO:-0700
TZNAME:MST
DTSTART:20251102T080000
END:STANDARD
BEGIN:DAYLIGHT
TZOFFSETFROM:-0700
TZOFFSETTO:-0600
TZNAME:MDT
DTSTART:20260308T090000
END:DAYLIGHT
BEGIN:STANDARD
TZOFFSETFROM:-0600
TZOFFSETTO:-0700
TZNAME:MST
DTSTART:20261101T080000
END:STANDARD
BEGIN:DAYLIGHT
TZOFFSETFROM:-0700
TZOFFSETTO:-0600
TZNAME:MDT
DTSTART:20270314T090000
END:DAYLIGHT
BEGIN:STANDARD
TZOFFSETFROM:-0600
TZOFFSETTO:-0700
TZNAME:MST
DTSTART:20271107T080000
END:STANDARD
END:VTIMEZONE
BEGIN:VEVENT
DTSTART;TZID=America/Edmonton:20260114T130000
DTEND;TZID=America/Edmonton:20260114T150000
DTSTAMP:20260420T211754
CREATED:20250513T212013Z
LAST-MODIFIED:20260313T163041Z
UID:10004841-1768395600-1768402800@lbdpcn.com
SUMMARY:Advance Care Planning
DESCRIPTION:Advance Care Planning is a workshop that provides information\, education\, and guidance on the processes for completing Goals of Care (GOC)\, Personal Directives (PD)\, and Enduring Power of Attorney (EPA) documents. \nJoin an ESPCN Social Worker who can help answer your questions and provide insight from a medical perspective. \nDuring this workshop\, you will: \n\nLearn the importance of having these documents\nReceive instructions on how to fill out the paperwork\nReceive information about available resources in the community
URL:https://lbdpcn.com/events/advance-care-planning-2/2026-01-14/
LOCATION:Edmonton Southside PCN\, 3110 Calgary Trail NW\, Edmonton\, Alberta\, T6J 6V4\, Canada
CATEGORIES:Coordination of Care,Senior Care
GEO:53.4633987;-113.4956335
X-APPLE-STRUCTURED-LOCATION;VALUE=URI;X-ADDRESS=Edmonton Southside PCN 3110 Calgary Trail NW Edmonton Alberta T6J 6V4 Canada;X-APPLE-RADIUS=500;X-TITLE=3110 Calgary Trail NW:geo:-113.4956335,53.4633987
END:VEVENT
BEGIN:VEVENT
DTSTART;TZID=America/Edmonton:20260115T173000
DTEND;TZID=America/Edmonton:20260115T200000
DTSTAMP:20260420T211754
CREATED:20250529T174424Z
LAST-MODIFIED:20260211T190303Z
UID:10003377-1768498200-1768507200@lbdpcn.com
SUMMARY:Personal Directive & Enduring Power of Attorney
DESCRIPTION:This workshop explains the importance of having a Personal Directive and Enduring Power of Attorney in place and will be facilitated by a Healthy Aging Social Worker who is also a Commissioner of Oaths. \nPersonal Directive – a document to name someone to make personal decisions for you in case you become incapable due to illness or injury.\nEnduring Power of Attorney – a document to name someone to make financial decisions on your behalf if you become incapable due to injury or illness. \nDuring this workshop\, the participants will: \n\nLearn the importance of having these documents.\nReceive step-by-step instructions on how to fill out the paperwork.\nWork with the Healthy Aging Social Worker to complete the forms properly.\nHave the finished papers witnessed and signed\, making them official.\n\nGuidelines for registration: \n\nMust have an LBDPCN primary care provider.\nParticipants must be 18 years of age or older.\nParticipants must register themselves.\nParticipants MUST be able to understand and communicate in English. No interpreters are permitted as the liability of creating legal documents through an interpreter is too high.\nParticipants must be able to fill in their own PD and EPA templates under the direction of the group facilitator. A support person can assist at the direction of the participant with their consent.\nIf a participant has a hearing impairment\, cognitive deficits or other physical or psychological barriers that make it a challenge to function within a group environment\, this is not the appropriate workshop.\nNo more than 2 people from the same family can attend the same group. This reduces the risk of abuse and coercion and an imbalance of group dynamics.\nA support person is not required. If you want to bring one\, the support person must call in and register themselves. Experience shows the majority of support people want to complete their own documents once the group starts.\nIt is IMPERATIVE to bring photo ID to the appointment. EPA documents cannot be completed without a photo ID.\n\nTo register for this workshop\, call our clinical administrator\, Ronda\, at the PCN to complete the registration process. 780-986-6624.
URL:https://lbdpcn.com/events/personal-directive-enduring-power-of-attorney-8/2026-01-15/
LOCATION:Leduc Beaumont Devon Primary Care Network\, #301 4710 50 Street\, Leduc\, Alberta\, T9E 6W2\, Canada
CATEGORIES:Basic Health Care,Education,End of Life Care,Senior Care
ATTACH;FMTTYPE=image/jpeg:https://lbdpcn.com/wp-content/uploads/2025/05/Personal-directives-pt-handout-no-date.jpg
GEO:53.262996;-113.5530327
X-APPLE-STRUCTURED-LOCATION;VALUE=URI;X-ADDRESS=Leduc Beaumont Devon Primary Care Network #301 4710 50 Street Leduc Alberta T9E 6W2 Canada;X-APPLE-RADIUS=500;X-TITLE=#301 4710 50 Street:geo:-113.5530327,53.262996
END:VEVENT
BEGIN:VEVENT
DTSTART;TZID=America/Edmonton:20260211T130000
DTEND;TZID=America/Edmonton:20260211T150000
DTSTAMP:20260420T211754
CREATED:20250513T212013Z
LAST-MODIFIED:20260313T163041Z
UID:10004842-1770814800-1770822000@lbdpcn.com
SUMMARY:Advance Care Planning
DESCRIPTION:Advance Care Planning is a workshop that provides information\, education\, and guidance on the processes for completing Goals of Care (GOC)\, Personal Directives (PD)\, and Enduring Power of Attorney (EPA) documents. \nJoin an ESPCN Social Worker who can help answer your questions and provide insight from a medical perspective. \nDuring this workshop\, you will: \n\nLearn the importance of having these documents\nReceive instructions on how to fill out the paperwork\nReceive information about available resources in the community
URL:https://lbdpcn.com/events/advance-care-planning-2/2026-02-11/
LOCATION:Edmonton Southside PCN\, 3110 Calgary Trail NW\, Edmonton\, Alberta\, T6J 6V4\, Canada
CATEGORIES:Coordination of Care,Senior Care
GEO:53.4633987;-113.4956335
X-APPLE-STRUCTURED-LOCATION;VALUE=URI;X-ADDRESS=Edmonton Southside PCN 3110 Calgary Trail NW Edmonton Alberta T6J 6V4 Canada;X-APPLE-RADIUS=500;X-TITLE=3110 Calgary Trail NW:geo:-113.4956335,53.4633987
END:VEVENT
BEGIN:VEVENT
DTSTART;TZID=America/Edmonton:20260311T130000
DTEND;TZID=America/Edmonton:20260311T150000
DTSTAMP:20260420T211754
CREATED:20250513T212013Z
LAST-MODIFIED:20260313T163041Z
UID:10004843-1773234000-1773241200@lbdpcn.com
SUMMARY:Advance Care Planning
DESCRIPTION:Advance Care Planning is a workshop that provides information\, education\, and guidance on the processes for completing Goals of Care (GOC)\, Personal Directives (PD)\, and Enduring Power of Attorney (EPA) documents. \nJoin an ESPCN Social Worker who can help answer your questions and provide insight from a medical perspective. \nDuring this workshop\, you will: \n\nLearn the importance of having these documents\nReceive instructions on how to fill out the paperwork\nReceive information about available resources in the community
URL:https://lbdpcn.com/events/advance-care-planning-2/2026-03-11/
LOCATION:Edmonton Southside PCN\, 3110 Calgary Trail NW\, Edmonton\, Alberta\, T6J 6V4\, Canada
CATEGORIES:Coordination of Care,Senior Care
GEO:53.4633987;-113.4956335
X-APPLE-STRUCTURED-LOCATION;VALUE=URI;X-ADDRESS=Edmonton Southside PCN 3110 Calgary Trail NW Edmonton Alberta T6J 6V4 Canada;X-APPLE-RADIUS=500;X-TITLE=3110 Calgary Trail NW:geo:-113.4956335,53.4633987
END:VEVENT
BEGIN:VEVENT
DTSTART;TZID=America/Edmonton:20260415T130000
DTEND;TZID=America/Edmonton:20260415T150000
DTSTAMP:20260420T211754
CREATED:20250513T212013Z
LAST-MODIFIED:20260313T163041Z
UID:10004922-1776258000-1776265200@lbdpcn.com
SUMMARY:Advance Care Planning
DESCRIPTION:Advance Care Planning is a workshop that provides information\, education\, and guidance on the processes for completing Goals of Care (GOC)\, Personal Directives (PD)\, and Enduring Power of Attorney (EPA) documents. \nJoin an ESPCN Social Worker who can help answer your questions and provide insight from a medical perspective. \nDuring this workshop\, you will: \n\nLearn the importance of having these documents\nReceive instructions on how to fill out the paperwork\nReceive information about available resources in the community
URL:https://lbdpcn.com/events/advance-care-planning-2/2026-04-15/
LOCATION:Edmonton Southside PCN\, 3110 Calgary Trail NW\, Edmonton\, Alberta\, T6J 6V4\, Canada
CATEGORIES:Coordination of Care,Senior Care
GEO:53.4633987;-113.4956335
X-APPLE-STRUCTURED-LOCATION;VALUE=URI;X-ADDRESS=Edmonton Southside PCN 3110 Calgary Trail NW Edmonton Alberta T6J 6V4 Canada;X-APPLE-RADIUS=500;X-TITLE=3110 Calgary Trail NW:geo:-113.4956335,53.4633987
END:VEVENT
BEGIN:VEVENT
DTSTART;TZID=America/Edmonton:20260507T173000
DTEND;TZID=America/Edmonton:20260507T200000
DTSTAMP:20260420T211754
CREATED:20250529T174424Z
LAST-MODIFIED:20260211T190303Z
UID:10004899-1778175000-1778184000@lbdpcn.com
SUMMARY:Personal Directive & Enduring Power of Attorney
DESCRIPTION:This workshop explains the importance of having a Personal Directive and Enduring Power of Attorney in place and will be facilitated by a Healthy Aging Social Worker who is also a Commissioner of Oaths. \nPersonal Directive – a document to name someone to make personal decisions for you in case you become incapable due to illness or injury.\nEnduring Power of Attorney – a document to name someone to make financial decisions on your behalf if you become incapable due to injury or illness. \nDuring this workshop\, the participants will: \n\nLearn the importance of having these documents.\nReceive step-by-step instructions on how to fill out the paperwork.\nWork with the Healthy Aging Social Worker to complete the forms properly.\nHave the finished papers witnessed and signed\, making them official.\n\nGuidelines for registration: \n\nMust have an LBDPCN primary care provider.\nParticipants must be 18 years of age or older.\nParticipants must register themselves.\nParticipants MUST be able to understand and communicate in English. No interpreters are permitted as the liability of creating legal documents through an interpreter is too high.\nParticipants must be able to fill in their own PD and EPA templates under the direction of the group facilitator. A support person can assist at the direction of the participant with their consent.\nIf a participant has a hearing impairment\, cognitive deficits or other physical or psychological barriers that make it a challenge to function within a group environment\, this is not the appropriate workshop.\nNo more than 2 people from the same family can attend the same group. This reduces the risk of abuse and coercion and an imbalance of group dynamics.\nA support person is not required. If you want to bring one\, the support person must call in and register themselves. Experience shows the majority of support people want to complete their own documents once the group starts.\nIt is IMPERATIVE to bring photo ID to the appointment. EPA documents cannot be completed without a photo ID.\n\nTo register for this workshop\, call our clinical administrator\, Ronda\, at the PCN to complete the registration process. 780-986-6624.
URL:https://lbdpcn.com/events/personal-directive-enduring-power-of-attorney-8/2026-05-07/
LOCATION:Leduc Beaumont Devon Primary Care Network\, #301 4710 50 Street\, Leduc\, Alberta\, T9E 6W2\, Canada
CATEGORIES:Basic Health Care,Education,End of Life Care,Senior Care
ATTACH;FMTTYPE=image/jpeg:https://lbdpcn.com/wp-content/uploads/2025/05/Personal-directives-pt-handout-no-date.jpg
GEO:53.262996;-113.5530327
X-APPLE-STRUCTURED-LOCATION;VALUE=URI;X-ADDRESS=Leduc Beaumont Devon Primary Care Network #301 4710 50 Street Leduc Alberta T9E 6W2 Canada;X-APPLE-RADIUS=500;X-TITLE=#301 4710 50 Street:geo:-113.5530327,53.262996
END:VEVENT
BEGIN:VEVENT
DTSTART;TZID=America/Edmonton:20260513T130000
DTEND;TZID=America/Edmonton:20260513T150000
DTSTAMP:20260420T211754
CREATED:20250513T212013Z
LAST-MODIFIED:20260313T163041Z
UID:10004923-1778677200-1778684400@lbdpcn.com
SUMMARY:Advance Care Planning
DESCRIPTION:Advance Care Planning is a workshop that provides information\, education\, and guidance on the processes for completing Goals of Care (GOC)\, Personal Directives (PD)\, and Enduring Power of Attorney (EPA) documents. \nJoin an ESPCN Social Worker who can help answer your questions and provide insight from a medical perspective. \nDuring this workshop\, you will: \n\nLearn the importance of having these documents\nReceive instructions on how to fill out the paperwork\nReceive information about available resources in the community
URL:https://lbdpcn.com/events/advance-care-planning-2/2026-05-13/
LOCATION:Edmonton Southside PCN\, 3110 Calgary Trail NW\, Edmonton\, Alberta\, T6J 6V4\, Canada
CATEGORIES:Coordination of Care,Senior Care
GEO:53.4633987;-113.4956335
X-APPLE-STRUCTURED-LOCATION;VALUE=URI;X-ADDRESS=Edmonton Southside PCN 3110 Calgary Trail NW Edmonton Alberta T6J 6V4 Canada;X-APPLE-RADIUS=500;X-TITLE=3110 Calgary Trail NW:geo:-113.4956335,53.4633987
END:VEVENT
BEGIN:VEVENT
DTSTART;TZID=America/Edmonton:20260617T130000
DTEND;TZID=America/Edmonton:20260617T153000
DTSTAMP:20260420T211754
CREATED:20250513T212013Z
LAST-MODIFIED:20260313T163041Z
UID:10004924-1781701200-1781710200@lbdpcn.com
SUMMARY:Advance Care Planning
DESCRIPTION:Advance Care Planning is a workshop that provides information\, education\, and guidance on the processes for completing Goals of Care (GOC)\, Personal Directives (PD)\, and Enduring Power of Attorney (EPA) documents. \nJoin an ESPCN Social Worker who can help answer your questions and provide insight from a medical perspective. \nDuring this workshop\, you will: \n\nLearn the importance of having these documents\nReceive instructions on how to fill out the paperwork\nReceive information about available resources in the community
URL:https://lbdpcn.com/events/advance-care-planning-2/2026-06-17/
LOCATION:Edmonton Southside PCN\, 3110 Calgary Trail NW\, Edmonton\, Alberta\, T6J 6V4\, Canada
CATEGORIES:Coordination of Care,Senior Care
GEO:53.4633987;-113.4956335
X-APPLE-STRUCTURED-LOCATION;VALUE=URI;X-ADDRESS=Edmonton Southside PCN 3110 Calgary Trail NW Edmonton Alberta T6J 6V4 Canada;X-APPLE-RADIUS=500;X-TITLE=3110 Calgary Trail NW:geo:-113.4956335,53.4633987
END:VEVENT
END:VCALENDAR