BEGIN:VCALENDAR
VERSION:2.0
PRODID:-//Leduc Beaumont Devon PCN - ECPv6.15.20//NONSGML v1.0//EN
CALSCALE:GREGORIAN
METHOD:PUBLISH
X-ORIGINAL-URL:https://lbdpcn.com
X-WR-CALDESC:Events for Leduc Beaumont Devon PCN
REFRESH-INTERVAL;VALUE=DURATION:PT1H
X-Robots-Tag:noindex
X-PUBLISHED-TTL:PT1H
BEGIN:VTIMEZONE
TZID:America/Edmonton
BEGIN:DAYLIGHT
TZOFFSETFROM:-0700
TZOFFSETTO:-0600
TZNAME:MDT
DTSTART:20250309T090000
END:DAYLIGHT
BEGIN:STANDARD
TZOFFSETFROM:-0600
TZOFFSETTO:-0700
TZNAME:MST
DTSTART:20251102T080000
END:STANDARD
BEGIN:DAYLIGHT
TZOFFSETFROM:-0700
TZOFFSETTO:-0600
TZNAME:MDT
DTSTART:20260308T090000
END:DAYLIGHT
BEGIN:STANDARD
TZOFFSETFROM:-0600
TZOFFSETTO:-0700
TZNAME:MST
DTSTART:20261101T080000
END:STANDARD
BEGIN:DAYLIGHT
TZOFFSETFROM:-0700
TZOFFSETTO:-0600
TZNAME:MDT
DTSTART:20270314T090000
END:DAYLIGHT
BEGIN:STANDARD
TZOFFSETFROM:-0600
TZOFFSETTO:-0700
TZNAME:MST
DTSTART:20271107T080000
END:STANDARD
END:VTIMEZONE
BEGIN:VEVENT
DTSTART;TZID=America/Edmonton:20260302T133000
DTEND;TZID=America/Edmonton:20260302T140000
DTSTAMP:20260425T084018
CREATED:20230110T214632Z
LAST-MODIFIED:20231219T172528Z
UID:10001864-1772458200-1772460000@lbdpcn.com
SUMMARY:Drop-In Exercise
DESCRIPTION:Led by an Exercise Specialist\, this class focuses on guiding you through low impact stretches and exercises. Each class will focus on a specific muscle group\, so you optimize your workout and learn exercises associated with different muscle groups. We do not require medical screenings for participation in this class\, so if you have any concerns please contact one of our Exercise Specialists to discuss them. \nVirtual class.
URL:https://lbdpcn.com/events/drop-in-exercise/2026-03-02/
LOCATION:Sherwood Park PCN\, 150 Broadway Crescent #108\, Sherwood Park\, Alberta\, T8H 0V3\, Canada
CATEGORIES:Basic Health Care,Chronic Disease Management,Exercise,Health Self Management,Weight Management
GEO:53.5462517;-113.313407
X-APPLE-STRUCTURED-LOCATION;VALUE=URI;X-ADDRESS=Sherwood Park PCN 150 Broadway Crescent #108 Sherwood Park Alberta T8H 0V3 Canada;X-APPLE-RADIUS=500;X-TITLE=150 Broadway Crescent #108:geo:-113.313407,53.5462517
END:VEVENT
BEGIN:VEVENT
DTSTART;TZID=America/Edmonton:20260303T133000
DTEND;TZID=America/Edmonton:20260303T143000
DTSTAMP:20260425T084018
CREATED:20230524T175623Z
LAST-MODIFIED:20230524T175623Z
UID:10001521-1772544600-1772548200@lbdpcn.com
SUMMARY:MOVE
DESCRIPTION:MOVE is a free weekly exercise program that gives people the opportunity to be physically active alongside an exercise specialist (kinesiologist). \nLocated at the Allin Clinic\, this class runs every Tuesday from 1:30 – 2:30 pm.
URL:https://lbdpcn.com/events/move/2026-03-03/
LOCATION:Edmonton O-day’min\, 10155 120 Street\, Edmonton\, Alberta\, Canada
CATEGORIES:Basic Health Care,Chronic Disease Management,Exercise,Health Self Management
GEO:53.5427482;-113.5281666
X-APPLE-STRUCTURED-LOCATION;VALUE=URI;X-ADDRESS=Edmonton O-day’min 10155 120 Street Edmonton Alberta Canada;X-APPLE-RADIUS=500;X-TITLE=10155 120 Street:geo:-113.5281666,53.5427482
END:VEVENT
BEGIN:VEVENT
DTSTART;TZID=America/Edmonton:20260304T133000
DTEND;TZID=America/Edmonton:20260304T153000
DTSTAMP:20260425T084018
CREATED:20210420T211608Z
LAST-MODIFIED:20260112T231817Z
UID:10004894-1772631000-1772638200@lbdpcn.com
SUMMARY:Moving on with Persistent Pain
DESCRIPTION:Learn ways to manage pain\, including planning your activities to improve stamina and energy while preventing flare-ups. You will also explore the relationship between anxiety and stress and pain levels\, along with learning to set goals to change your lifestyle and decrease pain. \n8-week series.
URL:https://lbdpcn.com/events/moving-on-with-persistent-pain/2026-03-04/
LOCATION:Virtual\, Alberta\, Canada
CATEGORIES:Chronic Disease Management,Health Self Management,Pain Management
ATTACH;FMTTYPE=image/jpeg:https://lbdpcn.com/wp-content/uploads/2021/04/Alberta-Moving-with-Persistent-Pain.jpg
GEO:53.9332706;-116.5765035
END:VEVENT
BEGIN:VEVENT
DTSTART;TZID=America/Edmonton:20260305T133000
DTEND;TZID=America/Edmonton:20260305T140000
DTSTAMP:20260425T084018
CREATED:20230110T214632Z
LAST-MODIFIED:20231219T172528Z
UID:10001865-1772717400-1772719200@lbdpcn.com
SUMMARY:Drop-In Exercise
DESCRIPTION:Led by an Exercise Specialist\, this class focuses on guiding you through low impact stretches and exercises. Each class will focus on a specific muscle group\, so you optimize your workout and learn exercises associated with different muscle groups. We do not require medical screenings for participation in this class\, so if you have any concerns please contact one of our Exercise Specialists to discuss them. \nVirtual class.
URL:https://lbdpcn.com/events/drop-in-exercise/2026-03-05/
LOCATION:Sherwood Park PCN\, 150 Broadway Crescent #108\, Sherwood Park\, Alberta\, T8H 0V3\, Canada
CATEGORIES:Basic Health Care,Chronic Disease Management,Exercise,Health Self Management,Weight Management
GEO:53.5462517;-113.313407
X-APPLE-STRUCTURED-LOCATION;VALUE=URI;X-ADDRESS=Sherwood Park PCN 150 Broadway Crescent #108 Sherwood Park Alberta T8H 0V3 Canada;X-APPLE-RADIUS=500;X-TITLE=150 Broadway Crescent #108:geo:-113.313407,53.5462517
END:VEVENT
BEGIN:VEVENT
DTSTART;TZID=America/Edmonton:20260305T173000
DTEND;TZID=America/Edmonton:20260305T193000
DTSTAMP:20260425T084018
CREATED:20231205T164605Z
LAST-MODIFIED:20260219T204745Z
UID:10004884-1772731800-1772739000@lbdpcn.com
SUMMARY:Changeways: Strategies for Personal Change
DESCRIPTION:Changeways is a group designed for adults to help combat stress\, anxiety and depression. It was developed using Cognitive Behavioural Therapy. You will learn skills to help challenge negative and distorted thinking in order to create a healthy lifestyle and build a good support network. \nDuring this workshop\, you will learn ways to boost your mood and overcome feelings of stress and anxiety. Group facilitators will teach you mindfulness techniques and how to incorporate relaxation into your life\, while also talking about the importance of nutrition\, exercise and self-care. \nParticipants will create weekly goals to practice in between classes and learn how to make sustainable changes to better their lives.\n6 week session.
URL:https://lbdpcn.com/events/changeways-strategies-for-personal-change-2-2/2026-03-05/
LOCATION:Edmonton North PCN\, Alberta\, Canada
CATEGORIES:Addiction and Mental Health,Basic Health Care,Chronic Disease Management,Health Self Management
GEO:53.9332706;-116.5765035
END:VEVENT
BEGIN:VEVENT
DTSTART;TZID=America/Edmonton:20260306T100000
DTEND;TZID=America/Edmonton:20260306T113000
DTSTAMP:20260425T084018
CREATED:20260219T214632Z
LAST-MODIFIED:20260415T172404Z
UID:10004917-1772791200-1772796600@lbdpcn.com
SUMMARY:My Way to Wellness: Diabetes
DESCRIPTION:This class provides an interactive\, beginner-friendly introduction to type 2 diabetes\, focusing on what diabetes is\, how insulin resistance develops\, and how high blood sugar affects the body. It empowers participants to improve their health through practical lifestyle strategies\, like nutrition and activity\, while supporting them to set personalized goals. \nWe’ll work on tools\, skills\, and discussion of food options and physical activity ideas to help you manage your diabetes symptoms and prevent complications.
URL:https://lbdpcn.com/events/my-way-to-wellness-diabetes/2026-03-06/
LOCATION:Sherwood Park PCN\, 150 Broadway Crescent #108\, Sherwood Park\, Alberta\, T8H 0V3\, Canada
CATEGORIES:Chronic Disease Management,Diabetes
GEO:53.5462517;-113.313407
X-APPLE-STRUCTURED-LOCATION;VALUE=URI;X-ADDRESS=Sherwood Park PCN 150 Broadway Crescent #108 Sherwood Park Alberta T8H 0V3 Canada;X-APPLE-RADIUS=500;X-TITLE=150 Broadway Crescent #108:geo:-113.313407,53.5462517
END:VEVENT
BEGIN:VEVENT
DTSTART;TZID=America/Edmonton:20260309T133000
DTEND;TZID=America/Edmonton:20260309T140000
DTSTAMP:20260425T084018
CREATED:20230110T214632Z
LAST-MODIFIED:20231219T172528Z
UID:10001866-1773063000-1773064800@lbdpcn.com
SUMMARY:Drop-In Exercise
DESCRIPTION:Led by an Exercise Specialist\, this class focuses on guiding you through low impact stretches and exercises. Each class will focus on a specific muscle group\, so you optimize your workout and learn exercises associated with different muscle groups. We do not require medical screenings for participation in this class\, so if you have any concerns please contact one of our Exercise Specialists to discuss them. \nVirtual class.
URL:https://lbdpcn.com/events/drop-in-exercise/2026-03-09/
LOCATION:Sherwood Park PCN\, 150 Broadway Crescent #108\, Sherwood Park\, Alberta\, T8H 0V3\, Canada
CATEGORIES:Basic Health Care,Chronic Disease Management,Exercise,Health Self Management,Weight Management
GEO:53.5462517;-113.313407
X-APPLE-STRUCTURED-LOCATION;VALUE=URI;X-ADDRESS=Sherwood Park PCN 150 Broadway Crescent #108 Sherwood Park Alberta T8H 0V3 Canada;X-APPLE-RADIUS=500;X-TITLE=150 Broadway Crescent #108:geo:-113.313407,53.5462517
END:VEVENT
BEGIN:VEVENT
DTSTART;TZID=America/Edmonton:20260310T133000
DTEND;TZID=America/Edmonton:20260310T143000
DTSTAMP:20260425T084018
CREATED:20230524T175623Z
LAST-MODIFIED:20230524T175623Z
UID:10001522-1773149400-1773153000@lbdpcn.com
SUMMARY:MOVE
DESCRIPTION:MOVE is a free weekly exercise program that gives people the opportunity to be physically active alongside an exercise specialist (kinesiologist). \nLocated at the Allin Clinic\, this class runs every Tuesday from 1:30 – 2:30 pm.
URL:https://lbdpcn.com/events/move/2026-03-10/
LOCATION:Edmonton O-day’min\, 10155 120 Street\, Edmonton\, Alberta\, Canada
CATEGORIES:Basic Health Care,Chronic Disease Management,Exercise,Health Self Management
GEO:53.5427482;-113.5281666
X-APPLE-STRUCTURED-LOCATION;VALUE=URI;X-ADDRESS=Edmonton O-day’min 10155 120 Street Edmonton Alberta Canada;X-APPLE-RADIUS=500;X-TITLE=10155 120 Street:geo:-113.5281666,53.5427482
END:VEVENT
BEGIN:VEVENT
DTSTART;TZID=America/Edmonton:20260312T133000
DTEND;TZID=America/Edmonton:20260312T140000
DTSTAMP:20260425T084018
CREATED:20230110T214632Z
LAST-MODIFIED:20231219T172528Z
UID:10001867-1773322200-1773324000@lbdpcn.com
SUMMARY:Drop-In Exercise
DESCRIPTION:Led by an Exercise Specialist\, this class focuses on guiding you through low impact stretches and exercises. Each class will focus on a specific muscle group\, so you optimize your workout and learn exercises associated with different muscle groups. We do not require medical screenings for participation in this class\, so if you have any concerns please contact one of our Exercise Specialists to discuss them. \nVirtual class.
URL:https://lbdpcn.com/events/drop-in-exercise/2026-03-12/
LOCATION:Sherwood Park PCN\, 150 Broadway Crescent #108\, Sherwood Park\, Alberta\, T8H 0V3\, Canada
CATEGORIES:Basic Health Care,Chronic Disease Management,Exercise,Health Self Management,Weight Management
GEO:53.5462517;-113.313407
X-APPLE-STRUCTURED-LOCATION;VALUE=URI;X-ADDRESS=Sherwood Park PCN 150 Broadway Crescent #108 Sherwood Park Alberta T8H 0V3 Canada;X-APPLE-RADIUS=500;X-TITLE=150 Broadway Crescent #108:geo:-113.313407,53.5462517
END:VEVENT
BEGIN:VEVENT
DTSTART;TZID=America/Edmonton:20260316T133000
DTEND;TZID=America/Edmonton:20260316T140000
DTSTAMP:20260425T084018
CREATED:20230110T214632Z
LAST-MODIFIED:20231219T172528Z
UID:10001868-1773667800-1773669600@lbdpcn.com
SUMMARY:Drop-In Exercise
DESCRIPTION:Led by an Exercise Specialist\, this class focuses on guiding you through low impact stretches and exercises. Each class will focus on a specific muscle group\, so you optimize your workout and learn exercises associated with different muscle groups. We do not require medical screenings for participation in this class\, so if you have any concerns please contact one of our Exercise Specialists to discuss them. \nVirtual class.
URL:https://lbdpcn.com/events/drop-in-exercise/2026-03-16/
LOCATION:Sherwood Park PCN\, 150 Broadway Crescent #108\, Sherwood Park\, Alberta\, T8H 0V3\, Canada
CATEGORIES:Basic Health Care,Chronic Disease Management,Exercise,Health Self Management,Weight Management
GEO:53.5462517;-113.313407
X-APPLE-STRUCTURED-LOCATION;VALUE=URI;X-ADDRESS=Sherwood Park PCN 150 Broadway Crescent #108 Sherwood Park Alberta T8H 0V3 Canada;X-APPLE-RADIUS=500;X-TITLE=150 Broadway Crescent #108:geo:-113.313407,53.5462517
END:VEVENT
BEGIN:VEVENT
DTSTART;TZID=America/Edmonton:20260317T133000
DTEND;TZID=America/Edmonton:20260317T143000
DTSTAMP:20260425T084018
CREATED:20230524T175623Z
LAST-MODIFIED:20230524T175623Z
UID:10001523-1773754200-1773757800@lbdpcn.com
SUMMARY:MOVE
DESCRIPTION:MOVE is a free weekly exercise program that gives people the opportunity to be physically active alongside an exercise specialist (kinesiologist). \nLocated at the Allin Clinic\, this class runs every Tuesday from 1:30 – 2:30 pm.
URL:https://lbdpcn.com/events/move/2026-03-17/
LOCATION:Edmonton O-day’min\, 10155 120 Street\, Edmonton\, Alberta\, Canada
CATEGORIES:Basic Health Care,Chronic Disease Management,Exercise,Health Self Management
GEO:53.5427482;-113.5281666
X-APPLE-STRUCTURED-LOCATION;VALUE=URI;X-ADDRESS=Edmonton O-day’min 10155 120 Street Edmonton Alberta Canada;X-APPLE-RADIUS=500;X-TITLE=10155 120 Street:geo:-113.5281666,53.5427482
END:VEVENT
BEGIN:VEVENT
DTSTART;TZID=America/Edmonton:20260319T133000
DTEND;TZID=America/Edmonton:20260319T140000
DTSTAMP:20260425T084018
CREATED:20230110T214632Z
LAST-MODIFIED:20231219T172528Z
UID:10001869-1773927000-1773928800@lbdpcn.com
SUMMARY:Drop-In Exercise
DESCRIPTION:Led by an Exercise Specialist\, this class focuses on guiding you through low impact stretches and exercises. Each class will focus on a specific muscle group\, so you optimize your workout and learn exercises associated with different muscle groups. We do not require medical screenings for participation in this class\, so if you have any concerns please contact one of our Exercise Specialists to discuss them. \nVirtual class.
URL:https://lbdpcn.com/events/drop-in-exercise/2026-03-19/
LOCATION:Sherwood Park PCN\, 150 Broadway Crescent #108\, Sherwood Park\, Alberta\, T8H 0V3\, Canada
CATEGORIES:Basic Health Care,Chronic Disease Management,Exercise,Health Self Management,Weight Management
GEO:53.5462517;-113.313407
X-APPLE-STRUCTURED-LOCATION;VALUE=URI;X-ADDRESS=Sherwood Park PCN 150 Broadway Crescent #108 Sherwood Park Alberta T8H 0V3 Canada;X-APPLE-RADIUS=500;X-TITLE=150 Broadway Crescent #108:geo:-113.313407,53.5462517
END:VEVENT
BEGIN:VEVENT
DTSTART;TZID=America/Edmonton:20260323T133000
DTEND;TZID=America/Edmonton:20260323T140000
DTSTAMP:20260425T084018
CREATED:20230110T214632Z
LAST-MODIFIED:20231219T172528Z
UID:10001870-1774272600-1774274400@lbdpcn.com
SUMMARY:Drop-In Exercise
DESCRIPTION:Led by an Exercise Specialist\, this class focuses on guiding you through low impact stretches and exercises. Each class will focus on a specific muscle group\, so you optimize your workout and learn exercises associated with different muscle groups. We do not require medical screenings for participation in this class\, so if you have any concerns please contact one of our Exercise Specialists to discuss them. \nVirtual class.
URL:https://lbdpcn.com/events/drop-in-exercise/2026-03-23/
LOCATION:Sherwood Park PCN\, 150 Broadway Crescent #108\, Sherwood Park\, Alberta\, T8H 0V3\, Canada
CATEGORIES:Basic Health Care,Chronic Disease Management,Exercise,Health Self Management,Weight Management
GEO:53.5462517;-113.313407
X-APPLE-STRUCTURED-LOCATION;VALUE=URI;X-ADDRESS=Sherwood Park PCN 150 Broadway Crescent #108 Sherwood Park Alberta T8H 0V3 Canada;X-APPLE-RADIUS=500;X-TITLE=150 Broadway Crescent #108:geo:-113.313407,53.5462517
END:VEVENT
BEGIN:VEVENT
DTSTART;TZID=America/Edmonton:20260324T133000
DTEND;TZID=America/Edmonton:20260324T143000
DTSTAMP:20260425T084018
CREATED:20230524T175623Z
LAST-MODIFIED:20230524T175623Z
UID:10001524-1774359000-1774362600@lbdpcn.com
SUMMARY:MOVE
DESCRIPTION:MOVE is a free weekly exercise program that gives people the opportunity to be physically active alongside an exercise specialist (kinesiologist). \nLocated at the Allin Clinic\, this class runs every Tuesday from 1:30 – 2:30 pm.
URL:https://lbdpcn.com/events/move/2026-03-24/
LOCATION:Edmonton O-day’min\, 10155 120 Street\, Edmonton\, Alberta\, Canada
CATEGORIES:Basic Health Care,Chronic Disease Management,Exercise,Health Self Management
GEO:53.5427482;-113.5281666
X-APPLE-STRUCTURED-LOCATION;VALUE=URI;X-ADDRESS=Edmonton O-day’min 10155 120 Street Edmonton Alberta Canada;X-APPLE-RADIUS=500;X-TITLE=10155 120 Street:geo:-113.5281666,53.5427482
END:VEVENT
BEGIN:VEVENT
DTSTART;TZID=America/Edmonton:20260326T133000
DTEND;TZID=America/Edmonton:20260326T140000
DTSTAMP:20260425T084018
CREATED:20230110T214632Z
LAST-MODIFIED:20231219T172528Z
UID:10001871-1774531800-1774533600@lbdpcn.com
SUMMARY:Drop-In Exercise
DESCRIPTION:Led by an Exercise Specialist\, this class focuses on guiding you through low impact stretches and exercises. Each class will focus on a specific muscle group\, so you optimize your workout and learn exercises associated with different muscle groups. We do not require medical screenings for participation in this class\, so if you have any concerns please contact one of our Exercise Specialists to discuss them. \nVirtual class.
URL:https://lbdpcn.com/events/drop-in-exercise/2026-03-26/
LOCATION:Sherwood Park PCN\, 150 Broadway Crescent #108\, Sherwood Park\, Alberta\, T8H 0V3\, Canada
CATEGORIES:Basic Health Care,Chronic Disease Management,Exercise,Health Self Management,Weight Management
GEO:53.5462517;-113.313407
X-APPLE-STRUCTURED-LOCATION;VALUE=URI;X-ADDRESS=Sherwood Park PCN 150 Broadway Crescent #108 Sherwood Park Alberta T8H 0V3 Canada;X-APPLE-RADIUS=500;X-TITLE=150 Broadway Crescent #108:geo:-113.313407,53.5462517
END:VEVENT
BEGIN:VEVENT
DTSTART;TZID=America/Edmonton:20260330T133000
DTEND;TZID=America/Edmonton:20260330T140000
DTSTAMP:20260425T084018
CREATED:20230110T214632Z
LAST-MODIFIED:20231219T172528Z
UID:10001872-1774877400-1774879200@lbdpcn.com
SUMMARY:Drop-In Exercise
DESCRIPTION:Led by an Exercise Specialist\, this class focuses on guiding you through low impact stretches and exercises. Each class will focus on a specific muscle group\, so you optimize your workout and learn exercises associated with different muscle groups. We do not require medical screenings for participation in this class\, so if you have any concerns please contact one of our Exercise Specialists to discuss them. \nVirtual class.
URL:https://lbdpcn.com/events/drop-in-exercise/2026-03-30/
LOCATION:Sherwood Park PCN\, 150 Broadway Crescent #108\, Sherwood Park\, Alberta\, T8H 0V3\, Canada
CATEGORIES:Basic Health Care,Chronic Disease Management,Exercise,Health Self Management,Weight Management
GEO:53.5462517;-113.313407
X-APPLE-STRUCTURED-LOCATION;VALUE=URI;X-ADDRESS=Sherwood Park PCN 150 Broadway Crescent #108 Sherwood Park Alberta T8H 0V3 Canada;X-APPLE-RADIUS=500;X-TITLE=150 Broadway Crescent #108:geo:-113.313407,53.5462517
END:VEVENT
BEGIN:VEVENT
DTSTART;TZID=America/Edmonton:20260331T133000
DTEND;TZID=America/Edmonton:20260331T143000
DTSTAMP:20260425T084018
CREATED:20230524T175623Z
LAST-MODIFIED:20230524T175623Z
UID:10001525-1774963800-1774967400@lbdpcn.com
SUMMARY:MOVE
DESCRIPTION:MOVE is a free weekly exercise program that gives people the opportunity to be physically active alongside an exercise specialist (kinesiologist). \nLocated at the Allin Clinic\, this class runs every Tuesday from 1:30 – 2:30 pm.
URL:https://lbdpcn.com/events/move/2026-03-31/
LOCATION:Edmonton O-day’min\, 10155 120 Street\, Edmonton\, Alberta\, Canada
CATEGORIES:Basic Health Care,Chronic Disease Management,Exercise,Health Self Management
GEO:53.5427482;-113.5281666
X-APPLE-STRUCTURED-LOCATION;VALUE=URI;X-ADDRESS=Edmonton O-day’min 10155 120 Street Edmonton Alberta Canada;X-APPLE-RADIUS=500;X-TITLE=10155 120 Street:geo:-113.5281666,53.5427482
END:VEVENT
END:VCALENDAR